BEGIN:VCALENDAR
VERSION:2.0
PRODID:-//Kreativfabrik - ECPv6.15.20//NONSGML v1.0//EN
CALSCALE:GREGORIAN
METHOD:PUBLISH
X-ORIGINAL-URL:https://kreativfabrik-wiesbaden.de
X-WR-CALDESC:Veranstaltungen für Kreativfabrik
REFRESH-INTERVAL;VALUE=DURATION:PT1H
X-Robots-Tag:noindex
X-PUBLISHED-TTL:PT1H
BEGIN:VTIMEZONE
TZID:Europe/Berlin
BEGIN:DAYLIGHT
TZOFFSETFROM:+0100
TZOFFSETTO:+0200
TZNAME:CEST
DTSTART:20210328T010000
END:DAYLIGHT
BEGIN:STANDARD
TZOFFSETFROM:+0200
TZOFFSETTO:+0100
TZNAME:CET
DTSTART:20211031T010000
END:STANDARD
BEGIN:DAYLIGHT
TZOFFSETFROM:+0100
TZOFFSETTO:+0200
TZNAME:CEST
DTSTART:20220327T010000
END:DAYLIGHT
BEGIN:STANDARD
TZOFFSETFROM:+0200
TZOFFSETTO:+0100
TZNAME:CET
DTSTART:20221030T010000
END:STANDARD
BEGIN:DAYLIGHT
TZOFFSETFROM:+0100
TZOFFSETTO:+0200
TZNAME:CEST
DTSTART:20230326T010000
END:DAYLIGHT
BEGIN:STANDARD
TZOFFSETFROM:+0200
TZOFFSETTO:+0100
TZNAME:CET
DTSTART:20231029T010000
END:STANDARD
END:VTIMEZONE
BEGIN:VEVENT
DTSTART;TZID=Europe/Berlin:20220401T200000
DTEND;TZID=Europe/Berlin:20220401T233000
DTSTAMP:20260422T012509
CREATED:20211208T185328Z
LAST-MODIFIED:20220324T111312Z
UID:4720-1648843200-1648855800@kreativfabrik-wiesbaden.de
SUMMARY:Schlakks & Opek & Razzmatazz / Thizzy
DESCRIPTION:So oft verschoben wie fast kein anderes Konzert – danke\, Pandemie – aber jetzt wird es was: SCHLAKKS & OPEK & RAZZMATAZZ kommen in die Krea! \n\n\n\nSeit mehr als zehn Jahren im Deutschrap-Underground und in der alternativen Kulturlandschaft aktiv\, kann im Zusammenhang mit dem Dortmunder Rapper Schlakks keineswegs die Rede von einem Unbekannten sein: Auf zahlreichen (Festival-)Bühnen und Clubs hat der charismatische Live-MC sein Können bewiesen und mit der Zeit seinen ganz eigenen Sound kreiert: Irgendwo zwischen Politrap\, Poetry und Jazz mit Funk-Vibes anzusiedeln\, hat Schlakks mit seinen bisherigen Releases seinen ganz persönlichen Fußabdruck im deutschsprachigen Rap-Game hinterlassen. Seit vielen Jahren dabei an seiner Seite – sowohl auf der Bühne bei Live-Gigs wie auch im Studio -\, sind seine treuen Kompagnons Razzmatazz und OPEK\, die ihn in puncto Sound und Producing unterstützten. \n\n\n\nIm Herbst 2021 meldet sich das wohlbewährte Trio nun mit neuer Musik zurück und präsentiert mit der Platte „Wir werden von euch erzählen“ ein weiteres wichtiges Kapitel in der musikalischen Biografie von Schlakks. Fernab von sexistischen Inhalten\, Mackertum und hedonistischem Materialismus\, spricht Schlakks auf „Wir werden von euch erzählen“ eine Vielzahl politischer und sozialkritischer Themen an\, wie etwa toxische Männlichkeit. Passend dazu die Beats von Razzmatazz und OPEK\, an denen beide diesmal kollaborativ zusammenarbeiteten und dadurch einen eingängigen vermeintlichen Oldschool-Vibe kreierten\, der letztlich auf Funk und Moderne trifft. \n\n\n\nLive geht‘s bei Schlakks\, Opek und Razzmatazz ziemlich zur Sache. Die selbst ernannten „Fraktus des Rap“ empfehlen ein paar Dehnübungen\, bevor es los geht. Denn das Ding wird zusammen gefeiert und nicht alleine auf der Bühne. Die warmen Widerworte von Schlakks\, dazu Opeks Drums und die Cuts von Razzmatazz. Drei Freaks auf der Bühne mit ’nem dicken Pfiff auf Genre-Dogmen\, unbeeindruckt von Hypes\, die kommen und gehen. Und zwischen Ausrasten\, Zelebrieren und leisem Lächeln kann man auch mal zur Träne ansetzen\, die sich in den Schweiß mischt und mit ‘nem High Five wieder aufgefangen wird. \n\n\n\nRap ohne Männlichkeitswahn und ohne Grenzen\, der zwischen den Welten schwimmt und doch ganz genau weiß\, wo er hingehört. Was dabei raus kommt ist wahrscheinlich die persönlichste Musik\, die im Club laufen kann und die tiefgründigste Musik\, die Festivalbühnen abreißt. Kommt zur Show. Sonst gucken wir alle irgendwann nur noch RTL2. \n\n\n\nDen Abend wird unser Karaoke-Gott THIZZY eröffnen\, der unter den Ersten war\, denen wir einen Auftritt 2020 absagen mussten. #wiedergutmachung \n\n\n\n\n\n\n\n\n\n\n\n\n\n\n\n\nAuf einen Blick:\n\n\n\n\n\nEinlass:\n\n\n\n20:00 \n\n\n\nBeginn:\n\n\n\n20:30 \n\n\n\nEintritt:\n\n\n\nVVK 11 € zzgl. Geb. | AK 15 € \n\n\n\nTickets:\n\n\n\nTickets kaufen \n\n\n\nFacebook:\n\n\n\nEvent \n\n\n\nWebseiten:\n\n\n\nSCHLAKKS & OPEK & RAZZMATAZZ \n\n\n\nHomepage \n\n\n\nFacebook \n\n\n\nInstagram \n\n\n\nTHIZZY \n\n\n\nFacebook \n\n\n\nSoundcloud \n\n\n\n\n\n\n\n\n\nCorona-Regularien\n\n\n\nDie Veranstaltung findet als 2G-Plus statt: Einlass nur durch Nachweis der Impfung/Genesung + Vorlage eines tagesaktuellen offiziellen negativen Schnelltests + Ausweis (was als 2G-Plus in Hessen gilt: Link.)keine Maskenpflichtunbestuhlt bei reduzierter Kapazität
URL:https://kreativfabrik-wiesbaden.de/veranstaltung/schlakks-opek-razzmatazz-thizzy/
CATEGORIES:Deutschrap,Hip Hop,Konzert
ATTACH;FMTTYPE=image/jpeg:https://kreativfabrik-wiesbaden.de/wp-content/uploads/2021/12/2022-04-01-Schlakks-Opek-Razzmatazz_web.jpg
END:VEVENT
BEGIN:VEVENT
DTSTART;TZID=Europe/Berlin:20220403T190000
DTEND;TZID=Europe/Berlin:20220403T223000
DTSTAMP:20260422T012509
CREATED:20220119T134821Z
LAST-MODIFIED:20221206T153931Z
UID:4791-1649012400-1649025000@kreativfabrik-wiesbaden.de
SUMMARY:TAMAS
DESCRIPTION:Präsentiert vom Schlachthof Wiesbaden \n\n\n\nDie Berliner Band Tamas ist die jüngsre Inkarnation von Tamas Bednanits\, um seine Botschaft auch außerhalb der Rap-Szene zu verbreiten\, in der der Mann aus Berlin Wedding seit Jahr und Tag zuhause ist. Die Waffen seiner Wahl: Harte Gitarren\, tightes Doublekick Drumming\, schnelle Raps und wütende Hardcore-Shouts. Touren mit Calejon und GWLT haben seine Alben „Kopfsteinpflaster“ und „Hysterie“ in den deutschen Charts platziert. Grimmig wie immer\, hart wie immer\, skrupellos wie immer. Das ist Tamas\, egal\, ob als Tamas oder mit seiner Horrorcore-Kombo ZOMBIEZ. Sein Homie DCVDNS beschreibt die imposante Erscheinung Tamas‘ mit den Worten: „Zwei Meter hoch\, ein Meter breit\, zum Frühstück schon zwei Faxe“. Privat soll der Mann das Herz auf jeden Fall am rechten Fleck tragen und supernett sein. \n\n\n\n\n\n\n\n\n\n\n\n\n\n\n\n\nAuf einen Blick:\n\n\n\n\n\nEinlass:\n\n\n\n19:00 \n\n\n\nBeginn:\n\n\n\n19:30 \n\n\n\nEintritt:\n\n\n\nVVK 12 € (zzgl. Geb. / inkl. Bus & Bahn) | AK 15 € \n\n\n\nTickets:\n\n\n\nTickets kaufen \n\n\n\nFacebook:\n\n\n\nEvent \n\n\n\nWebseiten:\n\n\n\nTAMAS \n\n\n\nInstagram \n\n\n\n\n\n\n\n\n\nCorona-Regularien\n\n\n\n\nDie Veranstaltung findet als 2G-Plus statt: Einlass nur durch Nachweis der Impfung/Genesung + Vorlage eines tagesaktuellen offiziellen negativen Schnelltests + Ausweis (was als 2G-Plus in Hessen gilt: Link.)\n\n\n\nkeine Maskenpflicht\n\n\n\nunbestuhlt bei reduzierter Kapazität
URL:https://kreativfabrik-wiesbaden.de/veranstaltung/tamas/
CATEGORIES:Hip Hop,Konzert,Punk,Rock
ATTACH;FMTTYPE=image/jpeg:https://kreativfabrik-wiesbaden.de/wp-content/uploads/2022/01/2022-04-03-TAMAS_web.jpg
END:VEVENT
BEGIN:VEVENT
DTSTART;TZID=Europe/Berlin:20220413T190000
DTEND;TZID=Europe/Berlin:20220413T220000
DTSTAMP:20260422T012509
CREATED:20220329T092855Z
LAST-MODIFIED:20220410T135739Z
UID:5057-1649876400-1649887200@kreativfabrik-wiesbaden.de
SUMMARY:Boycott Qatar 2022
DESCRIPTION:Infoveranstaltung „BoycottQatar2022“ mit dem Fanprojekt Wehen WiesbadenAm Mittwochabend den 13.04.2022 lädt das Fanprojekt Wehen Wiesbaden in der Kreativfabrik im Zeichen der anstehenden FIFA Fußball WM 2022 in Katar zu einer Infoveranstaltung ein. Das Fanprojekt Wehen Wiesbaden möchte Interessierten einen Einblick in die zahlreichen Facetten der im Winter stattfindenden Fußball-WM in Katar gewähren. Hierfür wird Stefan Schirmer vom Verein FC Ente Bagdad in Mainz\, stellvertretend für die Initiative #BoycottQatar2022\, referieren und sich den Fragen des Publikums im Dialog stellen. Die Initiative zielt auf das Aufzeigen der Schattenseiten der WM in Katar und die Sensibilisierung damit zusammenhängender Themen ab.Beleuchtet werden unter anderem die Menschenrechtslage und Lebensbedingungen der Arbeitsmigrant*innen in Katar\, die Rolle der FIFA\, beziehungsweise der Sponsoren\, sowie das autoritär regierte Gastgeberland und dessen internationaler Einfluss auf den Weltsport. Für alle Interessierten öffnet die Kreativfabrik ab 19:00 Uhr. Start der Veranstaltung ist um 19:30 Uhr. \n\n\n\nDer Eintritt ist kostenlos. \n\n\n\n#boycottqatar2022 \n\n\n\n#fcentebagdad \n\n\n\n#fanprojektwehenwiesbaden \n\n\n\nMoja Wiesbaden \n\n\n\n\n\n\n\n\n\n\nAuf einen Blick:\n\n\n\n\n\nEinlass:\n\n\n\n19:00 \n\n\n\nBeginn:\n\n\n\n19:30 \n\n\n\nEintritt:\n\n\n\nfrei \n\n\n\nTickets:\n\n\n\nBegrenzte Platzanzahl – um Voranmeldung untert.eichel@moja-wiesbaden.de wird gebeten. \n\n\n\nFacebook:\n\n\n\nEvent \n\n\n\nWebseiten:\n\n\n\nFANPROJEKT WEHEN WIESBADEN \n\n\n\nLinktree \n\n\n\n\n\n\n\n\n\nCorona-Regularien\n\n\n\ntba
URL:https://kreativfabrik-wiesbaden.de/veranstaltung/boycott-qatar-2022/
CATEGORIES:Bildung,Diskussion,Kooperation,Lesung,Vortrag
ATTACH;FMTTYPE=image/png:https://kreativfabrik-wiesbaden.de/wp-content/uploads/2022/03/2022-03-29-11_09_58-BoycottQatar-Logo.jpg-717×378-1.png
END:VEVENT
BEGIN:VEVENT
DTSTART;TZID=Europe/Berlin:20220417T190000
DTEND;TZID=Europe/Berlin:20220417T223000
DTSTAMP:20260422T012509
CREATED:20220112T153624Z
LAST-MODIFIED:20220417T092624Z
UID:4710-1650222000-1650234600@kreativfabrik-wiesbaden.de
SUMMARY:Black Square / Molly Punch
DESCRIPTION:Präsentiert von Keep it a Secret Booking: \n\n\n\nBLACK SQUARE aus Essen/Bochum sind eines von diesen Corona-Projekten. Während #staythefuckhome skandiert wurde\, um die Schwächsten in der Gesellschaft zu schützen\, entfernte die Polizei im Ruhrgebiet BPoC und wohnungslose Menschen aus den Parks. Ganz egal\, ob Abstandsregeln eingehalten wurden oder wie groß die Gruppen waren. Einfach\, weil es nun ganz offen ging\, den eigenen Rassismus als Solidarität auszugeben. Fini und Bonny wurden regelmäßig Zeug*innen dieser „Säuberungsaktionen“ und wussten nicht wohin mit sich. \n\n\n\nDes Weiteren war auch das Proben und Gestalten mit mehr als zwei Menschen nicht mehr möglich\, weswegen die sonstigen (Musik-)Projekte der Bandmitglieder aus Infektionsschutzgründen ruhten. Somit auch die Möglichkeit\, sich Ausdruck und Gehör zu verschaffen. Beide drängten außerdem die unguten Fragen: Was wird an Kulturprojekten “nach” Corona noch existieren? Wie können wir noch unsere Wut ausdrücken? Soll mensch nun solange abwarten und einfach gar nichts tun? \n\n\n\nDas Resultat aus dieser Gefühlslage ist eine neue\, hochmotivierte Band\, die in Eigenregie\, nach dem Demo-Tape „Potatoes gonna Potate“\, jetzt ein full-length Album aufgenommen hat und jenes am 17.12.2021 über Plastic Bomb und Keep It A Secret Records auf Vinyl herausbringen wird. Musikalisch nennen die Einen es Neo-Crust\, die Anderen eher politischen Post-Punk mit Hexenstimme. Ist im Endeffekt aber ganz egal\, denn eine kreischende Fini steht im Vordergrund\, untermalt von zwei Gitarren\, einem Bass und einem Schlagzeug.  \n\n\n\nNun also die zweite Releasehow. Und wenn wir alle Glück haben\, ist das Vinyl pünktlich zu Ostern auch endlich aus dem Presswerk eingetroffen.  \n\n\n\nDen Support machen die Kölner*innen MOLLY PUNCH. Grungiger Powerpop mit einem ordentlichen Schuss Punk\, die zuletzt beim Lady*Fest 2018 bei uns zu Gast waren. „Riot-Grrrl-Spirited-90’s inspired sing-along songs about animals\, overrated authors\, aliens & general sadness.“ \n\n\n\n\n\n\n\n\n\n\n\n\n\n\n\n\nAuf einen Blick:\n\n\n\n\n\nEinlass:\n\n\n\n19:00 \n\n\n\nBeginn:\n\n\n\n19:30 \n\n\n\nEintritt:\n\n\n\nVVK 8 € zzgl. Geb. | AK 12 € \n\n\n\nTickets:\n\n\n\nTickets kaufen \n\n\n\nFacebook:\n\n\n\nEvent \n\n\n\nWebseiten:\n\n\n\nBLACK SQUARE \n\n\n\nInstagram \n\n\n\nSpotify \n\n\n\nFacebook \n\n\n\nMOLLY PUNCH \n\n\n\nHomepage \n\n\n\nBandcamp \n\n\n\nFacebook \n\n\n\n\n\n\n\n\n\nCorona-Regularien\n\n\n\nDie Veranstaltung findet weiterhin unter 2G-Plus statt
URL:https://kreativfabrik-wiesbaden.de/veranstaltung/black-square/
CATEGORIES:Hardcore,Konzert,Punk,Screamo
ATTACH;FMTTYPE=image/jpeg:https://kreativfabrik-wiesbaden.de/wp-content/uploads/2022/01/2022-04-17-BS-Releaseshow-FB.jpg
END:VEVENT
BEGIN:VEVENT
DTSTART;TZID=Europe/Berlin:20220420T200000
DTEND;TZID=Europe/Berlin:20220420T233000
DTSTAMP:20260422T012509
CREATED:20210223T163548Z
LAST-MODIFIED:20220409T105708Z
UID:4090-1650484800-1650497400@kreativfabrik-wiesbaden.de
SUMMARY:Acht Eimer Hühnerherzen
DESCRIPTION:ACHTUNG: Das Konzert wurde vom 15.04.2020 auf den 07.04.2021 bzw. 20.04.2022 verschoben. Bereits gekaufte Karten behalten ihre Gültigkeit. \n\n\n\nACHTUNG: Das Konzert findet weiterhin unter Einhaltung der 2G-Plus-Regel statt. \n\n\n\nAcht Eimer Hühnerherzen sind ein halbakustisches Nylon Punk-Trio mit den drei Musikstilen Powerviolence-Folk\, Kakophonie und Bindungsangst. Sie spielen Wandergitarren-Hardcore mit Fuzz und Driver für Alleinerziehende\, Alleinerzogene\, Allergiker und alle Heiter-Depressiven. \n\n\n\nAm 27.03.2020 erschien ihr zweites Album (mit dem Titel „album“) auf dem auch weiterhin die Regeln von Punk\, Folk und Songwritertum eiskalt ignoriert werden. Alles bleibt handgemacht ohne Tricks und Effekte\, aber Spiralgalaxien-entfernt von „Unplugged“-Patina und -Pathos – diesmal noch schneller und Punk-affiner getaktet. Denn die Welt und ihre Probleme drehen sich inzwischen ja auch immer schneller und man muss ja mit der Zeit gehen. Und „wer pennt\, kommt in Zement.“ \n\n\n\nZuvor: Pleil aus Frankfurt/Wiesbaden. \n\n\n\nPräsentiert von: krachfink\, ByteFM\, Ox Fanzine und livegigs.de   \n\n\n\n\n\n\n\n\n\n\n\n\n\n\n\n\nAuf einen Blick:\n\n\n\n\n\nEinlass:\n\n\n\n20:00 \n\n\n\nBeginn:\n\n\n\n20:30 \n\n\n\nEintritt:\n\n\n\nVVK 16\,40 € inkl. Geb. | AK 18 € \n\n\n\nTickets:\n\n\n\nTickets kaufen \n\n\n\nFacebook:\n\n\n\nEvent \n\n\n\nWebseiten:\n\n\n\nAcht Eimer Hühnerherzen \n\n\n\nAcht Eimer Hühnerherzen auf Facebook \n\n\n\nHomepage \n\n\n\nPleil \n\n\n\nPleil auf Facebook
URL:https://kreativfabrik-wiesbaden.de/veranstaltung/acht-eimer-huehnerherzen/
CATEGORIES:Akustik,Avantgarde,Konzert,Punk
ATTACH;FMTTYPE=image/png:https://kreativfabrik-wiesbaden.de/wp-content/uploads/2021/11/2022-04-20-8eh_facebook2.png
END:VEVENT
BEGIN:VEVENT
DTSTART;TZID=Europe/Berlin:20220423T200000
DTEND;TZID=Europe/Berlin:20220423T233000
DTSTAMP:20260422T012509
CREATED:20220222T154248Z
LAST-MODIFIED:20220514T151321Z
UID:4931-1650744000-1650756600@kreativfabrik-wiesbaden.de
SUMMARY:Proper. / Lobsterbomb
DESCRIPTION:Ende 2018 waren sie schon mal bei uns\, damals noch unter dem Namen „Great Wight“. Jetzt kommen PROPER wieder\, mit neuem Namen und neuem Album: \n\n\n\nFollowing 2019’s critically-acclaimed sophomore album\, I Spent the Winter Writing Songs About Getting Better\, Proper. is making their return with The Great American Novel.“The Great American Novel is a concept album about how Black genius\, specifically my own\, goes ignored\, is relentlessly contested\, or just gets completely snuffed out before it can flourish\,” says vocalist Erik Garlington (he/him). “This record is a concept album that’s meant to read like a book; every song is a chapter following the protagonist through their 20s. Imagine a queer\, Black Holden Caufield-type coming up in the 2010s.” \n\n\n\nDer Opener: LOBSTERBOMB aus Berlin haben sich 2020 kurz vor der Pandemie zusammengefunden. Die Situation war alles andere als ideal\, aber sie erlaubte der Band sich vollständig auf die Musik zukonzentrieren. LOBSTERBOMB haben die Zeit der Introspektion genutzt um die Angst undden Frust dieser Zeit in etwas Produktives umzuwandeln. Anfang 2021 haben sie drei poppigeSingles veröffentlicht und im Sommer ihre Debüt-EP “Go! Go! Go!” nachgelegt.LOBSTERBOMB machen ungeschliffenen\, eingängigen Indie Rock\, der Spaß macht und zudem man tanzen soll. \n\n\n\n\n\n\n\nDie Veranstaltung wird gefördert von der Beauftragten der Bundesregierung für Kultur und Medien: https://www.kulturstaatsministerin.de \n\n\n\n\n\n\n\n\n\n\n\n\n\n\n\n\n\n\n\n\nAuf einen Blick:\n\n\n\n\n\nEinlass:\n\n\n\n20:00 \n\n\n\nBeginn:\n\n\n\n20:30 \n\n\n\nEintritt:\n\n\n\nVVK 8 € zzgl. Geb. | AK 12 € \n\n\n\nTickets:\n\n\n\nTickets kaufen \n\n\n\nFacebook:\n\n\n\nEvent \n\n\n\nWebseiten:\n\n\n\nPROPER \n\n\n\nHomepage \n\n\n\nBandcamp \n\n\n\nInstagram \n\n\n\nLOBSTERBOMB \n\n\n\nFacebook \n\n\n\nBandcamp \n\n\n\nInstagram \n\n\n\n\n\n\n\n\n\nCorona-Regularien\n\n\n\nDie Veranstaltung findet weiterhin unter 2G-Plus statt
URL:https://kreativfabrik-wiesbaden.de/veranstaltung/proper/
CATEGORIES:Indie,Konzert,Pop,Punk,Rock
ATTACH;FMTTYPE=image/jpeg:https://kreativfabrik-wiesbaden.de/wp-content/uploads/2022/02/Proper-EU-FB-Banner.jpg
END:VEVENT
BEGIN:VEVENT
DTSTART;TZID=Europe/Berlin:20220427T193000
DTEND;TZID=Europe/Berlin:20220427T223000
DTSTAMP:20260422T012509
CREATED:20220127T152353Z
LAST-MODIFIED:20220514T151545Z
UID:4820-1651087800-1651098600@kreativfabrik-wiesbaden.de
SUMMARY:Church Girls / Cool Living
DESCRIPTION:Foto: Anthony DiCaro\n\n\n\n\nWieder eine dieser verschobenen Shows. Dafür freuen wir uns jetzt umso mehr drauf. CHURCH GIRLS aus Philadelphia spielen herrlich relaxten Indie Punk\, auch wenn es um Themen wie Sucht und Verzweiflung geht. Eigentlich wollten sie bei uns das 2020er Album „The Haunt“ vorstellen\, jetzt bringen sie gleich das neue Album „Still Blooms“ mit. Da hat die Pandemie doch auch ein paar gute Seiten. \n\n\n\nDen Abend eröffnen für euch unsere Proberaum-Homies COOL LIVING: punkiger Emo Rock für Freund*innen von Samiam\, Tiger Jaw\, Club Mate und DIY. \n\n\n\n \n\n\n\n\n\n\n\nDie Veranstaltung wird gefördert von der Beauftragten der Bundesregierung für Kultur und Medien: https://www.kulturstaatsministerin.de \n\n\n\n\n\n\n\n\n\n\n\n\n\n\n\n\n\n\n\n\nAuf einen Blick:\n\n\n\n\n\nEinlass:\n\n\n\n19:30 \n\n\n\nBeginn:\n\n\n\n20:00 \n\n\n\nEintritt:\n\n\n\nVVK 9 € zzgl. Geb. | AK 13 € \n\n\n\nTickets:\n\n\n\nTickets kaufen \n\n\n\nFacebook:\n\n\n\nEvent \n\n\n\nWebseiten:\n\n\n\nCHURCH GIRLS \n\n\n\nHomepage \n\n\n\nBandcamp \n\n\n\nFacebook \n\n\n\nInstagram \n\n\n\nCOOL LIVING \n\n\n\nFacebook \n\n\n\nBandcamp \n\n\n\nInstagram \n\n\n\n\n\n\n\n\n\nCorona-Regularien\n\n\n\nDie Veranstaltung findet weiterhin unter 2G-Plus statt
URL:https://kreativfabrik-wiesbaden.de/veranstaltung/church-girls/
CATEGORIES:Indie,Konzert,Punk,Rock
ATTACH;FMTTYPE=image/jpeg:https://kreativfabrik-wiesbaden.de/wp-content/uploads/2022/01/2022-04-27-ChurchGirls4-AnthonyDiCaro_web.jpg
END:VEVENT
BEGIN:VEVENT
DTSTART;TZID=Europe/Berlin:20220429T190000
DTEND;TZID=Europe/Berlin:20220429T223000
DTSTAMP:20260422T012509
CREATED:20211207T184608Z
LAST-MODIFIED:20221206T153849Z
UID:4701-1651258800-1651271400@kreativfabrik-wiesbaden.de
SUMMARY:Moritz Jahn
DESCRIPTION:ACHTUNG: Aufgrund der aktuellen Umstände fällt das Konzert leider aus. Karten können dort wo sie gekauft wurden\, zurückgegeben werden. \n\n\n\n„Liebe Livemusik-Liebhabis\,  \n\n\n\nleider zwingt uns die aktuelle Corona Lage dazu ein paar Konzerte unserer Apriltour 2022 abzusagen. Auch wenn sich die Pandemie-Situation zunehmend entspannt bleibt es unter den aktuellen Auflagen extrem schwierig Konzerte in Clubs und Venues richtig nice durchzuführen. Umso glücklicher sind wir\, dass eine Reihe an Konzerten und somit die SOLILOQUY Tour trotzdem stattfinden kann!!! Wir freuen uns so krass darauf wieder auf der Bühne zu stehen und unsere Musik mit euch zu teilen! \n\n\n\nFür die Städte\, in denen die Gigs ausfallen müssen\, versuchen wir so schnell wie möglich einen Ersatz zu finden und dann endlich auch zu euch zu kommen. \n\n\n\nPräsentiert vom Schlachthof Wiesbaden:  \n\n\n\nMoritz Jahns Songs handeln von Sehnsucht und Aufbruch\, vom sich Verlieren und von der Suche nach dem guten Leben. Seit 2018 ist der aus der Netflix-Serie Dark bekannte Schauspieler mit einer 5-köpfigen Band live zu sehen. Im Oktober 2020 veröffentlichte er seine 2. EP ›Rascals‹. Auf die Ohren gibt es melodischen Folk\, Indierock und Alternative-Pop. Mandolinen und Drumcomputer\, verzerrte Gesangssamples\, cremige Gitarren\, vertrackte Rhythmen und warme Chöre bilden den zuweilen pompösen Rahmen für intime Geschichten. \n\n\n\nDas DIFFUS-Magazin schrieb zum Release seiner letzten Single: »Ob Dark-Fans oder einfach nur Indie-Liebhaber*innen: Moritz Jahns Musik lässt sich vielen Menschen ans Herz legen« – und hob ihn in die Reihe der ›Besten neuen Künstler.« \n\n\n\n\n\n\n\n\n\n\n\n\n\n\n\n\nAuf einen Blick:\n\n\n\n\n\nEinlass:\n\n\n\n19:00 \n\n\n\nBeginn:\n\n\n\n19:30 \n\n\n\nEintritt:\n\n\n\nVVK 15 € zzgl. Geb. / inkl. Bus & Bahn | AK 19 € \n\n\n\nTickets:\n\n\n\nTickets kaufen \n\n\n\nFacebook:\n\n\n\nEvent \n\n\n\nWebseiten:\n\n\n\nMORITZ JAHN \n\n\n\nHomepage \n\n\n\nSpotify \n\n\n\nFacebook \n\n\n\nInstagram \n\n\n\n\n\n\n\n\n\nCorona-Regularien\n\n\n\n\nDas Konzert findet unter Einhaltung der 2G-Regel unbestuhlt bei reduzierter Kapazität statt\n\n\n\n2G-Regel: Einlass nur mit Impfnachweis oder offiziellem Genesungsnachweis sowie offiziellem Ausweisdokument
URL:https://kreativfabrik-wiesbaden.de/veranstaltung/moritz-jahn/
CATEGORIES:Indie,Konzert,Pop,Rock
ATTACH;FMTTYPE=image/jpeg:https://kreativfabrik-wiesbaden.de/wp-content/uploads/2021/12/2022-04-29_Moritz_Jahn.jpg
END:VEVENT
BEGIN:VEVENT
DTSTART;TZID=Europe/Berlin:20220429T220000
DTEND;TZID=Europe/Berlin:20220430T000100
DTSTAMP:20260422T012509
CREATED:20220422T181221Z
LAST-MODIFIED:20220423T200440Z
UID:5085-1651269600-1651276860@kreativfabrik-wiesbaden.de
SUMMARY:Muvin Soli Party
DESCRIPTION:Foto Credits \n\n\n\nMUVIN in solidarity for Ukraine. \n\n\n\nCome dance\, shake\, swirl and show your yellow\, blue colors. \n\n\n\nLINEUP:Jonathan SpencerHamit DarvishPaul MassowTante Kante \n\n\n\nBring your friends\, bring your family\, bring your pets. One Love!  \n\n\n\n \n\n\n\nT H A N K Y O U A N D H A V E A G O O D D A Y \n\n\n\n\n\n\n\n\n\nAuf einen Blick:\n\n\n\n\n\nBeginn:\n\n\n\n22:00 \n\n\n\nEintritt:\n\n\n\n8 € + Spende \n\n\n\nTickets:\n\n\n\nAn der Abendkasse \n\n\n\nFacebook:\n\n\n\nEvent \n\n\n\nWebseiten:\n\n\n\nMuvin auf Facebook \n\n\n\nPre-Listening:  \n\n\n\nhttps://soundcloud.com/jonathan_spencerhttps://soundcloud.com/hamit_darvish \n\n\n\nCorona-Regularien: \n\n\n\nDie Veranstaltung findet weiterhin unter 2G-Plus statt
URL:https://kreativfabrik-wiesbaden.de/veranstaltung/muvin-soli-party/
CATEGORIES:Nachtleben,Party,Techno
ATTACH;FMTTYPE=image/jpeg:https://kreativfabrik-wiesbaden.de/wp-content/uploads/2022/04/image0-edited.jpeg
END:VEVENT
END:VCALENDAR