BEGIN:VCALENDAR
VERSION:2.0
PRODID:-//Kreativfabrik - ECPv6.15.20//NONSGML v1.0//EN
CALSCALE:GREGORIAN
METHOD:PUBLISH
X-WR-CALNAME:Kreativfabrik
X-ORIGINAL-URL:https://kreativfabrik-wiesbaden.de
X-WR-CALDESC:Veranstaltungen für Kreativfabrik
REFRESH-INTERVAL;VALUE=DURATION:PT1H
X-Robots-Tag:noindex
X-PUBLISHED-TTL:PT1H
BEGIN:VTIMEZONE
TZID:Europe/Berlin
BEGIN:DAYLIGHT
TZOFFSETFROM:+0100
TZOFFSETTO:+0200
TZNAME:CEST
DTSTART:20210328T010000
END:DAYLIGHT
BEGIN:STANDARD
TZOFFSETFROM:+0200
TZOFFSETTO:+0100
TZNAME:CET
DTSTART:20211031T010000
END:STANDARD
BEGIN:DAYLIGHT
TZOFFSETFROM:+0100
TZOFFSETTO:+0200
TZNAME:CEST
DTSTART:20220327T010000
END:DAYLIGHT
BEGIN:STANDARD
TZOFFSETFROM:+0200
TZOFFSETTO:+0100
TZNAME:CET
DTSTART:20221030T010000
END:STANDARD
BEGIN:DAYLIGHT
TZOFFSETFROM:+0100
TZOFFSETTO:+0200
TZNAME:CEST
DTSTART:20230326T010000
END:DAYLIGHT
BEGIN:STANDARD
TZOFFSETFROM:+0200
TZOFFSETTO:+0100
TZNAME:CET
DTSTART:20231029T010000
END:STANDARD
END:VTIMEZONE
BEGIN:VEVENT
DTSTART;TZID=Europe/Berlin:20220304T200000
DTEND;TZID=Europe/Berlin:20220304T233000
DTSTAMP:20260422T120440
CREATED:20211207T185921Z
LAST-MODIFIED:20220216T123903Z
UID:4696-1646424000-1646436600@kreativfabrik-wiesbaden.de
SUMMARY:Wird verschoben: The Other / The Bloodstrings
DESCRIPTION:ACHTUNG: Das Konzert wird Corona-bedingt auf den 10.02.2023 verschoben. Bereits gekaufte Tickets behalten ihre Gültigkeit. \n\n\n\nTHE OTHER gelten als bekannteste Horrorpunk-Band Europas. Seit Jahren machen die fünf Monsterrocker die Bühnen von Los Angeles bis Moskau unsicher oder begeisterten auf Festivals wie Wacken\, With Full Force\, Summer Breeze\, Mera Luna\, WGT\, Amphi\, Ruhrpott Rodeo und vielen weiteren. 2020 legten THE OTHER mit „HAUNTED“ (Drakkar/Soulfood) ihr hochgelobtes achtes Album vor\, was laut Kritikermeinung als ihr bestes Werk gilt und folgerichtig auf Platz 67 der Deutschen Albumcharts einstieg. Im Herbst 2020 folgte das professionell realisierte Hörspiel „The Other und die Erben des Untergangs“ mit Gastsprechern wie Mille Petrozza (Kreator)\, Dr. Mark Benecke (bekannter Forensiker)\, Michael Rhein (In Extremo)\, Wolfang Hohlbein (Bestseller-Autor)\, Anna R. (Rostenstolz)\, Conny Dachs (Schauspieler-Legende)\, Joachim Witt (Musik-Ikone) und Flo Schwarz (geiler Typ).  \n\n\n\nThe Other sah man gemeinsam mit Acts wie Danzig\, Alice Cooper\, Bela B.\, Misfits\, Ignite\, The 69 Eyes\, The Cult\, Eisbrecher\, Jennifer Rostock\, Deathstars\, The Damned\, Christian Death oder Wednesday 13\, aber auch auf der TV-Bühne bei Joko & Klaas genauso wie bei Performances in verschiedenen Sendungen von MTV und ARTE bis SAT1 und RTL. Kein Wunder\, denn THE OTHER liefern immer Horror-Kost mit Herzblut ab\, kürzlich sogar über PANINI\, die einen The Other-Comic auf den Markt brachten. Die Mischung aus düsterem Punk-Rock mit Metal-Schlagseite und Gothic-Atmosphäre findet einfach immer mehr offene Ohren und willige Opfer. \n\n\n\nDer Support: THE BLOODSTRINGS aus Aachen sind seit 2009 auf den Bühnen der Welt unterwegs. Ihre beiden Alben “Coal-black Heart” und “Born Sick” (Wolverine Records) brachten sie auf die Bühnen Europas sowie von Festivals wie dem Wacken Open Air\, Rebellion\, Sjock\, Endless Summer und viele mehr. Clubtourneen durch Deutschland\, England\, Schottland\, Irland\, Belgien\, Niederlande\, Luxemburg\, Polen\, Tschechien\, Slovenien\, Kroatien\, Österreich\, Italien\, Frankreich und Schweden haben die vier fleißigen Musiker ebenso hinter sich. \n\n\n\nNach knapp 10 Jahren Bandgeschichte kann sich die Band auf die Fahne schreiben\, das Genre “Punkabilly” revolutioniert zu haben: Eine Mischung aus Distillers\, The Creepshow\, Clowns und The Living End machen die Vier unvergleichlich und passend für Publikum aus dem Punkrock-\, Metal- oder Billy-Bereich! \n\n\n\n\n\n\n\n\n\n\n\n\n\n\n\n\n\n\n\n\n\n\nAuf einen Blick:\n\n\n\n\n\nEinlass:\n\n\n\n20:00 \n\n\n\nBeginn:\n\n\n\n20:30 \n\n\n\nEintritt:\n\n\n\nVVK 18 € zzgl. Geb. | AK 22 € \n\n\n\nTickets:\n\n\n\nTickets kaufen \n\n\n\nFacebook:\n\n\n\nEvent \n\n\n\nWebseiten:\n\n\n\nTHE OTHER \n\n\n\nFacebook \n\n\n\nHomepage \n\n\n\nYouTube \n\n\n\nTHE BLOODSTRINGS \n\n\n\nFacebook \n\n\n\nBandcamp \n\n\n\nSpotify
URL:https://kreativfabrik-wiesbaden.de/veranstaltung/the-other/
CATEGORIES:Horror,Konzert,Punk
ATTACH;FMTTYPE=image/jpeg:https://kreativfabrik-wiesbaden.de/wp-content/uploads/2021/12/2022-03-04-THE-OTHER-blue-horizontal_web.jpg
END:VEVENT
BEGIN:VEVENT
DTSTART;TZID=Europe/Berlin:20220309T190000
DTEND;TZID=Europe/Berlin:20220309T213000
DTSTAMP:20260422T120440
CREATED:20220113T182106Z
LAST-MODIFIED:20220304T154310Z
UID:4769-1646852400-1646861400@kreativfabrik-wiesbaden.de
SUMMARY:Premiere: Rabbit Hole @ Marleen
DESCRIPTION:ACHTUNG: Die Aufführung findet im Marleen im Liliencarré am Hauptbahnhof Wiesbaden statt. Die Wegbeschreibung findet sich HIER. \n\n\n\n\nDas Theaterstück „RABBIT HOLE“ steht symbolisch für eine Flucht- und Suchbewegung vom Fremden hin zu dem\, was uns trotz Unterschieden verbindet. \n\n\n\nDas Graue sitzt im Verborgenen\, in seiner eigenen Welt und geht nur bis zur Grenze\, denn dahinter sieht die Welt anders: „An der Grenze gibt es einen Streifen in Dämmergraublau“. Doch der Reiz des Anderen führt zu einer Suchbewegung und das Graue überschreitet die Grenze hin zu den Bunten. Hier scheint alles fremd. Zwischen Grenzüberschreitung\, Grenzen ziehen\, Grenzen mauern und Grenzen sprengen\, lernen die Figuren nach und nach\, dass man nur miteinander leuchten kann. \n\n\n\nIm Konzept von Nora Koschel und Christine Stahl geht es um ein Theater (fast) ohne Worte. Gearbeitet wird mit Kostümfragmenten\, wenigen Requisiten\, selbst komponierter Musik und starkem körperlichen Ausdruck. Im Spannungsfeld von Körper\, Licht und Ton entstehen Bilder\, die die Innenwelt der Figuren erlebbar und sichtbar macht. \n\n\n\nSchauspiel und Regie: Christine Stahl und Nora Koschel \n\n\n\nGefördert durch das Kulturamt der Stadt Wiesbaden. \n\n\n\n\n\n\n\n\n\nAuf einen Blick:\n\n\n\n\n\nEinlass:\n\n\n\n19:00 \n\n\n\nBeginn:\n\n\n\n19:30 \n\n\n\nEintritt:\n\n\n\nAK 15 € | ermäßigt 10 € | Soliticket 20 € \n\n\n\nTickets:\n\n\n\nReservierung unter  reservierung@kreativfabrik-wiesbaden.de \n\n\n\nFacebook:\n\n\n\nEvent-Link \n\n\n\nWebseiten:\n\n\n\n— \n\n\n\n\n\n\n\n\n\nCorona-Regularien\n\n\n\n3G-Regel: Einlass nur mit Impfnachweis\, offiziellem Genesungsnachweis sowie offiziellem negativen Corona-TestDie Veranstaltung findet bestuhlt bei reduzierter Kapazität stattDer Mindestabstand zu anderen Personen von mind. 1\,5 m ist einzuhaltenAm Einlass müssen wir die Kontaktdaten aller Gäste aufnehmen; diese werden nach der vorgeschriebenen Aufbewahrungsdauer vernichtetEs ist eine medizinische oder FFP2-Maske zu tragen; beim Verzehr von Getränken/Speisen ist es erlaubt\, die Maske kurzzeitig abzunehmen
URL:https://kreativfabrik-wiesbaden.de/veranstaltung/rabbit-hole-marleen/
CATEGORIES:Kooperation,Kunst,Theater
ATTACH;FMTTYPE=image/png:https://kreativfabrik-wiesbaden.de/wp-content/uploads/2022/01/Foto-KoschelundStahl-RABBIT-HOLE-2.png
END:VEVENT
BEGIN:VEVENT
DTSTART;TZID=Europe/Berlin:20220311T200000
DTEND;TZID=Europe/Berlin:20220311T233000
DTSTAMP:20260422T120440
CREATED:20211215T171822Z
LAST-MODIFIED:20220215T150127Z
UID:4736-1647028800-1647041400@kreativfabrik-wiesbaden.de
SUMMARY:Wird verschoben: Belvedere
DESCRIPTION:ACHTUNG: Das Konzert wird vom 11.03.2022 auf den 23.06.2022 verschoben. Bereits gekaufte Tickets behalten ihre Gültigkeit. \n\n\n\nCanadian skate-punk legends BELVEDERE barely need an introduction. They are heroes of fast\, furious\, melodic punk\, who’ve never lost sight of their roots. 2020 marked the 25th year of the band’s history\, but since all of their tours were moved to 2021; the band felt the need to write and record their 6th full-length instalment\, Hindsight Is The Sixth Sense. The album features a furious mix of old and new. The new direction in song writing is attributed to new members Dan Wollach on guitar and Ryan Mumby on bass. The all-familiar speed\, the riffs\, the insightful lyrics and singalong harmonies are all still there thanks to drummer\, Casey Lewis and lead singer & founder\, Steve Rawles.  \n\n\n\nFormed in 1995 and originally never even meant to play a live show\, the trailblazing band from Calgary\, Alberta quickly grew a reputation on the underground punk scene for their blazing fast speed and melodic vocals.  \n\n\n\nTaking their name from the ‘80s sitcom and influenced by the likes of Bad Religion and NOFX\, they released their debut album Because No One Stopped Us in 1998\, following up with three more full length records over the course of their career and leading to tours with Bad Religion\, Strung Out\, Pulley\, Mad Caddies\, Death by Stereo\, Bigwig and several appearances at Warped Tour and Groezrock Festival. The band broke up in late 2005 however\, after seven years apart\, Belvedere finally came back together for a reunion tour in 2012. \n\n\n\n“Hindsight Is The Sixth Sense” comprises of 13 new tracks and will be released on the 14th May with Thousand Islands Records in North America and Lockjaw Records in Europe and the UK. Keep an eye out for rescheduled tour dates in 2021!  \n\n\n\nAls Support am Start: DARKO\, technischer Skatepunk aus London und WALT HAMBURGER\, Singer/Songwriter aus Wisconsin\, USA. \n\n\n\n\n\n\n\n\n\n\n\n\n\n\n\n\nAuf einen Blick:\n\n\n\n\n\nEinlass:\n\n\n\n20:00 \n\n\n\nBeginn:\n\n\n\n20:30 \n\n\n\nEintritt:\n\n\n\nVVK 12 € zzgl. Geb. | AK 16 € \n\n\n\nTickets:\n\n\n\nTickets kaufen \n\n\n\nFacebook:\n\n\n\nEvent \n\n\n\nWebseiten:\n\n\n\nBELVEDERE \n\n\n\nHomepage \n\n\n\nFacebook \n\n\n\nInstagram \n\n\n\nYouTube \n\n\n\nSpotify \n\n\n\nDARKO \n\n\n\nHomepage \n\n\n\nFacebook \n\n\n\nInstagram \n\n\n\nWALT HAMBURGER \n\n\n\nHomepage \n\n\n\nFacebook \n\n\n\nInstagram \n\n\n\n\n\n\n\n\n\nCorona-Regularien
URL:https://kreativfabrik-wiesbaden.de/veranstaltung/belvedere/
CATEGORIES:Konzert,Punk,Rock,Singer/Songwriter
END:VEVENT
BEGIN:VEVENT
DTSTART;TZID=Europe/Berlin:20220314T200000
DTEND;TZID=Europe/Berlin:20220314T233000
DTSTAMP:20260422T120440
CREATED:20211206T140951Z
LAST-MODIFIED:20220322T121145Z
UID:4688-1647288000-1647300600@kreativfabrik-wiesbaden.de
SUMMARY:Wird verschoben: Hexis / Canine
DESCRIPTION:Das Konzert musste auf den 17.10.2022 verschoben werden. Bereits erworbene Tickets behalten vorerst ihre Gültigkeit. \n\n\n\n“Black Metal/ Hardcore/Sludge band from all around the world.” 2010 gegründet\, hat die Band mittlerweile Shows auf der gesamten Welt gespielt. Nachdem sie 2019 bereits auf einer dreimonatigen Tour durch Europa unterwegs waren\, wollen sie das ab dem 01.01.2022 wiederholen und machen Mitte März auch bei uns in Wiesbaden Halt. \n\n\n\nAls Support spielen für euch CANINE\, Post-Hardcore-Punk aus Offenbach. \n\n\n\n\n\n\n\n\n\n\n\n\n\n\n\n\nAuf einen Blick:\n\n\n\n\n\nEinlass:\n\n\n\n20:00 \n\n\n\nBeginn:\n\n\n\n20:30 \n\n\n\nEintritt:\n\n\n\nVVK 8 € zzgl. Geb. | AK 12 € \n\n\n\nTickets:\n\n\n\nTickets kaufen \n\n\n\nFacebook:\n\n\n\nEvent \n\n\n\nWebseiten:\n\n\n\nHEXIS \n\n\n\nFacebook \n\n\n\nBandcamp \n\n\n\nHomepage \n\n\n\nCANINE \n\n\n\nFacebook \n\n\n\nBandcamp \n\n\n\n\n\n\n\n\n\nCorona-Regularien\n\n\n\n3G-Regel: Einlass nur mit Impfnachweis\, offiziellem Genesungsnachweis sowie offiziellem negativen Corona-TestDie Veranstaltung findet bestuhlt bei reduzierter Kapazität stattDer Mindestabstand zu anderen Personen von mind. 1\,5 m ist einzuhaltenAm Einlass müssen wir die Kontaktdaten aller Gäste aufnehmen; diese werden nach der vorgeschriebenen Aufbewahrungsdauer vernichtetEs ist eine medizinische oder FFP2-Maske zu tragen; beim Verzehr von Getränken/Speisen ist es erlaubt\, die Maske kurzzeitig abzunehmen
URL:https://kreativfabrik-wiesbaden.de/veranstaltung/hexis/
CATEGORIES:Hardcore,Konzert,Metal,Punk,Screamo
ATTACH;FMTTYPE=image/jpeg:https://kreativfabrik-wiesbaden.de/wp-content/uploads/2021/12/2022-03-14-Hexis_FB.jpg
END:VEVENT
BEGIN:VEVENT
DTSTART;TZID=Europe/Berlin:20220316T190000
DTEND;TZID=Europe/Berlin:20220316T220000
DTSTAMP:20260422T120440
CREATED:20210211T085212Z
LAST-MODIFIED:20220304T155047Z
UID:3831-1647457200-1647468000@kreativfabrik-wiesbaden.de
SUMMARY:Bob Wayne
DESCRIPTION:ACHTUNG: Das Konzert wurde vom 17.03.2021 auf den 16.03.2022 verschoben. Bereits gekaufte Tickets behalten ihre Gültigkeit. \n\n\n\nAfter 12 years of touring with his band and recording 8 albums BOB WAYNE is grabbing his guitar and going solo for one year. „I love my band\, I love playing and traveling with other musicians\, but over the years I have always fantasized about making a solo record and touring the world alone\, just me and my guitar\, so now I am going to do it. “ – BW \n\n\n\nArmed with his new record entitled ‚ROGUE‘ Bob will begin his sojourn in Europe and then head to North- and South America. „I found out the world record for the most shows in a tour cycle is 309. So I figured why not try to beat it.“ – BW \n\n\n\nThat’s right\, folks. Bob will also be attempting to break the world record for the most shows in a tour cycle! Join Bob on his journey and be a part of this epic adventure: Revenge Tour 2022! \n\n\n\n\n\n\n\n\n\n\n\n\n\n\n\n\nAuf einen Blick:\n\n\n\n\n\nEinlass:\n\n\n\n19:00 \n\n\n\nBeginn:\n\n\n\n20:00 \n\n\n\nEintritt:\n\n\n\nVVK 14\,20 € inkl. Geb. | AK 15 € \n\n\n\nTickets:\n\n\n\nTickets kaufen \n\n\n\nFacebook:\n\n\n\nEvent \n\n\n\nWebseiten:\n\n\n\nBob Wayne auf Facebook \n\n\n\nHomepage \n\n\n\n \n\n\n\n\n\n\n\n\n\nCorona-Regularien\n\n\n\n3G-Regel: Einlass nur mit Impfnachweis\, offiziellem Genesungsnachweis sowie offiziellem negativen Corona-TestDie Veranstaltung findet bestuhlt bei reduzierter Kapazität stattDer Mindestabstand zu anderen Personen von mind. 1\,5 m ist einzuhaltenAm Einlass müssen wir die Kontaktdaten aller Gäste aufnehmen; diese werden nach der vorgeschriebenen Aufbewahrungsdauer vernichtetEs ist eine medizinische oder FFP2-Maske zu tragen; beim Verzehr von Getränken/Speisen ist es erlaubt\, die Maske kurzzeitig abzunehmen
URL:https://kreativfabrik-wiesbaden.de/veranstaltung/bob-wayne/
CATEGORIES:Akustik,Blues,Country,Konzert
ATTACH;FMTTYPE=image/jpeg:https://kreativfabrik-wiesbaden.de/wp-content/uploads/2021/02/2022-03-16-Bob-Wayne-web.jpg
END:VEVENT
BEGIN:VEVENT
DTSTART;TZID=Europe/Berlin:20220319T150000
DTEND;TZID=Europe/Berlin:20220319T173000
DTSTAMP:20260422T120440
CREATED:20220113T145436Z
LAST-MODIFIED:20220304T155406Z
UID:4655-1647702000-1647711000@kreativfabrik-wiesbaden.de
SUMMARY:Lesung mit Verena Reinhardt
DESCRIPTION:Aller guten Dinge sind drei. 2020 und 2021 musste die Lesung entfallen\, 2022 klappt das aber endlich. \n\n\n\nSchmetterlinge mit Identitätsproblemen\, messerwerfende Haselmäuse\, dystopische Käfer-Städte und gefräßige Siebenschläfer: in der fantastischen Welt Skarnland sind Tiere auch nur Menschen. Ach ja\, Menschen gibt es dort auch\, aber die sind so klein\, dass sie auf Insekten reiten können. Reichlich Gelegenheit also für tollkühne\, magische Abenteuer und skurrile Charaktere. \n\n\n\nKinderbuchautorin und Biologin Verena Reinhardt\, Jahrgang 1983\, stammt selbst aus Wiesbaden und bringt ihre drei Skarnland-Romane mit in die Krea. Was vorgelesen wird\, entscheidet spontan das Publikum. Außerdem sind interessierte Kinder (und Erwachsene) herzlich eingeladen\, Fragen mitzubringen. Sei es über das Schreiben und Veröffentlichen von Romanen oder über die Identitätskrisen von Schmetterlingen. \n\n\n\nBücher: \n\n\n\nDer Hummelreiter Friedrich Löwenmaul (2016\, nominiert für den Deutschen Jugendbuchpreis)Die furchtlose Nelli\, die tollkühne Trude und der geheimnisvolle Nachtflieger (2017)Herr Schnettelbeck und das Geheimnis der verschwundenen Sterne (2019)\n\n\n\n\n\n\n\n\n\nAuf einen Blick:\n\n\n\n\n\nEinlass:\n\n\n\n15:00 \n\n\n\nBeginn:\n\n\n\n15:30 \n\n\n\nEintritt:\n\n\n\nfrei – Spende erwünscht \n\n\n\nTickets:\n\n\n\nBitte reservieren unter reservierung@kreativfabrik-wiesbaden.deHINWEIS: Die Veranstaltung ist bestuhlt; die Gästeanzahl ist auf 22 begrenzt. \n\n\n\nFacebook:\n\n\n\nEvent \n\n\n\nWebsite:\n\n\n\nhttp://verenareinhardt.de \n\n\n\n\n\n\n\n\n\nCorona-Regularien\n\n\n\n3G-Regel: Einlass nur mit Impfnachweis\, offiziellem Genesungsnachweis sowie offiziellem negativen Corona-TestDie Veranstaltung findet bestuhlt bei reduzierter Kapazität stattDer Mindestabstand zu anderen Personen von mind. 1\,5 m ist einzuhaltenAm Einlass müssen wir die Kontaktdaten aller Gäste aufnehmen; diese werden nach der vorgeschriebenen Aufbewahrungsdauer vernichtetEs ist eine medizinische oder FFP2-Maske zu tragen; beim Verzehr von Getränken/Speisen ist es erlaubt\, die Maske kurzzeitig abzunehmen
URL:https://kreativfabrik-wiesbaden.de/veranstaltung/lesung-mit-verena-reinhardt-3/
CATEGORIES:Kinder,Lesung
ATTACH;FMTTYPE=image/jpeg:https://kreativfabrik-wiesbaden.de/wp-content/uploads/2021/01/2020-11-21-Verena-Reinhardt-pressefoto2.jpg
END:VEVENT
BEGIN:VEVENT
DTSTART;TZID=Europe/Berlin:20220326T200000
DTEND;TZID=Europe/Berlin:20220326T233000
DTSTAMP:20260422T120440
CREATED:20220225T172353Z
LAST-MODIFIED:20220514T151313Z
UID:4949-1648324800-1648337400@kreativfabrik-wiesbaden.de
SUMMARY:Russ Rankin
DESCRIPTION:Without a doubt\, Russ Rankin has been one of the most influential front men in punk for the last 30 years. With Good Riddance and numerous other projects\, he has contributed to the agenda for the punk scene worldwide. On his solo records\, Rankin continues to refine his songwriting\, delving into social and political topics\, as well as the melancholy underpinnings of personal love and loss. With the deftness of experience and an unflinching honesty\, his songs seek to understand and embrace the inner turmoil of the human condition – with a fervent desire to champion the best in us. His brusque delivery\, instantly recognizable by now\, serves as a catalyst in advocating for social justice and animal rights\, reaching far beyond the borders of the punk scene. \n\n\n\nIt has been 9 years since his last solo album – now Russ Rankin releases his new record „Come Together\, Fall Apart“ with SBÄM Records\, Cursed Blessings and Say-10 on January 28\, 2022. With this album Russ redefines his art mixing classic acoustic punk and singer/songwriter styles with country\, folklore and rock -n-roll tropes – with meaningful lyrics fans of Good Riddance can only expect. \n\n\n\nIn March 2022 Russ will go on his release tour in Europe with the help of Destiny Tourbookinghitting Spain\, Portugal\, Netherlands\, Germany and Austria! \n\n\n\n\n\n\n\nDie Veranstaltung wird gefördert von der Beauftragten der Bundesregierung für Kultur und Medien: https://www.kulturstaatsministerin.de \n\n\n\n\n\n\n\n \n\n\n\n\n\n\n\n\n\n\n\n\n\n\n\n\nAuf einen Blick:\n\n\n\n\n\nEinlass:\n\n\n\n20:00 \n\n\n\nBeginn:\n\n\n\n20:30 \n\n\n\nEintritt:\n\n\n\nVVK 17 € zzgl. Geb. | AK 20 € \n\n\n\nTickets:\n\n\n\nTickets kaufen \n\n\n\nFacebook:\n\n\n\nEvent \n\n\n\nWebseiten:\n\n\n\nRUSS RANKIN \n\n\n\nFacebook \n\n\n\nInstagram \n\n\n\nSpotify \n\n\n\n \n\n\n\n\n\n\n\n\n\nCorona-Regularien\n\n\n\nDie Veranstaltung findet als 2G-Plus statt: Einlass nur durch Nachweis der Impfung/Genesung + Vorlage eines tagesaktuellen offiziellen negativen Schnelltests + Ausweis (was als 2G-Plus in Hessen gilt: Link.)keine Maskenpflichtunbestuhlt bei reduzierter Kapazität
URL:https://kreativfabrik-wiesbaden.de/veranstaltung/russ-rankin/
CATEGORIES:Konzert,Punk,Singer/Songwriter
ATTACH;FMTTYPE=image/jpeg:https://kreativfabrik-wiesbaden.de/wp-content/uploads/2022/02/2022-03-26-Russ_Rankin_FB_Event.jpg
END:VEVENT
END:VCALENDAR