BEGIN:VCALENDAR
VERSION:2.0
PRODID:-//Kreativfabrik - ECPv6.15.20//NONSGML v1.0//EN
CALSCALE:GREGORIAN
METHOD:PUBLISH
X-WR-CALNAME:Kreativfabrik
X-ORIGINAL-URL:https://kreativfabrik-wiesbaden.de
X-WR-CALDESC:Veranstaltungen für Kreativfabrik
REFRESH-INTERVAL;VALUE=DURATION:PT1H
X-Robots-Tag:noindex
X-PUBLISHED-TTL:PT1H
BEGIN:VTIMEZONE
TZID:Europe/Berlin
BEGIN:DAYLIGHT
TZOFFSETFROM:+0100
TZOFFSETTO:+0200
TZNAME:CEST
DTSTART:20250330T010000
END:DAYLIGHT
BEGIN:STANDARD
TZOFFSETFROM:+0200
TZOFFSETTO:+0100
TZNAME:CET
DTSTART:20251026T010000
END:STANDARD
BEGIN:DAYLIGHT
TZOFFSETFROM:+0100
TZOFFSETTO:+0200
TZNAME:CEST
DTSTART:20260329T010000
END:DAYLIGHT
BEGIN:STANDARD
TZOFFSETFROM:+0200
TZOFFSETTO:+0100
TZNAME:CET
DTSTART:20261025T010000
END:STANDARD
BEGIN:DAYLIGHT
TZOFFSETFROM:+0100
TZOFFSETTO:+0200
TZNAME:CEST
DTSTART:20270328T010000
END:DAYLIGHT
BEGIN:STANDARD
TZOFFSETFROM:+0200
TZOFFSETTO:+0100
TZNAME:CET
DTSTART:20271031T010000
END:STANDARD
END:VTIMEZONE
BEGIN:VEVENT
DTSTART;TZID=Europe/Berlin:20260424T200000
DTEND;TZID=Europe/Berlin:20260424T233000
DTSTAMP:20260424T014020
CREATED:20251212T104049Z
LAST-MODIFIED:20260225T104035Z
UID:11639-1777060800-1777073400@kreativfabrik-wiesbaden.de
SUMMARY:Godsleep / Farbverlust / Ribbit
DESCRIPTION:Präsentiert von: Metal.de\, Handwritten Mag\, Frontstage Magazine\, Festivalstalker\, Tough Magazine & Spider Promotion \n\n\n\n“Live Forever” European Tour 2026 \n\n\n\nDie Heavy-Rock-Achterbahn GODSLEEP aus Athen gilt als eine der vielversprechendsten Bands des Stoner-/Psychedelic-Rock-Sounds und kommt im Frühjahr 2026 zurück nach Europa – heavier\, atmosphärischer und elektrisierender als je zuvor. Nach einem intensiven Jahr voller Songwriting\, Studioarbeit und kreativer Erneuerung präsentiert die Band ein komplett überarbeitetes Set\, das ihre Vision auf ein neues Level hebt. Fans dürfen sich auf monumentale\, dunkle Riffs\, beeindruckend kraftvolle Vocals und energiegeladene Live-Momente freuen\, die jeder Show eine Gänsehaut-Garantie verleihen. Godsleep sind bereit\, die Bühnen Europas erneut in Schwingung zu versetzen – roh\, episch und unaufhaltsam. \n\n\n\n„Gurte fest und Schotten dicht.“ Mit diesen Worten eröffnen die vier Musiker von FARBVERLUST den Chorus ihres Debütsongs „Trojanischer Wal“ und machen damit klar\, dass ihre Musik keine ruhige Angelegenheit ist. Musikalisch beheimatet in den Genres Pop-Punk\, Post-Grunge\, Alternative Rock und klassischem Rock’n’Roll schreiben Farbverlust Texte über innere Konflikte\, gesellschaftliche Verhältnisse und skurrile Momente. Tiefgründige Fragen werden mit augenzwinkerndem Humor verbunden und lassen kraftvolle Bilder sprechen. Aber auch mystische\, diabolische oder versöhnende Klänge finden ihren Platz. Am 24. April 2026 erscheint ihr Debütalbum „Trojanischer Wal“\, welches zwölf Songs umfasst\, die sich aufeinander beziehen und eine dynamische Geschichte erzählen. \n\n\n\nStürmisch rau\, kraftvoll melodisch und mit klaren Aussagen bezüglich der eigenen sozialen Selbstgefälligkeit\, so schlägt RIBBIT seit 2009 mit ihrem punkigen\, deutschsprachigen Alternative-Rock eine Schneise der Besinnung durch die hiesige Konsumlandschaft. Mit ihrem dritten Album ‚Was Bleibt‽‘ führen RIBBIT dies DIY\, laut\, kantig und mit viel Gefühl weiter. Die zwei Damen und zwei Herren aus Mainz haben überaus Bock\, euch ihr neues Selbstgehacktes live und in Farbe\, um die Ohren hauen zu dürfen. Komm auch du hör‘ zu! \n\n\n\n\n\n\n\n\n\n\n\n\n\n\n\nAuf einen Blick:\n\n\n\n\n\nEinlass:\n\n\n\n20:00 \n\n\n\nBeginn:\n\n\n\n20:30 \n\n\n\nEintritt:\n\n\n\nVVK 17\,60 € inkl. Geb. | AK 20 € \n\n\n\nTickets:\n\n\n\nTicket kaufen \n\n\n\nFacebook:\n\n\n\nEvent \n\n\n\nWebseiten:\n\n\n\nGODSLEEP \n\n\n\nInstagram \n\n\n\nFacebook \n\n\n\nBandcamp \n\n\n\nFARBVERLUST \n\n\n\nWebseite \n\n\n\nBandcamp \n\n\n\nInstagram \n\n\n\nRIBBIT \n\n\n\nWebseite \n\n\n\nBandcamp \n\n\n\nInstagram
URL:https://kreativfabrik-wiesbaden.de/veranstaltung/godsleep-konzert/
CATEGORIES:Alternative,Konzert,Rock,Stoner Rock
ATTACH;FMTTYPE=image/jpeg:https://kreativfabrik-wiesbaden.de/wp-content/uploads/2025/12/2026-04-24-GODSLEEP_EVENT_Header-1.jpg
END:VEVENT
END:VCALENDAR