BEGIN:VCALENDAR
VERSION:2.0
PRODID:-//Kreativfabrik - ECPv6.15.20//NONSGML v1.0//EN
CALSCALE:GREGORIAN
METHOD:PUBLISH
X-ORIGINAL-URL:https://kreativfabrik-wiesbaden.de
X-WR-CALDESC:Veranstaltungen für Kreativfabrik
REFRESH-INTERVAL;VALUE=DURATION:PT1H
X-Robots-Tag:noindex
X-PUBLISHED-TTL:PT1H
BEGIN:VTIMEZONE
TZID:Europe/Berlin
BEGIN:DAYLIGHT
TZOFFSETFROM:+0100
TZOFFSETTO:+0200
TZNAME:CEST
DTSTART:20240331T010000
END:DAYLIGHT
BEGIN:STANDARD
TZOFFSETFROM:+0200
TZOFFSETTO:+0100
TZNAME:CET
DTSTART:20241027T010000
END:STANDARD
BEGIN:DAYLIGHT
TZOFFSETFROM:+0100
TZOFFSETTO:+0200
TZNAME:CEST
DTSTART:20250330T010000
END:DAYLIGHT
BEGIN:STANDARD
TZOFFSETFROM:+0200
TZOFFSETTO:+0100
TZNAME:CET
DTSTART:20251026T010000
END:STANDARD
BEGIN:DAYLIGHT
TZOFFSETFROM:+0100
TZOFFSETTO:+0200
TZNAME:CEST
DTSTART:20260329T010000
END:DAYLIGHT
BEGIN:STANDARD
TZOFFSETFROM:+0200
TZOFFSETTO:+0100
TZNAME:CET
DTSTART:20261025T010000
END:STANDARD
END:VTIMEZONE
BEGIN:VEVENT
DTSTART;TZID=Europe/Berlin:20250402T193000
DTEND;TZID=Europe/Berlin:20250402T223000
DTSTAMP:20260422T115817
CREATED:20250118T151855Z
LAST-MODIFIED:20250228T152625Z
UID:9550-1743622200-1743633000@kreativfabrik-wiesbaden.de
SUMMARY:Skassapunka / Bistro Tornado
DESCRIPTION:Skassapunka gründete sich Ende 2008 in Lainate in der Nähe von Mailand. Die Band wurde schnell für ihre starken antifaschistischen und antirassistischen Aussagen bekannt. 2013 veröffentlichte sie ihr erstes Album „Di Vento in Vento“. 2014 unterschrieben sie bei dem Independent-Label Kob Records. 2015 entstand das zweite Album „Il Gioco del Silenzio“ unter Mitwirkung von Enrico von Los Fastidios und Dema von Talco\, gefolgt von einer ersten EuropaTour. 2016 folgten die Single „We Want to Dance to Ska“ und eine weitere Tour. 2017 wurden die Single „Bella Ciao“ und das dritte Album „Rudes Against“ veröffentlicht\, und bei einer erneute Europa-Tour spielte Skassapunka zusammen mit Bands wie Bad Manners\, The Prosecution und The Flatliners. 2018 feierte die Band ihr zehnjähriges Jubiläum mit der neuen EP „Adelante“ und der dazugehörigen „Adelante-Tour“. Im selben Jahr spielte sie mit einigen der bedeutendsten Größen der italienischen wie internationalen Ska- und Punk-Szene\, darunter The Locos\, The Real McKenzies\, The Bombpops\, Los Fastidios und The Sewer Rats. Im Mai 2019 begann die nächste Tour\, benannt nach der Single „Paradox“. Im November 2020 wurde das neue Album „Revolutionary Roots“ von dem Label Maldito Records veröffentlicht\, gefolgt im Juli 2021 von der Single „United We Stand“ und im März 2022 von einer weiteren Single\, dem Ska-Punk-Cover des bekannten irischen Liedes „Foggy Dew“. Bei letzterem Release war als Gast die italienische Combat-Folk-Band Modena City Ramblers am Start. Im Dezember des selben Jahres veröffentlichte Skassapunka „Dopolavoro“\, einen Two-Tone-Ska-Song von dem neuesten Album 2024 feiert die Band ihr fünfzehnjähriges Bestehen mit der Skassapunka XV-Tour. 2025 veröffentlicht sie zusammen mit anderen namhaften italienischen Bands eine EP mit dem Titel „Aldo chiamo ancora“\, um den 80. Jahrestag der Befreiung vom Faschismus am 25. April 1945 zu feiern. Zusammen mit der EP entsteht zudem einen Kurzfilm über die Bedeutung des heutigen antifaschistischen Widerstands\, der Interviews mit allen beteiligten Bands beinhaltet. Die neue Tour beginnt im März 2025. \n\n\n\nUnd endlich wieder zu Gast: Bistro Tornado! Vier Köpfe\, die sich nicht nur dem Strom widersetzten\, sondern ihn mit einem Blitzschlag in eine völlig neue Richtung zogen. Tornadorock – ein Genre\, das die Welt nicht kommen sah.  \n\n\n\nUnd auch wenn die Welt stillsteht\, dreht sich der Bistro Tornado weiter – von Club zu Club\, von Stadt zu Stadt\, mit einer Message: Wenn du es nicht hören kannst\, dann musst du es fühlen. \n\n\n\n\n\n\n\n\n\n\n\n\n\n\n\nAuf einen Blick:\n\n\n\n\n\nEinlass:\n\n\n\n19:30 \n\n\n\nBeginn:\n\n\n\n20:00 \n\n\n\nEintritt:\n\n\n\nVVK 13 € zzgl. Geb. | AK 17 € \n\n\n\nTickets:\n\n\n\nTickets kaufen \n\n\n\nFacebook:\n\n\n\nEvent \n\n\n\nWebseiten:\n\n\n\nSKASSAPUNKA \n\n\n\nHomepage \n\n\n\nFacebook \n\n\n\nInstagram \n\n\n\nYouTube \n\n\n\nSpotify \n\n\n\nBISTRO TORNADO \n\n\n\nInstagram
URL:https://kreativfabrik-wiesbaden.de/veranstaltung/skassapunka-2/
CATEGORIES:Konzert,Punk,Rock,Ska
ATTACH;FMTTYPE=image/jpeg:https://kreativfabrik-wiesbaden.de/wp-content/uploads/2025/01/2025-04-02-Skassapunka-FB.jpg
END:VEVENT
END:VCALENDAR