BEGIN:VCALENDAR
VERSION:2.0
PRODID:-//Kreativfabrik - ECPv6.15.20//NONSGML v1.0//EN
CALSCALE:GREGORIAN
METHOD:PUBLISH
X-WR-CALNAME:Kreativfabrik
X-ORIGINAL-URL:https://kreativfabrik-wiesbaden.de
X-WR-CALDESC:Veranstaltungen für Kreativfabrik
REFRESH-INTERVAL;VALUE=DURATION:PT1H
X-Robots-Tag:noindex
X-PUBLISHED-TTL:PT1H
BEGIN:VTIMEZONE
TZID:Europe/Berlin
BEGIN:DAYLIGHT
TZOFFSETFROM:+0100
TZOFFSETTO:+0200
TZNAME:CEST
DTSTART:20240331T010000
END:DAYLIGHT
BEGIN:STANDARD
TZOFFSETFROM:+0200
TZOFFSETTO:+0100
TZNAME:CET
DTSTART:20241027T010000
END:STANDARD
BEGIN:DAYLIGHT
TZOFFSETFROM:+0100
TZOFFSETTO:+0200
TZNAME:CEST
DTSTART:20250330T010000
END:DAYLIGHT
BEGIN:STANDARD
TZOFFSETFROM:+0200
TZOFFSETTO:+0100
TZNAME:CET
DTSTART:20251026T010000
END:STANDARD
BEGIN:DAYLIGHT
TZOFFSETFROM:+0100
TZOFFSETTO:+0200
TZNAME:CEST
DTSTART:20260329T010000
END:DAYLIGHT
BEGIN:STANDARD
TZOFFSETFROM:+0200
TZOFFSETTO:+0100
TZNAME:CET
DTSTART:20261025T010000
END:STANDARD
END:VTIMEZONE
BEGIN:VEVENT
DTSTART;TZID=Europe/Berlin:20250309T150000
DTEND;TZID=Europe/Berlin:20250309T170000
DTSTAMP:20260422T131013
CREATED:20250130T134434Z
LAST-MODIFIED:20250327T181913Z
UID:9599-1741532400-1741539600@kreativfabrik-wiesbaden.de
SUMMARY:Kinderdisco
DESCRIPTION:Neben Deine Freunde\, Dikka und Randale werden auch Die Ärzte\, Mark Forster\, Nina Chuba und andere aktueller (kinder- und elternfreundlicher) Songs aus den Boxen erklingen. Für tanzfreudige Eltern ist bestimmt auch was dabei. Also schnürt die Tanzschuhe und ab geht die Sause.  \n\n\n\nInfo: Es gibt keine Animateur:innen. Empfohlen ab 5 Jahren.  \n\n\n\nZeichnung: Nele Sesterhenn  \n\n\n\n\n\n\n\n\n\n\n\n\nAuf einen Blick:\n\n\n\n\n\nBeginn:\n\n\n\n15:00 Uhr \n\n\n\nEintritt:\n\n\n\nFrei \n\n\n\nFacebook: \n\n\n\nEvent
URL:https://kreativfabrik-wiesbaden.de/veranstaltung/kinderdisco-9/
CATEGORIES:Kinder,Party
ATTACH;FMTTYPE=image/jpeg:https://kreativfabrik-wiesbaden.de/wp-content/uploads/2025/01/2025-03-09_Kinderdisco_Header.jpg
END:VEVENT
END:VCALENDAR