BEGIN:VCALENDAR
VERSION:2.0
PRODID:-//Kreativfabrik - ECPv6.15.20//NONSGML v1.0//EN
CALSCALE:GREGORIAN
METHOD:PUBLISH
X-WR-CALNAME:Kreativfabrik
X-ORIGINAL-URL:https://kreativfabrik-wiesbaden.de
X-WR-CALDESC:Veranstaltungen für Kreativfabrik
REFRESH-INTERVAL;VALUE=DURATION:PT1H
X-Robots-Tag:noindex
X-PUBLISHED-TTL:PT1H
BEGIN:VTIMEZONE
TZID:Europe/Berlin
BEGIN:DAYLIGHT
TZOFFSETFROM:+0100
TZOFFSETTO:+0200
TZNAME:CEST
DTSTART:20240331T010000
END:DAYLIGHT
BEGIN:STANDARD
TZOFFSETFROM:+0200
TZOFFSETTO:+0100
TZNAME:CET
DTSTART:20241027T010000
END:STANDARD
BEGIN:DAYLIGHT
TZOFFSETFROM:+0100
TZOFFSETTO:+0200
TZNAME:CEST
DTSTART:20250330T010000
END:DAYLIGHT
BEGIN:STANDARD
TZOFFSETFROM:+0200
TZOFFSETTO:+0100
TZNAME:CET
DTSTART:20251026T010000
END:STANDARD
BEGIN:DAYLIGHT
TZOFFSETFROM:+0100
TZOFFSETTO:+0200
TZNAME:CEST
DTSTART:20260329T010000
END:DAYLIGHT
BEGIN:STANDARD
TZOFFSETFROM:+0200
TZOFFSETTO:+0100
TZNAME:CET
DTSTART:20261025T010000
END:STANDARD
END:VTIMEZONE
BEGIN:VEVENT
DTSTART;TZID=Europe/Berlin:20250308T190000
DTEND;TZID=Europe/Berlin:20250308T230000
DTSTAMP:20260422T125549
CREATED:20241213T092915Z
LAST-MODIFIED:20250130T161056Z
UID:9423-1741460400-1741474800@kreativfabrik-wiesbaden.de
SUMMARY:Je t'aime / Wohnbau
DESCRIPTION:THE USELESS BOY TOUR 2025: JE T’AIME: for these few letters\, some live\, some go mad\, but above all\, many die.Live until you go mad\, live until you die – that’s the credo of the cold-wave trio whose spirited spleen sprang from the muggy basements of Parisian nightlife in 2018. While the classic post-punk and new wave influences are obviously there\, the driving rain that falls on these three anti-heroes is tinged with the flashing colors of neon lights and their artificial heat. JE T’AIME stirs up your guts as much as your behinds\, and blows the codes with a jubilant\, touching snarl.After a self-titled debut album released in 2019 on Manic Depression and Icy Cold Records\, the band signed the diptych PASSIVE/AGGRESSIVE in 2022\, choosing Valentine’s Day and All Souls‘ Day to release both parts. In the few years of its existence\, JE T’AIME has rocked audiences at Belgium’s W-Fest\, Poland’s Castle Party Festival\, England’s Infest Festival\, Portugal’s Extramuralhas and Germany’s Wave Gotik Treffen… If Europe has to learn a few French words\, it might as well be “JE T’AIME”. \n\n\n\nDer Support: Wohnbau aus Mainz. Irgendwo zwischen Post-Punk\, Krautrock und New Wave. \n\n\n\n\n\n\n\n\n\n\n\n\n\n\n\n\n\n\n\n\n\nAuf einen Blick:\n\n\n\n\n\nEinlass:\n\n\n\n19:00 Uhr \n\n\n\nBeginn:\n\n\n\n19:30 Uhr \n\n\n\nEintritt:\n\n\n\nVVK 15 € zzgl. Geb. / AK 20 € \n\n\n\nTickets:\n\n\n\nTickets kaufen \n\n\n\nFacebook:\n\n\n\nEvent \n\n\n\nWebseiten:\n\n\n\nJE T’AIME \n\n\n\nWebsite \n\n\n\nFacebook \n\n\n\nInstagram \n\n\n\nBancamp \n\n\n\nWOHNBAU \n\n\n\nInstagram \n\n\n\nBandcamp
URL:https://kreativfabrik-wiesbaden.de/veranstaltung/je-taime/
CATEGORIES:Konzert,Punk,Wave
ATTACH;FMTTYPE=image/png:https://kreativfabrik-wiesbaden.de/wp-content/uploads/2024/12/2025-03-08-KREATIVFABRIK-WIESBADEN_web.png
END:VEVENT
END:VCALENDAR