BEGIN:VCALENDAR
VERSION:2.0
PRODID:-//Kreativfabrik - ECPv6.15.20//NONSGML v1.0//EN
CALSCALE:GREGORIAN
METHOD:PUBLISH
X-WR-CALNAME:Kreativfabrik
X-ORIGINAL-URL:https://kreativfabrik-wiesbaden.de
X-WR-CALDESC:Veranstaltungen für Kreativfabrik
REFRESH-INTERVAL;VALUE=DURATION:PT1H
X-Robots-Tag:noindex
X-PUBLISHED-TTL:PT1H
BEGIN:VTIMEZONE
TZID:Europe/Berlin
BEGIN:DAYLIGHT
TZOFFSETFROM:+0100
TZOFFSETTO:+0200
TZNAME:CEST
DTSTART:20230326T010000
END:DAYLIGHT
BEGIN:STANDARD
TZOFFSETFROM:+0200
TZOFFSETTO:+0100
TZNAME:CET
DTSTART:20231029T010000
END:STANDARD
BEGIN:DAYLIGHT
TZOFFSETFROM:+0100
TZOFFSETTO:+0200
TZNAME:CEST
DTSTART:20240331T010000
END:DAYLIGHT
BEGIN:STANDARD
TZOFFSETFROM:+0200
TZOFFSETTO:+0100
TZNAME:CET
DTSTART:20241027T010000
END:STANDARD
BEGIN:DAYLIGHT
TZOFFSETFROM:+0100
TZOFFSETTO:+0200
TZNAME:CEST
DTSTART:20250330T010000
END:DAYLIGHT
BEGIN:STANDARD
TZOFFSETFROM:+0200
TZOFFSETTO:+0100
TZNAME:CET
DTSTART:20251026T010000
END:STANDARD
END:VTIMEZONE
BEGIN:VEVENT
DTSTART;TZID=Europe/Berlin:20241025T200000
DTEND;TZID=Europe/Berlin:20241025T230000
DTSTAMP:20260423T105406
CREATED:20240912T161123Z
LAST-MODIFIED:20241001T090518Z
UID:8929-1729886400-1729897200@kreativfabrik-wiesbaden.de
SUMMARY:Surut / Sands of Polaris / Schlafmohn
DESCRIPTION:Surut is a blackened hardcore band from Tampere\, founded in 2017. The band’s music combines the explosiveness and psychoticism of hardcore\, screamo and black metal with the soaring melodies of post-rock and blackgaze. Surut have managed to create a distinctive and rich characteristic sound\, breaking traditional genre boundaries with an intense and atmospheric soundscape. \n\n\n\nSands of Polaris ist eine 3-köpfige Post-Rock Band aus Hanau\, die sich im Umfeld um die legendäre Metzgerstraße gefunden hat. Im Oktober spielt das Trio einige Shows mit der finnischen Band SURUT und macht dazu auch in der Krea halt. \n\n\n\nSchlafmohn from Mainz/Germany are exploring the wide field of improvised psychedelic rock music\, building up ecstatic soundscapes\, sometimes sweet like honey\, sometimes drenched in heavy black rain.  \n\n\n\n\n\n\n\n\n\n\n\n\n\n\n\nAuf einen Blick:\n\n\n\n\n\nEinlass:\n\n\n\n20:00 Uhr \n\n\n\nBeginn:\n\n\n\n20:30 Uhr \n\n\n\nEintritt:\n\n\n\nAK 10 + X € \n\n\n\nTickets:\n\n\n\nAn der Abendkasse \n\n\n\nFacebook:\n\n\n\nEvent \n\n\n\nWebseiten:\n\n\n\nSURUT \n\n\n\nLinktree \n\n\n\n\n\n\n\n\n\nSANDS OF POLARIS \n\n\n\nBandcamp \n\n\n\nSCHLAFMOHN \n\n\n\nInstagram \n\n\n\nYoutube
URL:https://kreativfabrik-wiesbaden.de/veranstaltung/surut-sands-of-polaris/
CATEGORIES:Konzert,Posthardcore
ATTACH;FMTTYPE=image/jpeg:https://kreativfabrik-wiesbaden.de/wp-content/uploads/2024/09/2024-10-25-Sands-of-Polaris-Surut-Schlafmohn_Header.jpg
END:VEVENT
END:VCALENDAR