BEGIN:VCALENDAR
VERSION:2.0
PRODID:-//Kreativfabrik - ECPv6.15.20//NONSGML v1.0//EN
CALSCALE:GREGORIAN
METHOD:PUBLISH
X-WR-CALNAME:Kreativfabrik
X-ORIGINAL-URL:https://kreativfabrik-wiesbaden.de
X-WR-CALDESC:Veranstaltungen für Kreativfabrik
REFRESH-INTERVAL;VALUE=DURATION:PT1H
X-Robots-Tag:noindex
X-PUBLISHED-TTL:PT1H
BEGIN:VTIMEZONE
TZID:Europe/Berlin
BEGIN:DAYLIGHT
TZOFFSETFROM:+0100
TZOFFSETTO:+0200
TZNAME:CEST
DTSTART:20220327T010000
END:DAYLIGHT
BEGIN:STANDARD
TZOFFSETFROM:+0200
TZOFFSETTO:+0100
TZNAME:CET
DTSTART:20221030T010000
END:STANDARD
BEGIN:DAYLIGHT
TZOFFSETFROM:+0100
TZOFFSETTO:+0200
TZNAME:CEST
DTSTART:20230326T010000
END:DAYLIGHT
BEGIN:STANDARD
TZOFFSETFROM:+0200
TZOFFSETTO:+0100
TZNAME:CET
DTSTART:20231029T010000
END:STANDARD
BEGIN:DAYLIGHT
TZOFFSETFROM:+0100
TZOFFSETTO:+0200
TZNAME:CEST
DTSTART:20240331T010000
END:DAYLIGHT
BEGIN:STANDARD
TZOFFSETFROM:+0200
TZOFFSETTO:+0100
TZNAME:CET
DTSTART:20241027T010000
END:STANDARD
END:VTIMEZONE
BEGIN:VEVENT
DTSTART;TZID=Europe/Berlin:20230317T200000
DTEND;TZID=Europe/Berlin:20230317T230000
DTSTAMP:20260423T105741
CREATED:20220927T141625Z
LAST-MODIFIED:20230310T121432Z
UID:5832-1679083200-1679094000@kreativfabrik-wiesbaden.de
SUMMARY:Neuer Termin: Rosalie Cunningham / Narcissus
DESCRIPTION:ACHTUNG: Das Konzert wurde vom 15.02.2022 auf den 17.03.2023 verschoben. \n\n\n\n„Rosalie Cunningham ist ein Rockstar… sie strahlt ein müheloses Charisma und ruhiges Selbstvertrauen aus. Die Musik\, die sie macht\, ist akribisch\, aber liebevoll gestaltet\, um den Verstand zu sprengen.“ Dom Lawson (Metal Hammer) sagt weiterhin\, „Cunninghams Vision ist eine goldene Eintrittskarte durch die Schluchten der Fantasie\, ein Guckloch durch die Türen der Wahrnehmung\, ein Fest der Kapitulation …“ \n\n\n\nSeit ihre berühmte Band PURSON ihren letzten Auftritt im Dezember 2016 spielte\, hat Sängerin\, Songwriterin und Multiinstrumentalistin Rosalie Cunningham ihre Karriere leise neu erfunden und geht aus ihrem selbst auferlegten „musikalischen Winterschlaf“ als visionäre Solokünstlerin hervor\, die sie immer war. Rosalies gleichnamiges Debütalbum – das am 26. Juli 2019 erschien – ist das Ergebnis langer Reflektion und enthält ihr bisher stärkstes und gewagtestes Songwriting\, angefangen mit einer dreiminütigen Blackbird-ähnlichen Verbeugung vor ihrem kreativen Helden Sir Paul McCartney bis hin zu einer epischen Prog-Rock-Saga\, die den Hörer auf die Mutter aller Klangreisen entführen wird. \n\n\n\nDer Support: Narcissus ist ein deutscher nicht-binärer Indie-Pop Artist aus Mainz. In seinen Songs arbeitet er die eigene\, queere Lebenserfahrung auf und holt das Publikum dort ab\, wo es am Wenigsten erwartet wird. Bisherige Releases vom gleichen Künstler sind noch unter dem Namen „Melanie Andrews“ auf Spotify zu finden\, Mitte September erscheint dann endlich „Mona Lisa“ als komplett neuen Single für „Narcissus“. \n\n\n\n\n\n\n\n\n\n\n\n\n\n\n\n\n\n\n\n\nAuf einen Blick:\n\n\n\n\n\nEinlass:\n\n\n\n20:00 \n\n\n\nBeginn:\n\n\n\n20:30 \n\n\n\nEintritt:\n\n\n\nVVK 12 € zzgl. Geb. | AK 16 € + freier Eintritt für die anschließende Party \n\n\n\nTickets:\n\n\n\nTickets kaufen \n\n\n\nFacebook:\n\n\n\nEvent \n\n\n\nWebseiten:\n\n\n\nROSALIE CUNNINGHAM \n\n\n\nHomepage \n\n\n\nFacebook \n\n\n\nNARCISSUS \n\n\n\nSpotify
URL:https://kreativfabrik-wiesbaden.de/veranstaltung/neuer-termin-rosalie-cunningham/
CATEGORIES:Alternative,Indie,Konzert
ATTACH;FMTTYPE=image/jpeg:https://kreativfabrik-wiesbaden.de/wp-content/uploads/2022/12/2023-03-17_Rosalie-Cunningham_Header.jpg
END:VEVENT
BEGIN:VEVENT
DTSTART;TZID=Europe/Berlin:20230317T220000
DTEND;TZID=Europe/Berlin:20230318T230000
DTSTAMP:20260423T105741
CREATED:20230131T143310Z
LAST-MODIFIED:20230131T143556Z
UID:6295-1679090400-1679180400@kreativfabrik-wiesbaden.de
SUMMARY:Der Gebrochene Freitag
DESCRIPTION:Die bisherigen „Gebrochenen Freitage“ haben uns gezeigt: Deepe Bässe und Broken Beats sind nach wie vor fest im Herzen der lokalen Feier-Community verankert. Höchste Zeit\, dass sie erneut auf ihre Kosten kommt! Die Stamm-Crew von „Der Gebrochene Freitag“ lädt zur nächsten musikalischen Reise ein: Rechnet mit einem bunten Mix der verschiedenen Stile\, von zart bis hart\, von verspielt bis straight forward\, von düster bis funky. Hauptsache tanzbar\, Hauptsache Drum n Bass in your face! Für die diesmalige Edition erwartet Euch noch das eine oder andere „Bonbon“. \n\n\n\n An den Decks stehen in dieser Nacht: \n\n\n\nDJ Flatline (Tapetenwechsel / Mainz) \n\n\n\nNicolas Dorwig (Kreativfabrik / Wiesbaden)   \n\n\n\nTigger (phuturistic / phunkfiction rec. / Mainz) \n\n\n\n \n\n\n\n\n\n\n\n\n\n\nAuf einen Blick:\n\n\n\n\n\nBeginn:\n\n\n\n23:00 im Anschluss an das Konzert \n\n\n\nEintritt:\n\n\n\nAK 6 € bis 24:00\, danach 7 € \n\n\n\nTickets:\n\n\n\nAn der Abendkasse \n\n\n\nFacebook: \n\n\n\nEvent \n\n\n\nWebseiten:\n\n\n\nDJ FLATLINE \n\n\n\nSoundcloud \n\n\n\nNICOLAS DORWIG \n\n\n\nMixcloud \n\n\n\nTIGGER \n\n\n\n\n\n\n\n\n\nCorona-Regularien\n\n\n\n\n—
URL:https://kreativfabrik-wiesbaden.de/veranstaltung/der-gebrochene-freitag-2/
CATEGORIES:Drum'n'Bass,Nachtleben,Party
ATTACH;FMTTYPE=image/jpeg:https://kreativfabrik-wiesbaden.de/wp-content/uploads/2023/01/DGF-17.03.2023-Grafik.jpg
END:VEVENT
END:VCALENDAR