BEGIN:VCALENDAR
VERSION:2.0
PRODID:-//Kreativfabrik - ECPv6.15.20//NONSGML v1.0//EN
CALSCALE:GREGORIAN
METHOD:PUBLISH
X-WR-CALNAME:Kreativfabrik
X-ORIGINAL-URL:https://kreativfabrik-wiesbaden.de
X-WR-CALDESC:Veranstaltungen für Kreativfabrik
REFRESH-INTERVAL;VALUE=DURATION:PT1H
X-Robots-Tag:noindex
X-PUBLISHED-TTL:PT1H
BEGIN:VTIMEZONE
TZID:Europe/Berlin
BEGIN:DAYLIGHT
TZOFFSETFROM:+0100
TZOFFSETTO:+0200
TZNAME:CEST
DTSTART:20210328T010000
END:DAYLIGHT
BEGIN:STANDARD
TZOFFSETFROM:+0200
TZOFFSETTO:+0100
TZNAME:CET
DTSTART:20211031T010000
END:STANDARD
BEGIN:DAYLIGHT
TZOFFSETFROM:+0100
TZOFFSETTO:+0200
TZNAME:CEST
DTSTART:20220327T010000
END:DAYLIGHT
BEGIN:STANDARD
TZOFFSETFROM:+0200
TZOFFSETTO:+0100
TZNAME:CET
DTSTART:20221030T010000
END:STANDARD
BEGIN:DAYLIGHT
TZOFFSETFROM:+0100
TZOFFSETTO:+0200
TZNAME:CEST
DTSTART:20230326T010000
END:DAYLIGHT
BEGIN:STANDARD
TZOFFSETFROM:+0200
TZOFFSETTO:+0100
TZNAME:CET
DTSTART:20231029T010000
END:STANDARD
END:VTIMEZONE
BEGIN:VEVENT
DTSTART;TZID=Europe/Berlin:20221210T193000
DTEND;TZID=Europe/Berlin:20221210T223000
DTSTAMP:20260422T115934
CREATED:20221103T174905Z
LAST-MODIFIED:20221103T174905Z
UID:5984-1670700600-1670711400@kreativfabrik-wiesbaden.de
SUMMARY:English Comedy: Annick & Friends
DESCRIPTION:ANNICK ADELLE is a US/European comedian and touring headliner that brings handselected friends and fellow comedians to a show that you haven’t seen before: in the moment\, with the audience\, with the love\, but still making you reflect on current social topics.Feature: ERIN CROUCHErin is a US comedian who runs a monthly comedy show at the Kazabra Club on Vogelweh Air Force Base. She tells jokes all over Europe from Amsterdam to Istanbul and opened for Billy Wayne Davis (Last Comic Standing\, WTF with Marc Maron\, Just for Laughs Festival) in 2021.Host: JEMARIE ALCORDOJemarie is an American comedian who’s trying to find her way in the European comedy scene with her American accent. Jemarie will take you on a rollercoaster ride of everyday life in her shoes from growing up as a first generation Filipino American to her adventures of being married. Jemarie’s comedy is an open book about her experience walking through life as herself. Jemarie has done comedy from stages as far west as Colorado to taking the stage in Afghanistan that one time. \n\n\n\n\n\n\n\n\n\n\n\n\n\n\n\n\nAuf einen Blick:\n\n\n\n\n\nEinlass:\n\n\n\n7:30 pm | 19:30 \n\n\n\nBeginn:\n\n\n\n8 pm | 20:00 \n\n\n\nEintritt:\n\n\n\nPresale 12 € + tax | Door 15 € \n\n\n\nVVK 12 € zzgl. Geb. | AK 15 € \n\n\n\nTickets:\n\n\n\nTickets kaufen \n\n\n\nFacebook:\n\n\n\nEvent \n\n\n\nWebseiten:\n\n\n\nANNICK ADELLE \n\n\n\nHomepage \n\n\n\nFacebook \n\n\n\nInstagram \n\n\n\nTikTok \n\n\n\nERIN CROUCH \n\n\n\nFacebook \n\n\n\n\n\n\n\n\n\nCorona-Regularien\n\n\n\n• —
URL:https://kreativfabrik-wiesbaden.de/veranstaltung/english-comedy-annick-friends/
CATEGORIES:Comedy,Nachtleben
ATTACH;FMTTYPE=image/jpeg:https://kreativfabrik-wiesbaden.de/wp-content/uploads/2022/11/Wiesbaden_Annick-Friends-10.11.22-eventbrite-scaled.jpg
END:VEVENT
BEGIN:VEVENT
DTSTART;TZID=Europe/Berlin:20221210T230000
DTEND;TZID=Europe/Berlin:20221211T050000
DTSTAMP:20260422T115934
CREATED:20221104T150635Z
LAST-MODIFIED:20221110T103858Z
UID:5995-1670713200-1670734800@kreativfabrik-wiesbaden.de
SUMMARY:Surrealismus: 1. Akt - Die Erleuchtung
DESCRIPTION:„To live is the rarest thing in the world. Most people just exist.“ – Oscar Wilde \n\n\n\nWiesbaden Techno People\, es ist soweit! \n\n\n\nUnsere erste Partynacht steht an – mit allem\, was das Herz zum Schlagen braucht: Ein housiger Beginn\, dicht gefolgt von harten Bässen und wundervollen Melodien – ob House\, Acid\, Trance oder Hard Techno\, im Laufe der Nacht findet jeder Mensch sein Glück. Lasst euch am 10.12.2022 von den DJs dieser Nacht verzaubern und zeigt\, dass gemeinsames Tanzen zu Musik mit 125 bis hoch zu 160 BPM eine Kunstform ist\, die seinesgleichen sucht. Wir wissen\, dass ihr da draußen seid und auf die richtige Gelegenheit wartet\, eure Probleme zuhause zu lassen. Mit uns zu tanzen bis in die frühen Morgenstunden und das Leben zu genießen – also\, das ist eure Chance! \n\n\n\nErlebt mit uns die Wiederkehr einer surrealistischen Welt – in der man seinen Augen nicht trauen kann\, die Ohren jedoch niemals lügen\, wenn der Bass die Silhouetten in der dunklen Nacht gemeinsam zum Schwingen bringt.  \n\n\n\nWir möchten ein queerfreundliches Umfeld bieten. Everybody‘s welcome! Auf unserer Party soll sich jede*r wohlfühlen\, wir haben deshalb ein Awareness-Team vor Ort\, das zur Verfügung steht und an das ihr euch bei jeglichen Umständen und Problemen wenden könnt. Stay safe! \n\n\n\n\n\n\n\n\n\n\nAuf einen Blick:\n\n\n\n\n\nBeginn:\n\n\n\n23:00 \n\n\n\nEintritt:\n\n\n\nVVK 8 € zzgl. Geb. | AK 10 € | Studierende und Azubis 8 € an der AK \n\n\n\nTickets:\n\n\n\nTickets kaufen \n\n\n\nFacebook: \n\n\n\nEvent \n\n\n\nWebseiten:\n\n\n\nSURREALISMUS \n\n\n\nInstagram \n\n\n\n\n\n\n\n\n\nCorona-Regularien\n\n\n\n—
URL:https://kreativfabrik-wiesbaden.de/veranstaltung/surrealismus-1-akt/
CATEGORIES:Elektro,Nachtleben,Party,Techno
ATTACH;FMTTYPE=image/png:https://kreativfabrik-wiesbaden.de/wp-content/uploads/2022/11/2022-12-10-Surrealismus_FB.png
END:VEVENT
END:VCALENDAR