BEGIN:VCALENDAR
VERSION:2.0
PRODID:-//Kreativfabrik - ECPv6.15.20//NONSGML v1.0//EN
CALSCALE:GREGORIAN
METHOD:PUBLISH
X-ORIGINAL-URL:https://kreativfabrik-wiesbaden.de
X-WR-CALDESC:Veranstaltungen für Kreativfabrik
REFRESH-INTERVAL;VALUE=DURATION:PT1H
X-Robots-Tag:noindex
X-PUBLISHED-TTL:PT1H
BEGIN:VTIMEZONE
TZID:Europe/Berlin
BEGIN:DAYLIGHT
TZOFFSETFROM:+0100
TZOFFSETTO:+0200
TZNAME:CEST
DTSTART:20210328T010000
END:DAYLIGHT
BEGIN:STANDARD
TZOFFSETFROM:+0200
TZOFFSETTO:+0100
TZNAME:CET
DTSTART:20211031T010000
END:STANDARD
BEGIN:DAYLIGHT
TZOFFSETFROM:+0100
TZOFFSETTO:+0200
TZNAME:CEST
DTSTART:20220327T010000
END:DAYLIGHT
BEGIN:STANDARD
TZOFFSETFROM:+0200
TZOFFSETTO:+0100
TZNAME:CET
DTSTART:20221030T010000
END:STANDARD
BEGIN:DAYLIGHT
TZOFFSETFROM:+0100
TZOFFSETTO:+0200
TZNAME:CEST
DTSTART:20230326T010000
END:DAYLIGHT
BEGIN:STANDARD
TZOFFSETFROM:+0200
TZOFFSETTO:+0100
TZNAME:CET
DTSTART:20231029T010000
END:STANDARD
END:VTIMEZONE
BEGIN:VEVENT
DTSTART;TZID=Europe/Berlin:20221104T193000
DTEND;TZID=Europe/Berlin:20221104T210000
DTSTAMP:20260421T203943
CREATED:20221104T125059Z
LAST-MODIFIED:20221104T125100Z
UID:5989-1667590200-1667595600@kreativfabrik-wiesbaden.de
SUMMARY:Sold out: Wiesbaden English Comedy Night
DESCRIPTION:Attention: The show is sold out\, but due to the high demand we’ve added a second late night show at 21:30. \n\n\n\nIn Stitches Comedy returns for another night of hilarious\, English-spoken stand-up comedy! \n\n\n\nABOUT THE ACT: Jack Holmes is a British-born comedian based in Central Europe. Known for his high-energy performances\, Holmes leaves audiences in fits of laughter wherever he goes. His jokes walk a delicate line between anger and absurdity\, whilst tackling self-depreciation and cross-cultural observations to hilarious and heart-warming effect. \n\n\n\nHis new touring show\, Emotional Distancing\, is a relatable deep-dive into the healing process the world currently finds itself in. A first-hand look at adult relationships\, travel\, identity\, aging and the struggle to become a better person. \n\n\n\nHolmes has developed a reputation as one of the hardest working comedians in Europe\, often performing upwards of 200 shows a year. He’s made appearances at major festivals (Sziget Fest\, Utrecht International Comedy Festival and Panč)\, as well as opening for multiple household name comedians. With countless sold-out shows across multiple continents\, Jack Holmes has firmly cemented himself as a name to watch in the European Comedy circuit. \n\n\n\nIS THE SHOW FAMILY-FRIENDLY?Under 16’s are permitted to attend the show*\, but please be aware that the show deals with adult themes.*admittance for under 18’s is solely at the discretion of the venue. Please contact the venue to check their policies on minors. \n\n\n\nTICKET RESALETicket resale is permitted\, however\, please be aware that fake ticket sellers is a constant problem. The only place to buy an official ticket is from the links above. Before buying 2nd hand tickets\, please contact In Stitches Comedy to verify that the seller is genuine \n\n\n\n\n\n\n\n\n\n\n\n\n\n\n\n\nAuf einen Blick:\n\n\n\n\n\nEinlass:\n\n\n\n19:30 | 7:30 pm \n\n\n\nBeginn:\n\n\n\n20:00 | 8 pm \n\n\n\nEintritt:\n\n\n\nVVK 12 € zzgl. Geb. | AK 15 € \n\n\n\nTickets:\n\n\n\nTickets kaufen \n\n\n\nFacebook:\n\n\n\nEvent \n\n\n\nWebseiten:\n\n\n\nJACK HOLMES \n\n\n\nYouTube \n\n\n\nFacebook \n\n\n\n\n\n\n\n\n\nCorona-Regularien\n\n\n\n—\n\n\n\nENGLISH: \n\n\n\nAttendance will be based on local recommendations for Covid-19 measurements. If unsure of the necessary documents/requirements\, please consult with the venue. Refunds can be issued ahead of time in the event of a positive Covid test\, at the discretion of the event organizer (proof of diagnosis required). Refunds will NOT be issued for a lack of necessary documents/requirements on the door.
URL:https://kreativfabrik-wiesbaden.de/veranstaltung/sold-out-wiesbaden-english-comedy-night/
CATEGORIES:Comedy,Kunst
ATTACH;FMTTYPE=image/jpeg:https://kreativfabrik-wiesbaden.de/wp-content/uploads/2021/08/2021-10-16-English-Comedy_web.jpg
END:VEVENT
BEGIN:VEVENT
DTSTART;TZID=Europe/Berlin:20221104T213000
DTEND;TZID=Europe/Berlin:20221104T230000
DTSTAMP:20260421T203943
CREATED:20210901T170350Z
LAST-MODIFIED:20221104T131325Z
UID:4432-1667597400-1667602800@kreativfabrik-wiesbaden.de
SUMMARY:Wiesbaden English Comedy Late Night Show
DESCRIPTION:Since the early show sold out\, we’ve added this last-minute late night show! \n\n\n\nIn Stitches Comedy returns for another night of hilarious\, English-spoken stand-up comedy! \n\n\n\nABOUT THE ACT: Jack Holmes is a British-born comedian based in Central Europe. Known for his high-energy performances\, Holmes leaves audiences in fits of laughter wherever he goes. His jokes walk a delicate line between anger and absurdity\, whilst tackling self-depreciation and cross-cultural observations to hilarious and heart-warming effect. \n\n\n\nHis new touring show\, Emotional Distancing\, is a relatable deep-dive into the healing process the world currently finds itself in. A first-hand look at adult relationships\, travel\, identity\, aging and the struggle to become a better person. \n\n\n\nHolmes has developed a reputation as one of the hardest working comedians in Europe\, often performing upwards of 200 shows a year. He’s made appearances at major festivals (Sziget Fest\, Utrecht International Comedy Festival and Panč)\, as well as opening for multiple household name comedians. With countless sold-out shows across multiple continents\, Jack Holmes has firmly cemented himself as a name to watch in the European Comedy circuit. \n\n\n\nIS THE SHOW FAMILY-FRIENDLY?Under 16’s are permitted to attend the show*\, but please be aware that the show deals with adult themes.*admittance for under 18’s is solely at the discretion of the venue. Please contact the venue to check their policies on minors. \n\n\n\nTICKET RESALETicket resale is permitted\, however\, please be aware that fake ticket sellers is a constant problem. The only place to buy an official ticket is from the links above. Before buying 2nd hand tickets\, please contact In Stitches Comedy to verify that the seller is genuine \n\n\n\n\n\n\n\n\n\n\n\n\n\n\n\n\nAuf einen Blick:\n\n\n\n\n\nEinlass:\n\n\n\nca. 21:15 \n\n\n\nBeginn:\n\n\n\nca. 21:30 \n\n\n\nEintritt:\n\n\n\nVVK 12 € zzgl. Geb. | AK 15 € \n\n\n\nTickets:\n\n\n\nTickets kaufen \n\n\n\nFacebook:\n\n\n\nEvent \n\n\n\nWebseiten:\n\n\n\nJACK HOLMES \n\n\n\nYouTube \n\n\n\nFacebook \n\n\n\n\n\n\n\n\n\nCorona-Regularien\n\n\n\n—\n\n\n\nENGLISH: \n\n\n\nAttendance will be based on local recommendations for Covid-19 measurements. If unsure of the necessary documents/requirements\, please consult with the venue. Refunds can be issued ahead of time in the event of a positive Covid test\, at the discretion of the event organizer (proof of diagnosis required). Refunds will NOT be issued for a lack of necessary documents/requirements on the door.
URL:https://kreativfabrik-wiesbaden.de/veranstaltung/wiesbaden-english-comedy-late-night-show/
CATEGORIES:Comedy,Kunst
ATTACH;FMTTYPE=image/jpeg:https://kreativfabrik-wiesbaden.de/wp-content/uploads/2021/08/2021-10-16-English-Comedy_web.jpg
END:VEVENT
END:VCALENDAR