BEGIN:VCALENDAR
VERSION:2.0
PRODID:-//Kreativfabrik - ECPv6.15.20//NONSGML v1.0//EN
CALSCALE:GREGORIAN
METHOD:PUBLISH
X-WR-CALNAME:Kreativfabrik
X-ORIGINAL-URL:https://kreativfabrik-wiesbaden.de
X-WR-CALDESC:Veranstaltungen für Kreativfabrik
REFRESH-INTERVAL;VALUE=DURATION:PT1H
X-Robots-Tag:noindex
X-PUBLISHED-TTL:PT1H
BEGIN:VTIMEZONE
TZID:Europe/Berlin
BEGIN:DAYLIGHT
TZOFFSETFROM:+0100
TZOFFSETTO:+0200
TZNAME:CEST
DTSTART:20210328T010000
END:DAYLIGHT
BEGIN:STANDARD
TZOFFSETFROM:+0200
TZOFFSETTO:+0100
TZNAME:CET
DTSTART:20211031T010000
END:STANDARD
BEGIN:DAYLIGHT
TZOFFSETFROM:+0100
TZOFFSETTO:+0200
TZNAME:CEST
DTSTART:20220327T010000
END:DAYLIGHT
BEGIN:STANDARD
TZOFFSETFROM:+0200
TZOFFSETTO:+0100
TZNAME:CET
DTSTART:20221030T010000
END:STANDARD
BEGIN:DAYLIGHT
TZOFFSETFROM:+0100
TZOFFSETTO:+0200
TZNAME:CEST
DTSTART:20230326T010000
END:DAYLIGHT
BEGIN:STANDARD
TZOFFSETFROM:+0200
TZOFFSETTO:+0100
TZNAME:CET
DTSTART:20231029T010000
END:STANDARD
END:VTIMEZONE
BEGIN:VEVENT
DTSTART;TZID=Europe/Berlin:20221021T200000
DTEND;TZID=Europe/Berlin:20221021T233000
DTSTAMP:20260421T201717
CREATED:20220914T213003Z
LAST-MODIFIED:20221017T163641Z
UID:5755-1666382400-1666395000@kreativfabrik-wiesbaden.de
SUMMARY:DBI #32: Rogue Result / Forum Calico / Magawa
DESCRIPTION:Präsentiert von Doom Buddies Inc.: \n\n\n\nDie Wiesbadener Stonerrocker ROGUE RESULT spielen endlich mal wieder bei uns\, und zur Unterstützung haben sie sich ein paar Freunde eingeladen: FORUM CALICO\, eine Post Rock/Psychedelic Rock Band aus Aachen mit Kontrabass. Das Trio aus Multiinstrumentalist*Innen schreckt nicht vor Instrumentenwechseln zurück\, um übliche Genrevorstellungen zu erweitern. Den Abend vervollständigen MAGAWA aus Marburg. \n\n\n\n\n\n\n\n\n\n\n\n\n\n\n\n\nAuf einen Blick:\n\n\n\n\n\nEinlass:\n\n\n\n20:00 \n\n\n\nBeginn:\n\n\n\n20:30 \n\n\n\nEintritt:\n\n\n\nAK 8 – 12 € \n\n\n\nTickets:\n\n\n\nAn der Abendkasse \n\n\n\nFacebook: \n\n\n\nEvent \n\n\n\nWebseiten:\n\n\n\nROGUE RESULT \n\n\n\nHomepage \n\n\n\nFacebook \n\n\n\nBandcamp \n\n\n\nFORUM CALICO \n\n\n\nHomepage \n\n\n\nInstagram \n\n\n\nMAGAWA \n\n\n\nFacebook \n\n\n\nInstagram \n\n\n\n\n\n\n\n\n\nCorona-Regularien\n\n\n\n—
URL:https://kreativfabrik-wiesbaden.de/veranstaltung/rogue-result-forum-calico-magawa/
CATEGORIES:Alternative,Avantgarde,Konzert,Stoner Rock
ATTACH;FMTTYPE=image/png:https://kreativfabrik-wiesbaden.de/wp-content/uploads/2022/10/2022-10-21-RR_FB.png
END:VEVENT
END:VCALENDAR