BEGIN:VCALENDAR
VERSION:2.0
PRODID:-//Kreativfabrik - ECPv6.15.20//NONSGML v1.0//EN
CALSCALE:GREGORIAN
METHOD:PUBLISH
X-ORIGINAL-URL:https://kreativfabrik-wiesbaden.de
X-WR-CALDESC:Veranstaltungen für Kreativfabrik
REFRESH-INTERVAL;VALUE=DURATION:PT1H
X-Robots-Tag:noindex
X-PUBLISHED-TTL:PT1H
BEGIN:VTIMEZONE
TZID:Europe/Berlin
BEGIN:DAYLIGHT
TZOFFSETFROM:+0100
TZOFFSETTO:+0200
TZNAME:CEST
DTSTART:20210328T010000
END:DAYLIGHT
BEGIN:STANDARD
TZOFFSETFROM:+0200
TZOFFSETTO:+0100
TZNAME:CET
DTSTART:20211031T010000
END:STANDARD
BEGIN:DAYLIGHT
TZOFFSETFROM:+0100
TZOFFSETTO:+0200
TZNAME:CEST
DTSTART:20220327T010000
END:DAYLIGHT
BEGIN:STANDARD
TZOFFSETFROM:+0200
TZOFFSETTO:+0100
TZNAME:CET
DTSTART:20221030T010000
END:STANDARD
BEGIN:DAYLIGHT
TZOFFSETFROM:+0100
TZOFFSETTO:+0200
TZNAME:CEST
DTSTART:20230326T010000
END:DAYLIGHT
BEGIN:STANDARD
TZOFFSETFROM:+0200
TZOFFSETTO:+0100
TZNAME:CET
DTSTART:20231029T010000
END:STANDARD
END:VTIMEZONE
BEGIN:VEVENT
DTSTART;TZID=Europe/Berlin:20221019T200000
DTEND;TZID=Europe/Berlin:20221019T233000
DTSTAMP:20260421T202744
CREATED:20220914T193556Z
LAST-MODIFIED:20220914T212258Z
UID:5732-1666209600-1666222200@kreativfabrik-wiesbaden.de
SUMMARY:Notgemeinschaft Peter Pan / Stockholm Syndrom
DESCRIPTION:Die NOTGEMEINSCHAFT PETER PAN (kurz NPP) wurde im Herbst 2009 in einem Bunkerproberaum mitten in Hamburg von vier Quittjes gegründet\, die nicht älter werden wollten. Namensgebend war zudem die auch noch im hohen Alter widerständige ‚Bäuerliche Notgemeinschaft‘ aus dem Wendland. Bereits vor einiger Zeit schrumpfte die Band auf drei Freunde zusammen und macht nach eigener Definition einfach Politpunk\, dessen Wurzeln in der DIY-Subkultur der 90er liegen. Von Beginn an wurden vorrangig Texte vertont und eine klare\, auch selbstkritische Meinung kommuniziert\, komprimiert auf Schlagzeug\, Bass\, Gitarre und wechselseitigem Gesang. Irgendwie Deutschpunk mit Hardcorekante und Emoecken. \n\n\n\nEine einflussreiche Hamburger Punkband sang einst „Wenn es nur noch um Musik geht\, dann war alles nur ein Irrtum…“. Wären Mario\, Ori und Stemmen früher geboren\, hätten diese Zeilen womöglich auch von ihnen stammen können. \n\n\n\nDen Abend eröffnen unsere Freunde von STOCKHOLM SYNDROM aus Wiesbaden. \n\n\n\n\n\n\n\n\n\n\n\n\n\n\n\n\nAuf einen Blick:\n\n\n\n\n\nEinlass:\n\n\n\n20:00 \n\n\n\nBeginn:\n\n\n\n20:30 \n\n\n\nEintritt:\n\n\n\nAK 8 – 12 € \n\n\n\nTickets:\n\n\n\nAn der Abendkasse \n\n\n\nFacebook: \n\n\n\nEvent \n\n\n\nWebseiten:\n\n\n\nNOTGEMEINSCHAFT PETER PAN \n\n\n\nFacebook \n\n\n\nBandcamp \n\n\n\nHomepage \n\n\n\nSTOCKHOLM SYNDROM \n\n\n\nFacebook \n\n\n\nBandcamp \n\n\n\n\n\n\n\n\n\nCorona-Regularien\n\n\n\n—
URL:https://kreativfabrik-wiesbaden.de/veranstaltung/notgemeinschaft-peter-pan/
CATEGORIES:Konzert,Punk,Rock
ATTACH;FMTTYPE=image/jpeg:https://kreativfabrik-wiesbaden.de/wp-content/uploads/2022/09/npp_logo_pro.jpg
END:VEVENT
END:VCALENDAR