BEGIN:VCALENDAR
VERSION:2.0
PRODID:-//Kreativfabrik - ECPv6.15.20//NONSGML v1.0//EN
CALSCALE:GREGORIAN
METHOD:PUBLISH
X-WR-CALNAME:Kreativfabrik
X-ORIGINAL-URL:https://kreativfabrik-wiesbaden.de
X-WR-CALDESC:Veranstaltungen für Kreativfabrik
REFRESH-INTERVAL;VALUE=DURATION:PT1H
X-Robots-Tag:noindex
X-PUBLISHED-TTL:PT1H
BEGIN:VTIMEZONE
TZID:Europe/Berlin
BEGIN:DAYLIGHT
TZOFFSETFROM:+0100
TZOFFSETTO:+0200
TZNAME:CEST
DTSTART:20210328T010000
END:DAYLIGHT
BEGIN:STANDARD
TZOFFSETFROM:+0200
TZOFFSETTO:+0100
TZNAME:CET
DTSTART:20211031T010000
END:STANDARD
BEGIN:DAYLIGHT
TZOFFSETFROM:+0100
TZOFFSETTO:+0200
TZNAME:CEST
DTSTART:20220327T010000
END:DAYLIGHT
BEGIN:STANDARD
TZOFFSETFROM:+0200
TZOFFSETTO:+0100
TZNAME:CET
DTSTART:20221030T010000
END:STANDARD
BEGIN:DAYLIGHT
TZOFFSETFROM:+0100
TZOFFSETTO:+0200
TZNAME:CEST
DTSTART:20230326T010000
END:DAYLIGHT
BEGIN:STANDARD
TZOFFSETFROM:+0200
TZOFFSETTO:+0100
TZNAME:CET
DTSTART:20231029T010000
END:STANDARD
END:VTIMEZONE
BEGIN:VEVENT
DTSTART;TZID=Europe/Berlin:20221018T180000
DTEND;TZID=Europe/Berlin:20221018T210000
DTSTAMP:20260421T202617
CREATED:20220914T143416Z
LAST-MODIFIED:20221008T164952Z
UID:5711-1666116000-1666126800@kreativfabrik-wiesbaden.de
SUMMARY:After Work Games
DESCRIPTION:Du bist es nicht mehr gewohnt bis 4:00 Uhr auf einer Party zu tanzen? Der Senior*innentreff deiner Oma ist im Schnitt etwas zu alt für dich? Die quarter life crisis ist durch die Pandemie noch in den Kinderschuhen? Du vermisst die guten Spieleabende in deiner alten WG? Und bei deinem Kartenspiel fehlt die Herz Dame?  \n\n\n\nDu bist zwischen 0 – 99 Jahren alt. Du spielst ambitioniert Brettspiele und trotzt vor Motivation. Du redest dich Dienstagabend immer mit Katzen Sitten raus. Dann bist du bei unseren After Work Games genau richtig. \n\n\n\nFür den zweiten Spieleabend im Seniorenflair haben wir eine Reise zurück in die Zukunft vorbereitet. Mit Spielen aus dem letzten Jahrhundert schicken wir dich wortwürflich auf eine Reise. All-inclusive: verschiedene Bahnhöfe\, ein Hotel auf der Schloßallee oder mit etwas Pech sogar einen Aufenthalt im Gefängnis.  \n\n\n\nDas Spiel des Lebens hält für dich gerade keine guten Karten bereit\, dann bring dich mit der Drehscheibe ins Ziel. Alle erworbenen Karriereskills darfst du dir anschließend in deine Bewerbungsmappe eintragen\, in der Hoffnung\, mit ein bisschen RISIKO die Weltherrschaft an dich zu reißen.  \n\n\n\nStehst du eher auf safety first\, kannst du beim vernünftigsten Spiel der Welt versuchen als erste*r all dein Geld loszuwerden. Du bist gut darin\, am Ende des Geldes noch viel Monat übrig zu haben? Dann ist das MAD-Spiel wie ein monatliches After-Work-Game für dich. \n\n\n\n\n\n\nAuf einen Blick:\n\n\n\n\n\nBeginn:\n\n\n\n18:00 \n\n\n\nEnde: \n\n\n\n20:00 \n\n\n\nEintritt:\n\n\n\nfrei \n\n\n\nFacebook:\n\n\n\nEvent \n\n\n\n\n\n\n\n\n\nCorona-Regularien\n\n\n\n—
URL:https://kreativfabrik-wiesbaden.de/veranstaltung/after-work-games-2/
CATEGORIES:Sonstiges
ATTACH;FMTTYPE=image/jpeg:https://kreativfabrik-wiesbaden.de/wp-content/uploads/2022/08/After-work-games.jpg
END:VEVENT
END:VCALENDAR