BEGIN:VCALENDAR
VERSION:2.0
PRODID:-//Kreativfabrik - ECPv6.15.20//NONSGML v1.0//EN
CALSCALE:GREGORIAN
METHOD:PUBLISH
X-WR-CALNAME:Kreativfabrik
X-ORIGINAL-URL:https://kreativfabrik-wiesbaden.de
X-WR-CALDESC:Veranstaltungen für Kreativfabrik
REFRESH-INTERVAL;VALUE=DURATION:PT1H
X-Robots-Tag:noindex
X-PUBLISHED-TTL:PT1H
BEGIN:VTIMEZONE
TZID:Europe/Berlin
BEGIN:DAYLIGHT
TZOFFSETFROM:+0100
TZOFFSETTO:+0200
TZNAME:CEST
DTSTART:20210328T010000
END:DAYLIGHT
BEGIN:STANDARD
TZOFFSETFROM:+0200
TZOFFSETTO:+0100
TZNAME:CET
DTSTART:20211031T010000
END:STANDARD
BEGIN:DAYLIGHT
TZOFFSETFROM:+0100
TZOFFSETTO:+0200
TZNAME:CEST
DTSTART:20220327T010000
END:DAYLIGHT
BEGIN:STANDARD
TZOFFSETFROM:+0200
TZOFFSETTO:+0100
TZNAME:CET
DTSTART:20221030T010000
END:STANDARD
BEGIN:DAYLIGHT
TZOFFSETFROM:+0100
TZOFFSETTO:+0200
TZNAME:CEST
DTSTART:20230326T010000
END:DAYLIGHT
BEGIN:STANDARD
TZOFFSETFROM:+0200
TZOFFSETTO:+0100
TZNAME:CET
DTSTART:20231029T010000
END:STANDARD
END:VTIMEZONE
BEGIN:VEVENT
DTSTART;TZID=Europe/Berlin:20221006T193000
DTEND;TZID=Europe/Berlin:20221006T223000
DTSTAMP:20260421T202505
CREATED:20220914T200359Z
LAST-MODIFIED:20220929T162947Z
UID:5737-1665084600-1665095400@kreativfabrik-wiesbaden.de
SUMMARY:Passepartout
DESCRIPTION:ACHTUNG: Das Konzert wurde vom Kesselhaus in die Kreativfabrik verlegt. \n\n\n\nPräsentiert vom Schlachthof Wiesbaden:  \n\n\n\nEs ist fast rührend zu lesen\, das Presseinfo von Passepartout aus Hannover\, der Sound einer fast vergessenen Welt: „Es ist Sommer\, du hast seit zwei Tagen nicht geduscht\, der Festival-Staub hängt in deinen Haaren und die Crowd um dich herum strahlt ihre Wärme auf dich ab. Plötzlich erstrahlt das Licht auf der Mainstage und elf Menschen erscheinen im Bühnennebel. Der Beat setzt ein. Eine Soundwelle aus verschiedenen Instrumenten und Klängen erfasst dich. Passepartout dreht ab. Und du mit ihnen.“ Jetzt\, da wir wieder gemeinsam abdrehen können\, sei noch hinzugefügt\, dass die erst 2018 in der jetzigen Formation zusammengekommene Gruppe um das frühere MC-Duo Jarys und Matyes\, eine wirklich hervorragende Live-Band ist. Ob vor Tausenden Menschen in ausverkauften Hallen oder als Guerilla-Aktion in den Einkaufsstraßen – was zählt\, ist die Crowd und die geballte Energie. Dicke Bässe\, organische Melodien und ausgefeilte Reime verschmelzen die Musiker*innen zu einer Einheit – und uns gleich mit. Obwohl das auch schon wieder merkwürdig klingt. \n\n\n\n\n\n\n\n\n\n\n\n\n\n\n\n\nAuf einen Blick:\n\n\n\n\n\nEinlass:\n\n\n\n19:30 \n\n\n\nBeginn:\n\n\n\n20:00 \n\n\n\nEintritt:\n\n\n\nVVK 11 € (zzgl. Geb. / inkl. Bus & Bahn) | AK 15 € \n\n\n\nTickets:\n\n\n\nTickets kaufen \n\n\n\nFacebook:\n\n\n\nEvent \n\n\n\nWebseiten:\n\n\n\nPASSEPARTOUT \n\n\n\nHomepage \n\n\n\nFacebook \n\n\n\n\n\n\n\n\n\nCorona-Regularien\n\n\n\n—
URL:https://kreativfabrik-wiesbaden.de/veranstaltung/passepartout/
CATEGORIES:Avantgarde,Hip Hop,Konzert,Kooperation
ATTACH;FMTTYPE=image/jpeg:https://kreativfabrik-wiesbaden.de/wp-content/uploads/2022/09/Passepartout_cms_2021-97503033.jpg
END:VEVENT
END:VCALENDAR