BEGIN:VCALENDAR
VERSION:2.0
PRODID:-//Kreativfabrik - ECPv6.15.20//NONSGML v1.0//EN
CALSCALE:GREGORIAN
METHOD:PUBLISH
X-ORIGINAL-URL:https://kreativfabrik-wiesbaden.de
X-WR-CALDESC:Veranstaltungen für Kreativfabrik
REFRESH-INTERVAL;VALUE=DURATION:PT1H
X-Robots-Tag:noindex
X-PUBLISHED-TTL:PT1H
BEGIN:VTIMEZONE
TZID:Europe/Berlin
BEGIN:DAYLIGHT
TZOFFSETFROM:+0100
TZOFFSETTO:+0200
TZNAME:CEST
DTSTART:20210328T010000
END:DAYLIGHT
BEGIN:STANDARD
TZOFFSETFROM:+0200
TZOFFSETTO:+0100
TZNAME:CET
DTSTART:20211031T010000
END:STANDARD
BEGIN:DAYLIGHT
TZOFFSETFROM:+0100
TZOFFSETTO:+0200
TZNAME:CEST
DTSTART:20220327T010000
END:DAYLIGHT
BEGIN:STANDARD
TZOFFSETFROM:+0200
TZOFFSETTO:+0100
TZNAME:CET
DTSTART:20221030T010000
END:STANDARD
BEGIN:DAYLIGHT
TZOFFSETFROM:+0100
TZOFFSETTO:+0200
TZNAME:CEST
DTSTART:20230326T010000
END:DAYLIGHT
BEGIN:STANDARD
TZOFFSETFROM:+0200
TZOFFSETTO:+0100
TZNAME:CET
DTSTART:20231029T010000
END:STANDARD
END:VTIMEZONE
BEGIN:VEVENT
DTSTART;TZID=Europe/Berlin:20220927T193000
DTEND;TZID=Europe/Berlin:20220927T220000
DTSTAMP:20260421T191159
CREATED:20220525T150000Z
LAST-MODIFIED:20221206T153631Z
UID:5263-1664307000-1664316000@kreativfabrik-wiesbaden.de
SUMMARY:Beans on Toast / Tensheds
DESCRIPTION:ACHTUNG: Das Konzert – verschoben vom 10.03.2021 auf den 27.09.2022 – muss leider ausfallen. Tickets können zurückgegeben werden. \n\n\n\nDas Statement von Beans: \n\n\n\nHello Folks\,Beans here. I’m really sorry to say\, but we’re gonna cancel theupcoming run of shows in Germany. Including the show you’ve got aticket for.We couldn’t make the numbers work for a short run like this at such abusy time for touring. The plan will be to come back as soon aspossible for a longer run\, with a bit more time to promote the tour. ILove Germany\, and it’s an incredible place to travel around – so Ipromise I’ll see you soon. Refunds are available at point of purchase.I’ll still be performing at Frank Turner’s Lost Evenings Festival in Berlin.Lauft!Beans xxx \n\n\n\nUK Folk legend BEANS ON TOAST will be returning to Germany this Autumn for a quick whiz around the Country. The self-proclaimed „Ignorant Englishman“ has something of a love affair for the country and its fine people and can’t wait to finally get back after the big you know what. For this run of shows\, he’ll be joined by the piano playing prodigy Tensheds\, a long time musical companion who will be both opening the show and also joining Beans on stage for a few numbers. \n\n\n\nBeans on Toast writes simple songs about complicated subjects and never fails to celebrate the beauty of human existence. His live shows are both inspiring and entertaining\, a relaxed and fun affair that leaves you feeling like you’ve met up with an old friend\, and you’re all the better for it.  \n\n\n\nMusical shapeshifter TENSHEDS brings his unique brand of gritty alt. blues crashing into the 21st Century with his audacious showmanship and Rachmaninoff style virtuosic piano skills. Channeling the likes of Tom Waits\, Nick Cave and Jack White\, this award-winning\, Classically trained maestro\, uses his undeniable skill to effortlessly weave between fuzzedup garage blues and heart-wrenching ballads\, taking the listener on a musical rollercoaster. \n\n\n\nOver the past ten years Tensheds has established himself as one of the UK’s most unique and versatile performers. With his audacious showmanship and Rachmaninoff style virtuosic piano skills\, this is anartist unstoppable in his pursuit to Make The Piano King. Having released 5 critically acclaimed albums and won numerous awards – ‘House Of Lords Discretional Rock Award‘\, ‘PRS UK Unsigned Award’\, Tensheds real home is on the stage\, and his insatiable appetite for touring has even won him the Guinness Word Record for Most Gigs Performed in 24 Hours. \n\n\n\nOriginally training as a classical pianist at the Royal Scottish Academy of Music – performing his first classical concert aged 6\, Tensheds uses his remarkable skillset to truly innovate and push boundaries. This coupled with the multi- instrumentalists absolute refusal to pigeonhole his music\, sees him constantly evolving and often drawing comparisons to the likes of Waits\, Cave\, Dylan and White. \n\n\n\nTensheds real magic lies in his live performances. His unmistakable unique style and rare ability to blend gritty punk blues with heartfelt piano ballads takes his audience on a rollercoaster ride of heart-wrenching to foot stomping. \n\n\n\n\n\n\n\n\n\n\n\n\n\n\n\n\nAuf einen Blick:\n\n\n\n\n\nEinlass:\n\n\n\n19:30 \n\n\n\nBeginn:\n\n\n\n20:00 \n\n\n\nEintritt:\n\n\n\nVVK 15 € zzgl. Geb. | AK 18 € \n\n\n\nTickets:\n\n\n\nTickets kaufen \n\n\n\nFacebook:\n\n\n\nEvent \n\n\n\nWebseiten:\n\n\n\nBEANS ON TOAST \n\n\n\nHomepage \n\n\n\nSpotify \n\n\n\nFacebook \n\n\n\nYouTube \n\n\n\nInstagram \n\n\n\nTENSHEDS \n\n\n\nHomepage \n\n\n\nFacebook \n\n\n\nInstagram \n\n\n\nYouTube \n\n\n\n\n\n\n\n\n\nCorona-Regularien\n\n\n\n\ntba
URL:https://kreativfabrik-wiesbaden.de/veranstaltung/beans-on-toast-tensheds/
CATEGORIES:Akustik,Blues,Folk,Konzert,Singer/Songwriter
ATTACH;FMTTYPE=image/jpeg:https://kreativfabrik-wiesbaden.de/wp-content/uploads/2022/05/BOT-Germany-2022_2_web.jpg
END:VEVENT
END:VCALENDAR