BEGIN:VCALENDAR
VERSION:2.0
PRODID:-//Kreativfabrik - ECPv6.15.20//NONSGML v1.0//EN
CALSCALE:GREGORIAN
METHOD:PUBLISH
X-WR-CALNAME:Kreativfabrik
X-ORIGINAL-URL:https://kreativfabrik-wiesbaden.de
X-WR-CALDESC:Veranstaltungen für Kreativfabrik
REFRESH-INTERVAL;VALUE=DURATION:PT1H
X-Robots-Tag:noindex
X-PUBLISHED-TTL:PT1H
BEGIN:VTIMEZONE
TZID:Europe/Berlin
BEGIN:DAYLIGHT
TZOFFSETFROM:+0100
TZOFFSETTO:+0200
TZNAME:CEST
DTSTART:20210328T010000
END:DAYLIGHT
BEGIN:STANDARD
TZOFFSETFROM:+0200
TZOFFSETTO:+0100
TZNAME:CET
DTSTART:20211031T010000
END:STANDARD
BEGIN:DAYLIGHT
TZOFFSETFROM:+0100
TZOFFSETTO:+0200
TZNAME:CEST
DTSTART:20220327T010000
END:DAYLIGHT
BEGIN:STANDARD
TZOFFSETFROM:+0200
TZOFFSETTO:+0100
TZNAME:CET
DTSTART:20221030T010000
END:STANDARD
BEGIN:DAYLIGHT
TZOFFSETFROM:+0100
TZOFFSETTO:+0200
TZNAME:CEST
DTSTART:20230326T010000
END:DAYLIGHT
BEGIN:STANDARD
TZOFFSETFROM:+0200
TZOFFSETTO:+0100
TZNAME:CET
DTSTART:20231029T010000
END:STANDARD
END:VTIMEZONE
BEGIN:VEVENT
DTSTART;TZID=Europe/Berlin:20220924T200000
DTEND;TZID=Europe/Berlin:20220924T233000
DTSTAMP:20260421T191139
CREATED:20210211T103015Z
LAST-MODIFIED:20220916T134228Z
UID:3843-1664049600-1664062200@kreativfabrik-wiesbaden.de
SUMMARY:Neuer Termin: Guts Pie Earshot / Anionkaat
DESCRIPTION:Foto: Marc Gärtner\n\n\n\n\nACHTUNG: Das Konzert vom 25.09.2021 wurde auf den 24.09.2022 verschoben. Bereits gekaufte Tickets behalten ihre Gültigkeit. \n\n\n\nGUTS PIE EARSHOT sind Bewegung\, rasende Geschwindigkeit\, pure Energie. Dann wieder Ruhe\, fast Stillstand. Cello. Drums. Tanzen. Punk-Konzert und Techno-Party. Love Music Hate Fascism.  \n\n\n\nSeit fast 30 Jahren und 13 Alben immer noch quer durch ganz Europa unterwegs mit ihrer Musik und politischem Engagement mit hunderten Soli-Konzerten und der Generations- und szeneübergreifende Integrationskraft.Ursprünglich aus der Punkszene stammend\, wurden GUTS PIE EARSHOT haben sie sich eine vielschichtige Konsens-Fanbase geschaffen wie sonst nur wenige Bands und zählen zu einer der innovativsten Bands der alternativen Musikszene Deutschlands. Ihre Konzerte heben die klassischen Grenzen zwischen Live-Konzert und Party aus den Angeln. So ist die grösste Leistung\, die das Duo an seinen schweisstreibenden Konzerten vollbringt\, Weltmusik- Anhänger mit Punks zu versöhnen und Metal-Fans ebenso begeistern zu können wie Drum ́’n‘ Bass- oder Techno-Anhänger. Trotz minimalistischer Besetzung kommen keine elektronischen Stützen wie Sampler oder Laptop zum Einsatz – kaum zu glauben\, hört man die dichten\, hypnotischen Sounds der Band.LINE-UP: Duo mit Cello und SchlagzeugAUS: BerlinGEGRÜNDET: 1993STYLE: Dance Punk vs. Dub Tech – Hardcore vs. Punk ’n‘ Bass 13 ALBEN seit 1993AKTUELL: „amparo fugaz“ \n\n\n\nNeu dabei als Vorband: ANIONKAAT ist eine dreiköpfige Kreatur\, die sich vor einiger Zeit in Mainz eingenistet hat. Des Nachts verlässt sie desweilen ihren Unterschlupf\, um in zwielichtigen Orten ihr lärmendes Unwesen zu treiben. Getarnt als Grungeband entfaltet sie ihre Widersprüchlichkeit in Form von intimen Melodien\, bizarren Texten und wildem Geschrei. \n\n\n\n\n\n\n\n\n\n\n\n\n\n\n\n\nAuf einen Blick:\n\n\n\n\n\nEinlass:\n\n\n\n20:00 \n\n\n\nBeginn:\n\n\n\n20:30 \n\n\n\nEintritt:\n\n\n\nVVK 12\,00 € inkl. Geb. | AK 13 € \n\n\n\nTickets:\n\n\n\nTickets kaufen \n\n\n\nFacebook:\n\n\n\nEvent \n\n\n\nWebseiten:\n\n\n\nGUTS PIE EARSHOT \n\n\n\nBandcamp \n\n\n\nFacebook \n\n\n\nHomepage \n\n\n\nANIONKAAT \n\n\n\nFacebook \n\n\n\nBandcamp \n\n\n\n\n\n\n\n\n\nCorona-Regularien\n\n\n\nBitte kommt tagesaktuell getestet.
URL:https://kreativfabrik-wiesbaden.de/veranstaltung/guts-pie-earshot/
CATEGORIES:Avantgarde,Konzert,Punk
ATTACH;FMTTYPE=image/png:https://kreativfabrik-wiesbaden.de/wp-content/uploads/2021/02/2021-09-25-GPE.png
END:VEVENT
END:VCALENDAR