BEGIN:VCALENDAR
VERSION:2.0
PRODID:-//Kreativfabrik - ECPv6.15.20//NONSGML v1.0//EN
CALSCALE:GREGORIAN
METHOD:PUBLISH
X-ORIGINAL-URL:https://kreativfabrik-wiesbaden.de
X-WR-CALDESC:Veranstaltungen für Kreativfabrik
REFRESH-INTERVAL;VALUE=DURATION:PT1H
X-Robots-Tag:noindex
X-PUBLISHED-TTL:PT1H
BEGIN:VTIMEZONE
TZID:Europe/Berlin
BEGIN:DAYLIGHT
TZOFFSETFROM:+0100
TZOFFSETTO:+0200
TZNAME:CEST
DTSTART:20210328T010000
END:DAYLIGHT
BEGIN:STANDARD
TZOFFSETFROM:+0200
TZOFFSETTO:+0100
TZNAME:CET
DTSTART:20211031T010000
END:STANDARD
BEGIN:DAYLIGHT
TZOFFSETFROM:+0100
TZOFFSETTO:+0200
TZNAME:CEST
DTSTART:20220327T010000
END:DAYLIGHT
BEGIN:STANDARD
TZOFFSETFROM:+0200
TZOFFSETTO:+0100
TZNAME:CET
DTSTART:20221030T010000
END:STANDARD
BEGIN:DAYLIGHT
TZOFFSETFROM:+0100
TZOFFSETTO:+0200
TZNAME:CEST
DTSTART:20230326T010000
END:DAYLIGHT
BEGIN:STANDARD
TZOFFSETFROM:+0200
TZOFFSETTO:+0100
TZNAME:CET
DTSTART:20231029T010000
END:STANDARD
END:VTIMEZONE
BEGIN:VEVENT
DTSTART;TZID=Europe/Berlin:20220820T000000
DTEND;TZID=Europe/Berlin:20220820T235959
DTSTAMP:20260421T202638
CREATED:20220714T134108Z
LAST-MODIFIED:20220815T123150Z
UID:5417-1660953600-1661039999@kreativfabrik-wiesbaden.de
SUMMARY:Fem Fest
DESCRIPTION:FemFest 2022 KICK OFF WIESBADENFeministisches Festival. Wir freuen uns riesig das diesjährige FemFest mit einem Kick-Off Event am 20.August in der Kreativfabrik IN PRÄSENZ einzuleiten. Wir haben keine Kosten und Mühen gescheut um euch mit unserem Programm aus dem Quarantäne-Tiefschlaf zu holen. \n\n\n\nPROGRAMM TAGSÜBERZine-Workshop mit AnnaAwareness Workshop mit AlisaDJ Workshop mit KarajSoli Tattoos von DuniaAusstellungStände uvm.PROGRAMM ABENDSMino Riot (Rap\, Saarbrücken)Lobsterbomb (Indie Rock\, Berlin)Karaj (DJ\, Frankfurt)Dana (DJ\, Frankfurt) \n\n\n\nDas Programm tagsüber ist kostenfrei! \n\n\n\nFür das Abendprogramm werden wir einen kleinen Solieintritt von 5€+ nehmen. Für die Workshops gibt es begrenzte Plätze\, meldet euch also hierfür und bei allen Fragen z.B. zum Thema Barrierefreiheit unter femfest.mz.wi@gmail.com oder via Nachricht über die anderen Kanäle. \n\n\n\n \n\n\n\n12:00-14:00 DJ Workshop \n\n\n\n14:00-16:00 Awareness Workshop \n\n\n\n16:00-18:00 Zine Workshop \n\n\n\n20:00 Einlass Abendprogramm \n\n\n\n20:30-21:00 Mino Riot (Rap\, Saarbrücken) \n\n\n\n21:15-22:15 Lobsterbomb (Indie Rock\, Berlin) \n\n\n\n22:15-00:00 Karaj (DJ\, Frankfurt) \n\n\n\n00:00-Ende Dana (DJ\, Frankfurt) \n\n\n\n \n\n\n\n \n\n\n\n \n\n\n\n\n\n\n\n\n\n\nAuf einen Blick:\n\n\n\n\n\nEinlass/Beginn:\n\n\n\n12:00 Beginn \n\n\n\nEintritt:\n\n\n\nfrei / SoliPreise \n\n\n\n\n\n\n\nWebseiten:\n\n\n\nFacebook \n\n\n\nInstagram \n\n\n\n\n\n\n\n\n\nCorona-Regularien\n\n\n\ntba
URL:https://kreativfabrik-wiesbaden.de/veranstaltung/fem-fest/
CATEGORIES:Festival,Kunst,Party,Workshop
ATTACH;FMTTYPE=image/jpeg:https://kreativfabrik-wiesbaden.de/wp-content/uploads/2022/07/femfest.jpg
END:VEVENT
END:VCALENDAR