BEGIN:VCALENDAR
VERSION:2.0
PRODID:-//Kreativfabrik - ECPv6.15.20//NONSGML v1.0//EN
CALSCALE:GREGORIAN
METHOD:PUBLISH
X-WR-CALNAME:Kreativfabrik
X-ORIGINAL-URL:https://kreativfabrik-wiesbaden.de
X-WR-CALDESC:Veranstaltungen für Kreativfabrik
REFRESH-INTERVAL;VALUE=DURATION:PT1H
X-Robots-Tag:noindex
X-PUBLISHED-TTL:PT1H
BEGIN:VTIMEZONE
TZID:Europe/Berlin
BEGIN:DAYLIGHT
TZOFFSETFROM:+0100
TZOFFSETTO:+0200
TZNAME:CEST
DTSTART:20210328T010000
END:DAYLIGHT
BEGIN:STANDARD
TZOFFSETFROM:+0200
TZOFFSETTO:+0100
TZNAME:CET
DTSTART:20211031T010000
END:STANDARD
BEGIN:DAYLIGHT
TZOFFSETFROM:+0100
TZOFFSETTO:+0200
TZNAME:CEST
DTSTART:20220327T010000
END:DAYLIGHT
BEGIN:STANDARD
TZOFFSETFROM:+0200
TZOFFSETTO:+0100
TZNAME:CET
DTSTART:20221030T010000
END:STANDARD
BEGIN:DAYLIGHT
TZOFFSETFROM:+0100
TZOFFSETTO:+0200
TZNAME:CEST
DTSTART:20230326T010000
END:DAYLIGHT
BEGIN:STANDARD
TZOFFSETFROM:+0200
TZOFFSETTO:+0100
TZNAME:CET
DTSTART:20231029T010000
END:STANDARD
END:VTIMEZONE
BEGIN:VEVENT
DTSTART;TZID=Europe/Berlin:20220626T190000
DTEND;TZID=Europe/Berlin:20220626T223000
DTSTAMP:20260421T230224
CREATED:20220215T150030Z
LAST-MODIFIED:20220607T094337Z
UID:4895-1656270000-1656282600@kreativfabrik-wiesbaden.de
SUMMARY:Belvedere / Driven
DESCRIPTION:ACHTUNG: Das Konzert wurde vom 11.03.2022 auf den 23.06.2022 und nun auf den 26.06.2022 verschoben. Bereits gekaufte Tickets behalten ihre Gültigkeit. \n\n\n\nCanadian skate-punk legends BELVEDERE barely need an introduction. They are heroes of fast\, furious\, melodic punk\, who’ve never lost sight of their roots. 2020 marked the 25th year of the band’s history\, but since all of their tours were moved to 2021; the band felt the need to write and record their 6th full-length instalment\, Hindsight Is The Sixth Sense. The album features a furious mix of old and new. The new direction in song writing is attributed to new members Dan Wollach on guitar and Ryan Mumby on bass. The all-familiar speed\, the riffs\, the insightful lyrics and singalong harmonies are all still there thanks to drummer\, Casey Lewis and lead singer & founder\, Steve Rawles.  \n\n\n\nFormed in 1995 and originally never even meant to play a live show\, the trailblazing band from Calgary\, Alberta quickly grew a reputation on the underground punk scene for their blazing fast speed and melodic vocals.  \n\n\n\nTaking their name from the ‘80s sitcom and influenced by the likes of Bad Religion and NOFX\, they released their debut album Because No One Stopped Us in 1998\, following up with three more full length records over the course of their career and leading to tours with Bad Religion\, Strung Out\, Pulley\, Mad Caddies\, Death by Stereo\, Bigwig and several appearances at Warped Tour and Groezrock Festival. The band broke up in late 2005 however\, after seven years apart\, Belvedere finally came back together for a reunion tour in 2012. \n\n\n\n“Hindsight Is The Sixth Sense” comprises of 13 new tracks and will be released on the 14th May with Thousand Islands Records in North America and Lockjaw Records in Europe and the UK. Keep an eye out for rescheduled tour dates in 2021!  \n\n\n\nAls Support spielen für euch die Punkrocker DRIVEN aus Limburg. Ist schon wieder viel zu lange her\, dass sie bei uns auf der Bühne standen. Willkommen zurück! \n\n\n\n\n\n\n\n\n\n\n\n\n\n\n\n\nAuf einen Blick:\n\n\n\n\n\nEinlass:\n\n\n\n19:00 \n\n\n\nBeginn:\n\n\n\n19:30 \n\n\n\nEintritt:\n\n\n\nVVK 12 € zzgl. Geb. | AK 16 € \n\n\n\nTickets:\n\n\n\nTickets kaufen \n\n\n\nFacebook:\n\n\n\nEvent \n\n\n\nWebseiten:\n\n\n\nBELVEDERE \n\n\n\nHomepage \n\n\n\nFacebook \n\n\n\nInstagram \n\n\n\nYouTube \n\n\n\nSpotify \n\n\n\nDRIVEN \n\n\n\nHomepage \n\n\n\nFacebook \n\n\n\nBandcamp \n\n\n\nYouTube \n\n\n\n\n\n\n\n\n\nCorona-Regularien\n\n\n\nDie Veranstaltung findet weiterhin unter der 2G-Plus Regel statt: https://kreativfabrik-wiesbaden.de/corona-regularien/
URL:https://kreativfabrik-wiesbaden.de/veranstaltung/belvedere-2/
CATEGORIES:Konzert,Punk,Rock
ATTACH;FMTTYPE=image/jpeg:https://kreativfabrik-wiesbaden.de/wp-content/uploads/2022/02/2022-06-26-Belvedere_web.jpg
END:VEVENT
END:VCALENDAR