BEGIN:VCALENDAR
VERSION:2.0
PRODID:-//Kreativfabrik - ECPv6.15.20//NONSGML v1.0//EN
CALSCALE:GREGORIAN
METHOD:PUBLISH
X-WR-CALNAME:Kreativfabrik
X-ORIGINAL-URL:https://kreativfabrik-wiesbaden.de
X-WR-CALDESC:Veranstaltungen für Kreativfabrik
REFRESH-INTERVAL;VALUE=DURATION:PT1H
X-Robots-Tag:noindex
X-PUBLISHED-TTL:PT1H
BEGIN:VTIMEZONE
TZID:Europe/Berlin
BEGIN:DAYLIGHT
TZOFFSETFROM:+0100
TZOFFSETTO:+0200
TZNAME:CEST
DTSTART:20210328T010000
END:DAYLIGHT
BEGIN:STANDARD
TZOFFSETFROM:+0200
TZOFFSETTO:+0100
TZNAME:CET
DTSTART:20211031T010000
END:STANDARD
BEGIN:DAYLIGHT
TZOFFSETFROM:+0100
TZOFFSETTO:+0200
TZNAME:CEST
DTSTART:20220327T010000
END:DAYLIGHT
BEGIN:STANDARD
TZOFFSETFROM:+0200
TZOFFSETTO:+0100
TZNAME:CET
DTSTART:20221030T010000
END:STANDARD
BEGIN:DAYLIGHT
TZOFFSETFROM:+0100
TZOFFSETTO:+0200
TZNAME:CEST
DTSTART:20230326T010000
END:DAYLIGHT
BEGIN:STANDARD
TZOFFSETFROM:+0200
TZOFFSETTO:+0100
TZNAME:CET
DTSTART:20231029T010000
END:STANDARD
END:VTIMEZONE
BEGIN:VEVENT
DTSTART;TZID=Europe/Berlin:20220625T193000
DTEND;TZID=Europe/Berlin:20220625T220000
DTSTAMP:20260421T230224
CREATED:20220119T130530Z
LAST-MODIFIED:20220624T170201Z
UID:4785-1656185400-1656194400@kreativfabrik-wiesbaden.de
SUMMARY:Nachholtermin: Nimbus
DESCRIPTION:ACHTUNG: Nachholtermin des ausgefallenen Konzerts vom 15.01.2022. \n\n\n\nPräsentiert von Kooperative new jazz e.V. Wiesbaden: \n\n\n\nDie Band NIMBUS ist in dieser Besetzung erstmals 2015 in Erscheinung getreten. Damals gab es die Idee\, man könnte mit dem Quartett vielleicht nur auf der Bühne herumlungern\, ggf. ein wenig umherschreiten\, und den „Künstlernimbus“ auf das Publikum wirken lassen. Aber ganz so weit sind die Vier noch nicht. Und so reisen sie aus Saarbrücken\, Wiesbaden und Berlin an\, um frei improvisierte\, sich keiner Regel unterwerfende Jetztzeit-Musik zu spielen – eine leidenschaftliche Musik\, die Inspiration aus Free Jazz und experimentellem Rock bezieht\, und sich ganz der Poesie und Spannung des Augenblicks hingibt. \n\n\n\nChristof Thewes: PosauneOlaf Rupp: E-GitarreMartin Schmidt: E-BassJörg Fischer: Schlagzeug \n\n\n\n\n\n\n\n\n\n\nAuf einen Blick:\n\n\n\n\n\nEinlass:\n\n\n\n19:30 \n\n\n\nBeginn:\n\n\n\n20:00 \n\n\n\nEintritt:\n\n\n\nAK 10 € / 8 € / 5 € \n\n\n\nTickets:\n\n\n\nKartenvorbestellung unter tickets@artist-wiesbaden.de \n\n\n\nFacebook:\n\n\n\nEvent-Link \n\n\n\nWebseiten:\n\n\n\n\n\n\n\n\n\nCorona-Regularien\n\n\n\n2G-Regel: Einlass nur mit Impfnachweis/offiziellem Genesungsnachweis plus Ausweis
URL:https://kreativfabrik-wiesbaden.de/veranstaltung/nachholtermin-nimbus/
CATEGORIES:Avantgarde,Jazz,Konzert,Kooperation
ATTACH;FMTTYPE=image/jpeg:https://kreativfabrik-wiesbaden.de/wp-content/uploads/2021/12/2022-01-15-Nimbus-edit.jpg
END:VEVENT
END:VCALENDAR