BEGIN:VCALENDAR
VERSION:2.0
PRODID:-//Kreativfabrik - ECPv6.15.20//NONSGML v1.0//EN
CALSCALE:GREGORIAN
METHOD:PUBLISH
X-WR-CALNAME:Kreativfabrik
X-ORIGINAL-URL:https://kreativfabrik-wiesbaden.de
X-WR-CALDESC:Veranstaltungen für Kreativfabrik
REFRESH-INTERVAL;VALUE=DURATION:PT1H
X-Robots-Tag:noindex
X-PUBLISHED-TTL:PT1H
BEGIN:VTIMEZONE
TZID:Europe/Berlin
BEGIN:DAYLIGHT
TZOFFSETFROM:+0100
TZOFFSETTO:+0200
TZNAME:CEST
DTSTART:20210328T010000
END:DAYLIGHT
BEGIN:STANDARD
TZOFFSETFROM:+0200
TZOFFSETTO:+0100
TZNAME:CET
DTSTART:20211031T010000
END:STANDARD
BEGIN:DAYLIGHT
TZOFFSETFROM:+0100
TZOFFSETTO:+0200
TZNAME:CEST
DTSTART:20220327T010000
END:DAYLIGHT
BEGIN:STANDARD
TZOFFSETFROM:+0200
TZOFFSETTO:+0100
TZNAME:CET
DTSTART:20221030T010000
END:STANDARD
BEGIN:DAYLIGHT
TZOFFSETFROM:+0100
TZOFFSETTO:+0200
TZNAME:CEST
DTSTART:20230326T010000
END:DAYLIGHT
BEGIN:STANDARD
TZOFFSETFROM:+0200
TZOFFSETTO:+0100
TZNAME:CET
DTSTART:20231029T010000
END:STANDARD
END:VTIMEZONE
BEGIN:VEVENT
DTSTART;TZID=Europe/Berlin:20220621T190000
DTEND;TZID=Europe/Berlin:20220621T213000
DTSTAMP:20260421T230203
CREATED:20220518T163639Z
LAST-MODIFIED:20220518T163750Z
UID:5239-1655838000-1655847000@kreativfabrik-wiesbaden.de
SUMMARY:Rabbit Hole
DESCRIPTION:Das Theaterstück „RABBIT HOLE“ steht symbolisch für eine Flucht- und Suchbewegung vom Fremden hin zu dem\, was uns trotz Unterschieden verbindet. \n\n\n\nDas Graue sitzt im Verborgenen\, in seiner eigenen Welt und geht nur bis zur Grenze\, denn dahinter sieht die Welt anders: „An der Grenze gibt es einen Streifen in Dämmergraublau“. Doch der Reiz des Anderen führt zu einer Suchbewegung und das Graue überschreitet die Grenze hin zu den Bunten. Hier scheint alles fremd. Zwischen Grenzüberschreitung\, Grenzen ziehen\, Grenzen mauern und Grenzen sprengen\, lernen die Figuren nach und nach\, dass man nur miteinander leuchten kann. \n\n\n\nIm Konzept von Nora Koschel und Christine Stahl geht es um ein Theater (fast) ohne Worte. Gearbeitet wird mit Kostümfragmenten\, wenigen Requisiten\, selbst komponierter Musik und starkem körperlichen Ausdruck. Im Spannungsfeld von Körper\, Licht und Ton entstehen Bilder\, die die Innenwelt der Figuren erlebbar und sichtbar macht. \n\n\n\nSchauspiel und Regie: Christine Stahl und Nora Koschel \n\n\n\nGefördert durch das Kulturamt der Stadt Wiesbaden. \n\n\n\n\n\n\n\n\n\nAuf einen Blick:\n\n\n\n\n\nEinlass:\n\n\n\n19:00 \n\n\n\nBeginn:\n\n\n\n19:30 \n\n\n\nEintritt:\n\n\n\nAK 15 € | ermäßigt 10 € | Soliticket 20 € \n\n\n\nTickets:\n\n\n\nReservierung unter  reservierung@kreativfabrik-wiesbaden.de \n\n\n\nFacebook:\n\n\n\nEvent \n\n\n\n\n\n\n\n\n\nCorona-Regularien\n\n\n\nDie Veranstaltung findet weiterhin unter der 2G-Plus Regel statt
URL:https://kreativfabrik-wiesbaden.de/veranstaltung/rabbit-hole/
CATEGORIES:Kooperation,Kunst,Theater
ATTACH;FMTTYPE=image/png:https://kreativfabrik-wiesbaden.de/wp-content/uploads/2022/01/Foto-KoschelundStahl-RABBIT-HOLE-2.png
END:VEVENT
END:VCALENDAR