BEGIN:VCALENDAR
VERSION:2.0
PRODID:-//Kreativfabrik - ECPv6.15.20//NONSGML v1.0//EN
CALSCALE:GREGORIAN
METHOD:PUBLISH
X-ORIGINAL-URL:https://kreativfabrik-wiesbaden.de
X-WR-CALDESC:Veranstaltungen für Kreativfabrik
REFRESH-INTERVAL;VALUE=DURATION:PT1H
X-Robots-Tag:noindex
X-PUBLISHED-TTL:PT1H
BEGIN:VTIMEZONE
TZID:Europe/Berlin
BEGIN:DAYLIGHT
TZOFFSETFROM:+0100
TZOFFSETTO:+0200
TZNAME:CEST
DTSTART:20210328T010000
END:DAYLIGHT
BEGIN:STANDARD
TZOFFSETFROM:+0200
TZOFFSETTO:+0100
TZNAME:CET
DTSTART:20211031T010000
END:STANDARD
BEGIN:DAYLIGHT
TZOFFSETFROM:+0100
TZOFFSETTO:+0200
TZNAME:CEST
DTSTART:20220327T010000
END:DAYLIGHT
BEGIN:STANDARD
TZOFFSETFROM:+0200
TZOFFSETTO:+0100
TZNAME:CET
DTSTART:20221030T010000
END:STANDARD
BEGIN:DAYLIGHT
TZOFFSETFROM:+0100
TZOFFSETTO:+0200
TZNAME:CEST
DTSTART:20230326T010000
END:DAYLIGHT
BEGIN:STANDARD
TZOFFSETFROM:+0200
TZOFFSETTO:+0100
TZNAME:CET
DTSTART:20231029T010000
END:STANDARD
END:VTIMEZONE
BEGIN:VEVENT
DTSTART;TZID=Europe/Berlin:20220615T200000
DTEND;TZID=Europe/Berlin:20220615T233000
DTSTAMP:20260421T230437
CREATED:20220429T143646Z
LAST-MODIFIED:20221206T153742Z
UID:5125-1655323200-1655335800@kreativfabrik-wiesbaden.de
SUMMARY:Pogendroblem / Revolution Inc.
DESCRIPTION:ACHTUNG: Aufgrund einer Corona-Erkrankung muss das Konzert leider entfallen. \n\n\n\nWie wollen wir miteinander umgehen? – Anders! So viel steht fest für POGENDROBLEM\, die sich nun fast vollends von provinziellen Jugendlichen aus Bergisch Gladbach zu urbanen Punx transformiert haben. Jetzt geht es darum das Potential\, von dem immer alle reden\, schneller durch falsche Entscheidungen\, unüberlegte Veröffentlichungen\, schlechte Ernährung und zu viele Konzerte zu verballern als Nicolas Cage Rollen zusagt // eure Miete steigt // die Polarkappen schmelzen (you get it)\, bis dass Lohnarbeit und Kleinfamilie sie scheiden. \n\n\n\npogendroblem klingen nach 80s-Punk mit Garage-Einflüssen und poppiger Niedlichkeit. Inhaltlich changiert alles zwischen Angepisstheit\, utopischem Begehren und kühler Hoffnungslosigkeit. Privat sind sie manchmal etwas sassy aber voll nett – außer ihr seid Nazis oder Macker.  \n\n\n\nREVOLUTION INC. aus Mainz/Idar-Oberstein machen den Support. Gerade diesen April haben sie ihre Debutalbum „We Are The Wall“ herausgebracht. Make Punkrock Rage Again! \n\n\n\n\n\n\n\n\nDie Veranstaltung wird gefördert von der Beauftragten der Bundesregierung für Kultur und Medien: https://www.kulturstaatsministerin.de \n\n\n\n\n\n\n\n\n\n\n\n\n\n\n\n\n\n\n\n\n\n\n\n\n\nAuf einen Blick:\n\n\n\n\n\nEinlass:\n\n\n\n20:00 \n\n\n\nBeginn:\n\n\n\n20:30 \n\n\n\nEintritt:\n\n\n\nAK 9 – 12 €  \n\n\n\nTickets:\n\n\n\nAn der Abendkasse \n\n\n\nFacebook:\n\n\n\nEvent \n\n\n\nWebseiten:\n\n\n\nPOGENDROBLEM \n\n\n\nFacebook \n\n\n\nInstagram \n\n\n\nBandcamp \n\n\n\nREVOLUTION INC. \n\n\n\nFacebook \n\n\n\nYouTube \n\n\n\nBandcamp \n\n\n\n\n\n\n\n\n\nCorona-Regularien\n\n\n\n\nDie Veranstaltung findet weiterhin unter der 2G-Plus Regel statt: https://kreativfabrik-wiesbaden.de/corona-regularien/\n\n\n\nCorona regulations apply: attendance only with proof of vaccination/recovery + official test/proof of booster shot
URL:https://kreativfabrik-wiesbaden.de/veranstaltung/pogendroblem/
CATEGORIES:Konzert,Punk,Rock
ATTACH;FMTTYPE=image/jpeg:https://kreativfabrik-wiesbaden.de/wp-content/uploads/2022/04/21_03_pogendroblem_promo40-scaled.jpg
END:VEVENT
END:VCALENDAR