BEGIN:VCALENDAR
VERSION:2.0
PRODID:-//Kreativfabrik - ECPv6.15.20//NONSGML v1.0//EN
CALSCALE:GREGORIAN
METHOD:PUBLISH
X-WR-CALNAME:Kreativfabrik
X-ORIGINAL-URL:https://kreativfabrik-wiesbaden.de
X-WR-CALDESC:Veranstaltungen für Kreativfabrik
REFRESH-INTERVAL;VALUE=DURATION:PT1H
X-Robots-Tag:noindex
X-PUBLISHED-TTL:PT1H
BEGIN:VTIMEZONE
TZID:Europe/Berlin
BEGIN:DAYLIGHT
TZOFFSETFROM:+0100
TZOFFSETTO:+0200
TZNAME:CEST
DTSTART:20210328T010000
END:DAYLIGHT
BEGIN:STANDARD
TZOFFSETFROM:+0200
TZOFFSETTO:+0100
TZNAME:CET
DTSTART:20211031T010000
END:STANDARD
BEGIN:DAYLIGHT
TZOFFSETFROM:+0100
TZOFFSETTO:+0200
TZNAME:CEST
DTSTART:20220327T010000
END:DAYLIGHT
BEGIN:STANDARD
TZOFFSETFROM:+0200
TZOFFSETTO:+0100
TZNAME:CET
DTSTART:20221030T010000
END:STANDARD
BEGIN:DAYLIGHT
TZOFFSETFROM:+0100
TZOFFSETTO:+0200
TZNAME:CEST
DTSTART:20230326T010000
END:DAYLIGHT
BEGIN:STANDARD
TZOFFSETFROM:+0200
TZOFFSETTO:+0100
TZNAME:CET
DTSTART:20231029T010000
END:STANDARD
END:VTIMEZONE
BEGIN:VEVENT
DTSTART;TZID=Europe/Berlin:20220611T200000
DTEND;TZID=Europe/Berlin:20220611T233000
DTSTAMP:20260425T123841
CREATED:20211208T151323Z
LAST-MODIFIED:20220606T161711Z
UID:4715-1654977600-1654990200@kreativfabrik-wiesbaden.de
SUMMARY:Die Schwarzen Schafe / Die Verzogenen Rahmen
DESCRIPTION:DIE SCHWARZEN SCHAFE machen D.I.Y. Punkrock! Viele\, viele Gigs haben die Band durch ganz Europa geführt und 2019 für 10 Konzerte nach Argentinien. Vom kleinen AZ bis zur großen Festivalbühne war und ist alles mit dabei. Es ging nie um die große Karriere\, sondern um die Szene\, und das ist bis heute so. \n\n\n\nDie Schafe singen über die schönen\, aber auch über die bitteren Seiten des Lebens und verpacken diese Texte in Midtempo-Punkrock mit viel Melodie und Mitsing-Faktor (Oh-hohooo kann jeder)! Die Band positioniert sich und hat keinen Bock auf Grauzone\, Faschos\, Sexisten und homophobe Idioten! \n\n\n\nAls Support gibt es für euch DIE VERZOGENEN RAHMEN aus Offenbach\, und wenn unsere Insider-Infos stimmen\, ist das der erste offizielle Gig der Band in dieser Konstellation. Deutschsprachiger Punkrock\, der seine Hausaufgaben gemacht hat! \n\n\n\n\n\n\n\n\nDie Veranstaltung wird gefördert von der Beauftragten der Bundesregierung für Kultur und Medien: https://www.kulturstaatsministerin.de \n\n\n\n\n\n\n\n\n\n\n\n\n\n\n\n\n\n\n\nAuf einen Blick:\n\n\n\n\n\nEinlass:\n\n\n\n20:00 \n\n\n\nBeginn:\n\n\n\n20:30 \n\n\n\nEintritt:\n\n\n\nVVK 7 € zzgl. Geb. | AK 11 € \n\n\n\nTickets:\n\n\n\nTickets kaufen \n\n\n\nFacebook:\n\n\n\nEvent \n\n\n\nWebseiten:\n\n\n\nDIE SCHWARZEN SCHAFE \n\n\n\nHomepage \n\n\n\nFacebook \n\n\n\nDIE VERZOGENEN RAHMEN \n\n\n\nFacebook \n\n\n\n\n\n\n\n\n\nCorona-Regularien\n\n\n\nDie Veranstaltung findet weiterhin unter der 2G-Plus Regel statt: https://kreativfabrik-wiesbaden.de/corona-regularien/
URL:https://kreativfabrik-wiesbaden.de/veranstaltung/die-schwarzen-schafe-die-verzogenen-rahmen/
CATEGORIES:Konzert,Punk,Rock
ATTACH;FMTTYPE=image/jpeg:https://kreativfabrik-wiesbaden.de/wp-content/uploads/2021/12/2022-06-11-DSS-FB.jpg
END:VEVENT
END:VCALENDAR