BEGIN:VCALENDAR
VERSION:2.0
PRODID:-//Kreativfabrik - ECPv6.15.20//NONSGML v1.0//EN
CALSCALE:GREGORIAN
METHOD:PUBLISH
X-ORIGINAL-URL:https://kreativfabrik-wiesbaden.de
X-WR-CALDESC:Veranstaltungen für Kreativfabrik
REFRESH-INTERVAL;VALUE=DURATION:PT1H
X-Robots-Tag:noindex
X-PUBLISHED-TTL:PT1H
BEGIN:VTIMEZONE
TZID:Europe/Berlin
BEGIN:DAYLIGHT
TZOFFSETFROM:+0100
TZOFFSETTO:+0200
TZNAME:CEST
DTSTART:20210328T010000
END:DAYLIGHT
BEGIN:STANDARD
TZOFFSETFROM:+0200
TZOFFSETTO:+0100
TZNAME:CET
DTSTART:20211031T010000
END:STANDARD
BEGIN:DAYLIGHT
TZOFFSETFROM:+0100
TZOFFSETTO:+0200
TZNAME:CEST
DTSTART:20220327T010000
END:DAYLIGHT
BEGIN:STANDARD
TZOFFSETFROM:+0200
TZOFFSETTO:+0100
TZNAME:CET
DTSTART:20221030T010000
END:STANDARD
BEGIN:DAYLIGHT
TZOFFSETFROM:+0100
TZOFFSETTO:+0200
TZNAME:CEST
DTSTART:20230326T010000
END:DAYLIGHT
BEGIN:STANDARD
TZOFFSETFROM:+0200
TZOFFSETTO:+0100
TZNAME:CET
DTSTART:20231029T010000
END:STANDARD
END:VTIMEZONE
BEGIN:VEVENT
DTSTART;TZID=Europe/Berlin:20220604T200000
DTEND;TZID=Europe/Berlin:20220604T233000
DTSTAMP:20260421T231144
CREATED:20220128T113215Z
LAST-MODIFIED:20220521T163818Z
UID:4831-1654372800-1654385400@kreativfabrik-wiesbaden.de
SUMMARY:Detlef / Blue Collar Punks / Loser Youth
DESCRIPTION:Ihr habt die Öko-Eltern in den Funktionsjacken vom Norden mit ihren Blagen satt? Ihr wolltet schon immer wissen\, wie sich Rechtsanwälte lieben? Ihr könnt es kaum abwarten zu erfahren\, wie die vertrackte Situation zwischen Thomas\, Nicole und Markus an der Resterampe ausgeht? Ihr wollt 13 Tonnen Dreck loswerden\, laut BARCLAY JAMES HARVEST! schreien\, obwohl ihr die Band gar nicht so gut findet oder habt einfach nur zu viel geraucht und zu viel getrunken? \n\n\n\nDann ist DETLEF genau das Richtige für euch. Aus den Trümmern der Kölner Urbaner-Asipop-Bewegung entstand im November 2017 Detlef. Detlef ist der legitime Nachfolger und militante Arm von Supernichts! Den beiden kongenialen Punkrock-Routiniers Detlef Löber (Schlagzeug\, Gesang) und Detlef Meurer (Gitarre\, Gesang) von Supernichts und Knochenfabrik schließt sich Detlef Damm (Bass\, Gesang) von Incoming Leergut an. 2021 legten Detlef mit dem zweiten Album „Supervision“ einen geilen Nachfolger hin. Immer noch bissig\, immer noch Detlef. Midtempo trifft flotten Melodypunkrock. Hymne trifft 60-Sekunden-Wutanfall. Klar ist dabei immer: Es muss ein Bruch durch Deutschland gehen! Ein selbstironischer Bruch! \n\n\n\nDer Support:  Schnelle Drums\, verzerrte Gitarren und eingängige Refrains\, dafür stehen BLUE COLLAR PUNKS aus Mainz. Angespornt durch den Punk Sound der frühen 2000er haben sie es sich zur Aufgabe gemacht\, Punk wieder unter die Leute zu bringen. \n\n\n\n\n\n\n\n\nDie Veranstaltung wird gefördert von der Beauftragten der Bundesregierung für Kultur und Medien: https://www.kulturstaatsministerin.de \n\n\n\n\n\n\n\n\n\n\n\n\n\n\n\n\n\n\n\nAuf einen Blick:\n\n\n\n\n\nEinlass:\n\n\n\n20:00 \n\n\n\nBeginn:\n\n\n\n20:30 \n\n\n\nEintritt:\n\n\n\nVVK 7 € zzgl. Geb. | AK 11 € \n\n\n\nTickets:\n\n\n\nTickets kaufen \n\n\n\nFacebook:\n\n\n\nEvent \n\n\n\nWebseiten:\n\n\n\nDETLEF \n\n\n\nFacebook \n\n\n\nBandcamp \n\n\n\nLOSER YOUTH \n\n\n\nHomepage \n\n\n\nFacebook \n\n\n\nBandcamp \n\n\n\nBLUE COLLAR PUNKS \n\n\n\nFacebook \n\n\n\nSpotify \n\n\n\n\n\n\n\n\n\nCorona-Regularien\n\n\n\nDie Veranstaltung findet weiterhin unter der 2G-Plus Regel statt: https://kreativfabrik-wiesbaden.de/corona-regularien/
URL:https://kreativfabrik-wiesbaden.de/veranstaltung/detlef/
CATEGORIES:Konzert,Punk,Rock
ATTACH;FMTTYPE=image/jpeg:https://kreativfabrik-wiesbaden.de/wp-content/uploads/2022/01/2022-06-04-Detlef.jpg
END:VEVENT
END:VCALENDAR