BEGIN:VCALENDAR
VERSION:2.0
PRODID:-//Kreativfabrik - ECPv6.15.20//NONSGML v1.0//EN
CALSCALE:GREGORIAN
METHOD:PUBLISH
X-ORIGINAL-URL:https://kreativfabrik-wiesbaden.de
X-WR-CALDESC:Veranstaltungen für Kreativfabrik
REFRESH-INTERVAL;VALUE=DURATION:PT1H
X-Robots-Tag:noindex
X-PUBLISHED-TTL:PT1H
BEGIN:VTIMEZONE
TZID:Europe/Berlin
BEGIN:DAYLIGHT
TZOFFSETFROM:+0100
TZOFFSETTO:+0200
TZNAME:CEST
DTSTART:20210328T010000
END:DAYLIGHT
BEGIN:STANDARD
TZOFFSETFROM:+0200
TZOFFSETTO:+0100
TZNAME:CET
DTSTART:20211031T010000
END:STANDARD
BEGIN:DAYLIGHT
TZOFFSETFROM:+0100
TZOFFSETTO:+0200
TZNAME:CEST
DTSTART:20220327T010000
END:DAYLIGHT
BEGIN:STANDARD
TZOFFSETFROM:+0200
TZOFFSETTO:+0100
TZNAME:CET
DTSTART:20221030T010000
END:STANDARD
BEGIN:DAYLIGHT
TZOFFSETFROM:+0100
TZOFFSETTO:+0200
TZNAME:CEST
DTSTART:20230326T010000
END:DAYLIGHT
BEGIN:STANDARD
TZOFFSETFROM:+0200
TZOFFSETTO:+0100
TZNAME:CET
DTSTART:20231029T010000
END:STANDARD
END:VTIMEZONE
BEGIN:VEVENT
DTSTART;TZID=Europe/Berlin:20220520T190000
DTEND;TZID=Europe/Berlin:20220520T220000
DTSTAMP:20260422T001814
CREATED:20220327T132801Z
LAST-MODIFIED:20220517T183715Z
UID:5046-1653073200-1653084000@kreativfabrik-wiesbaden.de
SUMMARY:Reise ins Nichts / Theater mit Diskussion
DESCRIPTION:REISE INS NICHTS – eine multimediale Theaterperformancevon Hannah Dickescheid & Moritz Buch \n\n\n\n„Unbequeme geschichtliche Tatbestände […] werden behandelt\, als seien sie keine Tatsachen\,sondern Dinge\, über die man dieser oder jener Meinung sein könne.“ – Hannah Arendt \n\n\n\nWir leben in einer Welt der Widersprüche. Wir nehmen sie hin\, halten sie aus\, affirmieren sie oderversuchen sie aufzulösen. Gesundheit\, Wohnen\, Bildung\, Umwelt – alles Allgemeingüter\, dieständig für wirtschaftliche und private Interessen verwertet werden. Und statt komplexeZusammenhänge zu erkennen\, haben in Deutschland zu Krisenzeiten einfacheVerschwörungsmythen Konjunktur. \n\n\n\nDie Theaterperformance „Reise ins Nichts“ verwebt geschriebenes Wort aus Vergangenheit undGegenwart und verknüpft digitales und im Moment erlebtes Bühnengeschehen\, um eineAuseinandersetzung zu evozieren\, die längst überfällig ist und dennoch hinausgezögert wird.Was können wir aus der Erklärung eines 18-Jährigen im Amtsgericht Hamburg-Altona vor demHintergrund des G20-Gipfels 2017 lernen? Können uns Zeitzeugenberichte von über 80 Jahrennoch berühren oder sind sie mittlerweile fad‘ geworden? Zu oft gehört\, zu oft gesehen?Klimakrise\, Verschwörungsmythen\, Politik und Wahrheit. Hat das was mit mir zu tun? Was hat dasmit mir zu tun? Wie lange kann ich ein unangenehmes Gefühl aushalten\, bis ich in Handlungkomme? \n\n\n\nDISKUSSION: Zwischen Avantgarde und Bürgerlichkeit – Podiumsgespräch über progressive und emanzipatorische Potenziale von Theater (um 20:45 / im Anschluss an die Vorstellung von REISE INS NICHTS) \n\n\n\nEine Welt im Wandel!? Doch wo wollen wir hin? Welche gesellschaftlichen Aufgaben hat Theater? Was kann Theater heute leisten? Was muss Theater leisten? \n\n\n\nTheater ist seit jeher ein Raum der öffentlichen Auseinandersetzung und Meinungsbildung. Ebenso\, wie ein Raum\, der Emotionen evozieren\, Zusammenhänge herstellen und Reflexion befeuern kann. Doch Öffentlichkeit und Rezeptionsverhalten verändern\, sich genauso\, wie die Gesellschaft um sie herum. Nicht zuletzt die Pandemie hat die Verschiebung der öffentlichen Auseinandersetzung ins Digitale und den Rückzug ins Private befeuert. So braucht es mehr denn je experimentelle Räume\, die zum Denken\, über die Grenzen des Alltäglichen hinaus\, anregen und Visionen einer besseren Welt erproben. \n\n\n\nDiskutiert mit uns\, wie unsere eigene Kopräsenz in im-Moment-Stattfindendem zu uns selbst und zu unserer Welt der Gegenwart uns Zugänge liefern kann\, die es zu ergründen und zu kultivieren gilt. \n\n\n\nAuf dem Podium: \n\n\n\nDas Team von REISE INS NICHTS – eine multimediale Theaterperformance \n\n\n\nBarbara Haker (Emma und Co. Die Theaterwerkstatt\, Freies Theater Wiesbaden\, Kandidatin für den Kulturbeirat)Sten Volkemer (Dramaturg und Philosoph) \n\n\n\n\n\n\n\n\n\n\nAuf einen Blick:\n\n\n\n\n\nEinlass:\n\n\n\n19:00 \n\n\n\nBeginn:\n\n\n\n19:30 \n\n\n\nEintritt:\n\n\n\n15 € / 10 € ermäßigt / 20 € Soliticket \n\n\n\nTickets:\n\n\n\nTickets reservieren \n\n\n\nFacebook:\n\n\n\nEvent \n\n\n\n\n\n\n\n\n\nCORONA-REGULARIEN\n\n\n\nDie Veranstaltung findet weiterhin unter der 2G-Plus Regel statt
URL:https://kreativfabrik-wiesbaden.de/veranstaltung/reise-ins-nichts-2/
CATEGORIES:Kunst,Theater
ATTACH;FMTTYPE=image/png:https://kreativfabrik-wiesbaden.de/wp-content/uploads/2022/03/2022-05_Theater-Moso.png
END:VEVENT
END:VCALENDAR