BEGIN:VCALENDAR
VERSION:2.0
PRODID:-//Kreativfabrik - ECPv6.15.20//NONSGML v1.0//EN
CALSCALE:GREGORIAN
METHOD:PUBLISH
X-WR-CALNAME:Kreativfabrik
X-ORIGINAL-URL:https://kreativfabrik-wiesbaden.de
X-WR-CALDESC:Veranstaltungen für Kreativfabrik
REFRESH-INTERVAL;VALUE=DURATION:PT1H
X-Robots-Tag:noindex
X-PUBLISHED-TTL:PT1H
BEGIN:VTIMEZONE
TZID:Europe/Berlin
BEGIN:DAYLIGHT
TZOFFSETFROM:+0100
TZOFFSETTO:+0200
TZNAME:CEST
DTSTART:20210328T010000
END:DAYLIGHT
BEGIN:STANDARD
TZOFFSETFROM:+0200
TZOFFSETTO:+0100
TZNAME:CET
DTSTART:20211031T010000
END:STANDARD
BEGIN:DAYLIGHT
TZOFFSETFROM:+0100
TZOFFSETTO:+0200
TZNAME:CEST
DTSTART:20220327T010000
END:DAYLIGHT
BEGIN:STANDARD
TZOFFSETFROM:+0200
TZOFFSETTO:+0100
TZNAME:CET
DTSTART:20221030T010000
END:STANDARD
BEGIN:DAYLIGHT
TZOFFSETFROM:+0100
TZOFFSETTO:+0200
TZNAME:CEST
DTSTART:20230326T010000
END:DAYLIGHT
BEGIN:STANDARD
TZOFFSETFROM:+0200
TZOFFSETTO:+0100
TZNAME:CET
DTSTART:20231029T010000
END:STANDARD
END:VTIMEZONE
BEGIN:VEVENT
DTSTART;TZID=Europe/Berlin:20220510T193000
DTEND;TZID=Europe/Berlin:20220510T223000
DTSTAMP:20260423T121608
CREATED:20220126T164908Z
LAST-MODIFIED:20221206T153906Z
UID:4810-1652211000-1652221800@kreativfabrik-wiesbaden.de
SUMMARY:DBI#32: D'Angerous / The Rhino
DESCRIPTION:ACHTUNG: Wegen der Erkrankung eines Bandmitglieds muss die Show leider kurzfristig ausfallen. Wir arbeiten an einem Ersatztermin; gekaufte Tickets behalten vorerst ihre Gültigkeit. \n\n\n\nPräsentiert von Doom Buddies Inc.: \n\n\n\nD’ANGEROUS: das ist laute\, ausschweifende Gitarrenmusik – gefährlich genug um mit einem Minimum an Klischees und Reminiszenzen an die Dinosaurier der letzten Dekaden auszukommen. Diese Berliner Band (u.a. Ex-GODS OF BLITZ) mit Ihrer rostig-glänzenden Urgewalt aus Neuseeland am Mikrofon befindet sich auf einer Mission um zu bezeugen\, was keines Beweises bedarf – nämlich dass eine Gitarre-Bass-Schlagzeug-Gesang-Besetzung immer noch unschlagbar sein kann. Rohe Energie\, die man immer lauter und lauter aufdrehen will! \n\n\n\n„Du musst spielen\, was die Leute hören wollen“?- THE RHINO ist das\, wovon du gar nicht weißt\, dass du es willst! Rock’n’Roll-Sound mit all der Energie\, die ein Trio aufbringen kann- wir sind keine Band\, die nebenbei passiert\, The Rhino ist laut. Brüllender Bass\, preschende Drums\, dreckige Gitarre und laute Herzen von innen nach außen gekehrt: Entstaubter Punk und harter Bluesrock mit einem Druck\, der aus der Garage in die Welt will! \n\n\n\n\n\n\n\n\n\n\n\n\n\n\n\n\nAuf einen Blick:\n\n\n\n\n\nEinlass:\n\n\n\n19:30 \n\n\n\nBeginn:\n\n\n\n20:00 \n\n\n\nEintritt:\n\n\n\nVVK 8 € zzgl. Geb. | AK 12 € \n\n\n\nTickets:\n\n\n\nTickets kaufen \n\n\n\nFacebook:\n\n\n\nEvent \n\n\n\nWebseiten:\n\n\n\nD’ANGEROUS \n\n\n\nHomepage \n\n\n\nFacebook \n\n\n\nYouTube \n\n\n\nTHE RHINO \n\n\n\nHomepageFacebook \n\n\n\nInstagramSpotify \n\n\n\n\n\n\n\n\n\nCorona-Regularien\n\n\n\n\nDie Veranstaltung findet weiterhin unter 2G-Plus statt
URL:https://kreativfabrik-wiesbaden.de/veranstaltung/dangerous/
CATEGORIES:Alternative,Blues,Konzert,Rock,Stoner Rock
ATTACH;FMTTYPE=image/jpeg:https://kreativfabrik-wiesbaden.de/wp-content/uploads/2022/01/2022-05-10-Dangerous_web.jpg
END:VEVENT
END:VCALENDAR