BEGIN:VCALENDAR
VERSION:2.0
PRODID:-//Kreativfabrik - ECPv6.15.20//NONSGML v1.0//EN
CALSCALE:GREGORIAN
METHOD:PUBLISH
X-ORIGINAL-URL:https://kreativfabrik-wiesbaden.de
X-WR-CALDESC:Veranstaltungen für Kreativfabrik
REFRESH-INTERVAL;VALUE=DURATION:PT1H
X-Robots-Tag:noindex
X-PUBLISHED-TTL:PT1H
BEGIN:VTIMEZONE
TZID:Europe/Berlin
BEGIN:DAYLIGHT
TZOFFSETFROM:+0100
TZOFFSETTO:+0200
TZNAME:CEST
DTSTART:20210328T010000
END:DAYLIGHT
BEGIN:STANDARD
TZOFFSETFROM:+0200
TZOFFSETTO:+0100
TZNAME:CET
DTSTART:20211031T010000
END:STANDARD
BEGIN:DAYLIGHT
TZOFFSETFROM:+0100
TZOFFSETTO:+0200
TZNAME:CEST
DTSTART:20220327T010000
END:DAYLIGHT
BEGIN:STANDARD
TZOFFSETFROM:+0200
TZOFFSETTO:+0100
TZNAME:CET
DTSTART:20221030T010000
END:STANDARD
BEGIN:DAYLIGHT
TZOFFSETFROM:+0100
TZOFFSETTO:+0200
TZNAME:CEST
DTSTART:20230326T010000
END:DAYLIGHT
BEGIN:STANDARD
TZOFFSETFROM:+0200
TZOFFSETTO:+0100
TZNAME:CET
DTSTART:20231029T010000
END:STANDARD
END:VTIMEZONE
BEGIN:VEVENT
DTSTART;TZID=Europe/Berlin:20220506T200000
DTEND;TZID=Europe/Berlin:20220506T233000
DTSTAMP:20260423T104816
CREATED:20211220T104026Z
LAST-MODIFIED:20220514T151518Z
UID:4752-1651867200-1651879800@kreativfabrik-wiesbaden.de
SUMMARY:DBI#31: Dirty Sound Magnet
DESCRIPTION:Präsentiert von DOOM BUDDIES INC. \n\n\n\nDIRTY SOUND MAGNET: Nach über 300 Shows in ganz Europa\, zwei Studioalben und einem Live-Album präsentiert das Schweizer Vintage-Psych-Rock-Power-Trio sein neustes Album. „DSM-III (erhältlich Anfang 2022 bei Hummus Records)“. \n\n\n\nDie DNA der Band lässt sich zurückverfolgen in die Zeiten der „Golden Age of Rock“ (60er\, 70er). Aber anstatt vergangene Helden zu kopieren\, arbeitete Dirty Sound Magnet hart daran\, neue Wege zu gehen. Die Idee der Band ist ihre Grooves\, ihre Energie und ihre instrumentale Virtuosität\, die oft mit Led Zeppelin verglichen wird\, mit einer härteren Version von Pink Floyd und der Mystik von The Doors zu vereinen. Mit modernen psychologischen Einflüssen (Tame Impala\, King Gizzard and the Lizzard Wizard\, …) und sarkastischen Texten\, welche die heutigen sozialen Probleme beleuchten\, ist die Dirty Sound Magnet-Zauberformel komplett. \n\n\n\nLive ist die Band für ihre kinetischen Performances und ihre starke Bühnenpräsenz bekannt. Die Dynamik der Auftritte reichen von „voller Kraft voraus“ bis hin zu „Momenten der Stille“. Das jahrelange Touren hat die Band eins gelehrt\, Nacht für Nacht solide Shows zu liefern und gleichzeitig Raum für das Unerwartete zu lassen. Jede Show ist ein einzigartiges Erlebnis für die Band und das Publikum. \n\n\n\nBUSHFIRE mussten leider absagen. \n\n\n\n\n\n\n\n\nDie Veranstaltung wird gefördert von der Beauftragten der Bundesregierung für Kultur und Medien: https://www.kulturstaatsministerin.de \n\n\n\n\n\n\n\n\n\n\n\n\n\n\n\n\n\n\n\nAuf einen Blick:\n\n\n\n\n\nEinlass:\n\n\n\n20:00 \n\n\n\nBeginn:\n\n\n\n20:30 \n\n\n\nEintritt:\n\n\n\nVVK 9 € zzgl. Geb. | AK 13 € \n\n\n\nTickets:\n\n\n\nTickets kaufen \n\n\n\nFacebook:\n\n\n\nEvent \n\n\n\nWebseiten:\n\n\n\nDIRTY SOUND MAGNET \n\n\n\nHomepage \n\n\n\nFacebook \n\n\n\nSpotify \n\n\n\nInstagram \n\n\n\n\n\n\n\n\n\nCorona-Regularien\n\n\n\nDie Veranstaltung findet weiterhin unter 2G-Plus statt
URL:https://kreativfabrik-wiesbaden.de/veranstaltung/dirty-sound-magnet-bushfire/
CATEGORIES:Blues,Konzert,Prog Rock,Rock,Stoner Rock
ATTACH;FMTTYPE=image/jpeg:https://kreativfabrik-wiesbaden.de/wp-content/uploads/2021/12/2022-05-06-dsm-trois-perso-fleurs-rectangle-psych-de-cote.jpg
END:VEVENT
END:VCALENDAR