BEGIN:VCALENDAR
VERSION:2.0
PRODID:-//Kreativfabrik - ECPv6.15.20//NONSGML v1.0//EN
CALSCALE:GREGORIAN
METHOD:PUBLISH
X-WR-CALNAME:Kreativfabrik
X-ORIGINAL-URL:https://kreativfabrik-wiesbaden.de
X-WR-CALDESC:Veranstaltungen für Kreativfabrik
REFRESH-INTERVAL;VALUE=DURATION:PT1H
X-Robots-Tag:noindex
X-PUBLISHED-TTL:PT1H
BEGIN:VTIMEZONE
TZID:Europe/Berlin
BEGIN:DAYLIGHT
TZOFFSETFROM:+0100
TZOFFSETTO:+0200
TZNAME:CEST
DTSTART:20210328T010000
END:DAYLIGHT
BEGIN:STANDARD
TZOFFSETFROM:+0200
TZOFFSETTO:+0100
TZNAME:CET
DTSTART:20211031T010000
END:STANDARD
BEGIN:DAYLIGHT
TZOFFSETFROM:+0100
TZOFFSETTO:+0200
TZNAME:CEST
DTSTART:20220327T010000
END:DAYLIGHT
BEGIN:STANDARD
TZOFFSETFROM:+0200
TZOFFSETTO:+0100
TZNAME:CET
DTSTART:20221030T010000
END:STANDARD
BEGIN:DAYLIGHT
TZOFFSETFROM:+0100
TZOFFSETTO:+0200
TZNAME:CEST
DTSTART:20230326T010000
END:DAYLIGHT
BEGIN:STANDARD
TZOFFSETFROM:+0200
TZOFFSETTO:+0100
TZNAME:CET
DTSTART:20231029T010000
END:STANDARD
END:VTIMEZONE
BEGIN:VEVENT
DTSTART;TZID=Europe/Berlin:20220505T193000
DTEND;TZID=Europe/Berlin:20220505T223000
DTSTAMP:20260423T121609
CREATED:20211104T170123Z
LAST-MODIFIED:20220504T183443Z
UID:4621-1651779000-1651789800@kreativfabrik-wiesbaden.de
SUMMARY:Weakened Friends / Snake Eyes
DESCRIPTION:Foto: Adam Parshall\n\n\n\n\nPräsentiert vom Schlachthof Wiesbaden:  \n\n\n\nAuf ihrem neuen Album „QUITTER“ reflektiert das Indie-Rock Trio WEAKENED FRIENDS aus Portland\, Maine schonungslos\, wie es ist\, seine Brötchen mit der Musik zu verdienen. Es geht um zerstörte Freundschaften\, um mangelndes Selbstwertgefühl\, um das Burnout von der eigenen Kunst\, das einen verschluckt. Songwriterin\, Gitarristin und Sängerin Sonia Sturino erzeugt mit ihrer Mitstreiterin Annie Hoffmann (Bass/Gesang) und Drummer Adam Hand einen emotionalen\, unglaublichen direkten und mitreißenden Sound zwischen Indierock und melodischem Punk. Mal heavy und fuzzig\, mal eher Slacker und verspielt. \n\n\n\nIm Zentrum der Platte schwebt das Damoklesschwert: Warum nicht einfach mit der Musik aufhören\, und sich einfach einen „richtigen Job“ suchen?! Im Titeltrack „Quitter“ ringt Sturino mit ihrer Beziehung zu ihrer eigenen Musik: „I love it / but it never really feels okay“ – Doch trotz aller Zweifel ist Aufgeben natürlich wirklich keine Option. Die Ehrlichkeit\, mit der WEAKENED FRIENDS sich und ihr Umfeld reflektieren\, ist dennoch erfrischend\, machen die meisten Bands doch lieber auf dicke Hose und heile Welt. \n\n\n\n„QUITTER“ erscheint am 19.11.2021 über Big Scary Monsters – Im April / Mai kommen WEAKENED FRIENDS auf ausgiebige Tour nach Deutschland! Support kommt von SNAKE EYES aus UK. \n\n\n\n\n\n\n\n\n\n\n\n\n\n\n\n\nAuf einen Blick:\n\n\n\n\n\nEinlass:\n\n\n\n19:30 \n\n\n\nBeginn:\n\n\n\n20:00 \n\n\n\nEintritt:\n\n\n\nVVK 13 € zzgl. Geb. | AK 17 € \n\n\n\nTickets:\n\n\n\nTickets kaufen \n\n\n\nFacebook:\n\n\n\nEvent \n\n\n\nWebseiten:\n\n\n\nWEAKENED FRIENDS \n\n\n\nHomepage \n\n\n\nBandcamp \n\n\n\nFacebook \n\n\n\nInstagram \n\n\n\nSNAKE EYES \n\n\n\nHomepage \n\n\n\nFacebook \n\n\n\n\n\n\n\n\n\nCorona-Regularien\n\n\n\nAuf Grundlage des Bundesinfektionsschutzgesetzes vom Land Hessen sind keine weiteren Corona-Test-Nachweise mehr nötig
URL:https://kreativfabrik-wiesbaden.de/veranstaltung/weakened-friends-snake-eyes-2/
CATEGORIES:Indie,Konzert,Punk,Rock
ATTACH;FMTTYPE=image/jpeg:https://kreativfabrik-wiesbaden.de/wp-content/uploads/2021/11/2022-05-05-WeakenedFriendsPromo5162021-37-by-Adam-Parshall_web.jpg
END:VEVENT
END:VCALENDAR