BEGIN:VCALENDAR
VERSION:2.0
PRODID:-//Kreativfabrik - ECPv6.15.20//NONSGML v1.0//EN
CALSCALE:GREGORIAN
METHOD:PUBLISH
X-ORIGINAL-URL:https://kreativfabrik-wiesbaden.de
X-WR-CALDESC:Veranstaltungen für Kreativfabrik
REFRESH-INTERVAL;VALUE=DURATION:PT1H
X-Robots-Tag:noindex
X-PUBLISHED-TTL:PT1H
BEGIN:VTIMEZONE
TZID:Europe/Berlin
BEGIN:DAYLIGHT
TZOFFSETFROM:+0100
TZOFFSETTO:+0200
TZNAME:CEST
DTSTART:20210328T010000
END:DAYLIGHT
BEGIN:STANDARD
TZOFFSETFROM:+0200
TZOFFSETTO:+0100
TZNAME:CET
DTSTART:20211031T010000
END:STANDARD
BEGIN:DAYLIGHT
TZOFFSETFROM:+0100
TZOFFSETTO:+0200
TZNAME:CEST
DTSTART:20220327T010000
END:DAYLIGHT
BEGIN:STANDARD
TZOFFSETFROM:+0200
TZOFFSETTO:+0100
TZNAME:CET
DTSTART:20221030T010000
END:STANDARD
BEGIN:DAYLIGHT
TZOFFSETFROM:+0100
TZOFFSETTO:+0200
TZNAME:CEST
DTSTART:20230326T010000
END:DAYLIGHT
BEGIN:STANDARD
TZOFFSETFROM:+0200
TZOFFSETTO:+0100
TZNAME:CET
DTSTART:20231029T010000
END:STANDARD
END:VTIMEZONE
BEGIN:VEVENT
DTSTART;TZID=Europe/Berlin:20220413T190000
DTEND;TZID=Europe/Berlin:20220413T220000
DTSTAMP:20260422T024039
CREATED:20220329T092855Z
LAST-MODIFIED:20220410T135739Z
UID:5057-1649876400-1649887200@kreativfabrik-wiesbaden.de
SUMMARY:Boycott Qatar 2022
DESCRIPTION:Infoveranstaltung „BoycottQatar2022“ mit dem Fanprojekt Wehen WiesbadenAm Mittwochabend den 13.04.2022 lädt das Fanprojekt Wehen Wiesbaden in der Kreativfabrik im Zeichen der anstehenden FIFA Fußball WM 2022 in Katar zu einer Infoveranstaltung ein. Das Fanprojekt Wehen Wiesbaden möchte Interessierten einen Einblick in die zahlreichen Facetten der im Winter stattfindenden Fußball-WM in Katar gewähren. Hierfür wird Stefan Schirmer vom Verein FC Ente Bagdad in Mainz\, stellvertretend für die Initiative #BoycottQatar2022\, referieren und sich den Fragen des Publikums im Dialog stellen. Die Initiative zielt auf das Aufzeigen der Schattenseiten der WM in Katar und die Sensibilisierung damit zusammenhängender Themen ab.Beleuchtet werden unter anderem die Menschenrechtslage und Lebensbedingungen der Arbeitsmigrant*innen in Katar\, die Rolle der FIFA\, beziehungsweise der Sponsoren\, sowie das autoritär regierte Gastgeberland und dessen internationaler Einfluss auf den Weltsport. Für alle Interessierten öffnet die Kreativfabrik ab 19:00 Uhr. Start der Veranstaltung ist um 19:30 Uhr. \n\n\n\nDer Eintritt ist kostenlos. \n\n\n\n#boycottqatar2022 \n\n\n\n#fcentebagdad \n\n\n\n#fanprojektwehenwiesbaden \n\n\n\nMoja Wiesbaden \n\n\n\n\n\n\n\n\n\n\nAuf einen Blick:\n\n\n\n\n\nEinlass:\n\n\n\n19:00 \n\n\n\nBeginn:\n\n\n\n19:30 \n\n\n\nEintritt:\n\n\n\nfrei \n\n\n\nTickets:\n\n\n\nBegrenzte Platzanzahl – um Voranmeldung untert.eichel@moja-wiesbaden.de wird gebeten. \n\n\n\nFacebook:\n\n\n\nEvent \n\n\n\nWebseiten:\n\n\n\nFANPROJEKT WEHEN WIESBADEN \n\n\n\nLinktree \n\n\n\n\n\n\n\n\n\nCorona-Regularien\n\n\n\ntba
URL:https://kreativfabrik-wiesbaden.de/veranstaltung/boycott-qatar-2022/
CATEGORIES:Bildung,Diskussion,Kooperation,Lesung,Vortrag
ATTACH;FMTTYPE=image/png:https://kreativfabrik-wiesbaden.de/wp-content/uploads/2022/03/2022-03-29-11_09_58-BoycottQatar-Logo.jpg-717×378-1.png
END:VEVENT
END:VCALENDAR