BEGIN:VCALENDAR
VERSION:2.0
PRODID:-//Kreativfabrik - ECPv6.15.20//NONSGML v1.0//EN
CALSCALE:GREGORIAN
METHOD:PUBLISH
X-ORIGINAL-URL:https://kreativfabrik-wiesbaden.de
X-WR-CALDESC:Veranstaltungen für Kreativfabrik
REFRESH-INTERVAL;VALUE=DURATION:PT1H
X-Robots-Tag:noindex
X-PUBLISHED-TTL:PT1H
BEGIN:VTIMEZONE
TZID:Europe/Berlin
BEGIN:DAYLIGHT
TZOFFSETFROM:+0100
TZOFFSETTO:+0200
TZNAME:CEST
DTSTART:20210328T010000
END:DAYLIGHT
BEGIN:STANDARD
TZOFFSETFROM:+0200
TZOFFSETTO:+0100
TZNAME:CET
DTSTART:20211031T010000
END:STANDARD
BEGIN:DAYLIGHT
TZOFFSETFROM:+0100
TZOFFSETTO:+0200
TZNAME:CEST
DTSTART:20220327T010000
END:DAYLIGHT
BEGIN:STANDARD
TZOFFSETFROM:+0200
TZOFFSETTO:+0100
TZNAME:CET
DTSTART:20221030T010000
END:STANDARD
BEGIN:DAYLIGHT
TZOFFSETFROM:+0100
TZOFFSETTO:+0200
TZNAME:CEST
DTSTART:20230326T010000
END:DAYLIGHT
BEGIN:STANDARD
TZOFFSETFROM:+0200
TZOFFSETTO:+0100
TZNAME:CET
DTSTART:20231029T010000
END:STANDARD
END:VTIMEZONE
BEGIN:VEVENT
DTSTART;TZID=Europe/Berlin:20220403T190000
DTEND;TZID=Europe/Berlin:20220403T223000
DTSTAMP:20260422T023953
CREATED:20220119T134821Z
LAST-MODIFIED:20221206T153931Z
UID:4791-1649012400-1649025000@kreativfabrik-wiesbaden.de
SUMMARY:TAMAS
DESCRIPTION:Präsentiert vom Schlachthof Wiesbaden \n\n\n\nDie Berliner Band Tamas ist die jüngsre Inkarnation von Tamas Bednanits\, um seine Botschaft auch außerhalb der Rap-Szene zu verbreiten\, in der der Mann aus Berlin Wedding seit Jahr und Tag zuhause ist. Die Waffen seiner Wahl: Harte Gitarren\, tightes Doublekick Drumming\, schnelle Raps und wütende Hardcore-Shouts. Touren mit Calejon und GWLT haben seine Alben „Kopfsteinpflaster“ und „Hysterie“ in den deutschen Charts platziert. Grimmig wie immer\, hart wie immer\, skrupellos wie immer. Das ist Tamas\, egal\, ob als Tamas oder mit seiner Horrorcore-Kombo ZOMBIEZ. Sein Homie DCVDNS beschreibt die imposante Erscheinung Tamas‘ mit den Worten: „Zwei Meter hoch\, ein Meter breit\, zum Frühstück schon zwei Faxe“. Privat soll der Mann das Herz auf jeden Fall am rechten Fleck tragen und supernett sein. \n\n\n\n\n\n\n\n\n\n\n\n\n\n\n\n\nAuf einen Blick:\n\n\n\n\n\nEinlass:\n\n\n\n19:00 \n\n\n\nBeginn:\n\n\n\n19:30 \n\n\n\nEintritt:\n\n\n\nVVK 12 € (zzgl. Geb. / inkl. Bus & Bahn) | AK 15 € \n\n\n\nTickets:\n\n\n\nTickets kaufen \n\n\n\nFacebook:\n\n\n\nEvent \n\n\n\nWebseiten:\n\n\n\nTAMAS \n\n\n\nInstagram \n\n\n\n\n\n\n\n\n\nCorona-Regularien\n\n\n\n\nDie Veranstaltung findet als 2G-Plus statt: Einlass nur durch Nachweis der Impfung/Genesung + Vorlage eines tagesaktuellen offiziellen negativen Schnelltests + Ausweis (was als 2G-Plus in Hessen gilt: Link.)\n\n\n\nkeine Maskenpflicht\n\n\n\nunbestuhlt bei reduzierter Kapazität
URL:https://kreativfabrik-wiesbaden.de/veranstaltung/tamas/
CATEGORIES:Hip Hop,Konzert,Punk,Rock
ATTACH;FMTTYPE=image/jpeg:https://kreativfabrik-wiesbaden.de/wp-content/uploads/2022/01/2022-04-03-TAMAS_web.jpg
END:VEVENT
END:VCALENDAR