BEGIN:VCALENDAR
VERSION:2.0
PRODID:-//Kreativfabrik - ECPv6.15.20//NONSGML v1.0//EN
CALSCALE:GREGORIAN
METHOD:PUBLISH
X-ORIGINAL-URL:https://kreativfabrik-wiesbaden.de
X-WR-CALDESC:Veranstaltungen für Kreativfabrik
REFRESH-INTERVAL;VALUE=DURATION:PT1H
X-Robots-Tag:noindex
X-PUBLISHED-TTL:PT1H
BEGIN:VTIMEZONE
TZID:Europe/Berlin
BEGIN:DAYLIGHT
TZOFFSETFROM:+0100
TZOFFSETTO:+0200
TZNAME:CEST
DTSTART:20210328T010000
END:DAYLIGHT
BEGIN:STANDARD
TZOFFSETFROM:+0200
TZOFFSETTO:+0100
TZNAME:CET
DTSTART:20211031T010000
END:STANDARD
BEGIN:DAYLIGHT
TZOFFSETFROM:+0100
TZOFFSETTO:+0200
TZNAME:CEST
DTSTART:20220327T010000
END:DAYLIGHT
BEGIN:STANDARD
TZOFFSETFROM:+0200
TZOFFSETTO:+0100
TZNAME:CET
DTSTART:20221030T010000
END:STANDARD
BEGIN:DAYLIGHT
TZOFFSETFROM:+0100
TZOFFSETTO:+0200
TZNAME:CEST
DTSTART:20230326T010000
END:DAYLIGHT
BEGIN:STANDARD
TZOFFSETFROM:+0200
TZOFFSETTO:+0100
TZNAME:CET
DTSTART:20231029T010000
END:STANDARD
END:VTIMEZONE
BEGIN:VEVENT
DTSTART;TZID=Europe/Berlin:20220225T200000
DTEND;TZID=Europe/Berlin:20220225T233000
DTSTAMP:20260422T120023
CREATED:20210212T133943Z
LAST-MODIFIED:20220209T162016Z
UID:3864-1645819200-1645831800@kreativfabrik-wiesbaden.de
SUMMARY:Fällt aus: Rosalie Cunningham
DESCRIPTION:ACHTUNG: Die Tour wird auf unbestimmte Zeit verschoben (wahrscheinlich auf Frühjahr 2023). Wir arbeiten an einem Ersatztermin. \n\n\n\n„Rosalie Cunningham ist ein Rockstar… sie strahlt ein müheloses Charisma und ruhiges Selbstvertrauen aus. Die Musik\, die sie macht\, ist akribisch\, aber liebevoll gestaltet\, um den Verstand zu sprengen.“ Dom Lawson (Metal Hammer) sagt weiterhin\, „Cunninghams Vision ist eine goldene Eintrittskarte durch die Schluchten der Fantasie\, ein Guckloch durch die Türen der Wahrnehmung\, ein Fest der Kapitulation …“ \n\n\n\nSeit ihre berühmte Band PURSON ihren letzten Auftritt im Dezember 2016 spielte\, hat Sängerin\, Songwriterin und Multiinstrumentalistin Rosalie Cunningham ihre Karriere leise neu erfunden und geht aus ihrem selbst auferlegten „musikalischen Winterschlaf“ als visionäre Solokünstlerin hervor\, die sie immer war. Rosalies gleichnamiges Debütalbum – das am 26. Juli 2019 erschien – ist das Ergebnis langer Reflektion und enthält ihr bisher stärkstes und gewagtestes Songwriting\, angefangen mit einer dreiminütigen Blackbird-ähnlichen Verbeugung vor ihrem kreativen Helden Sir Paul McCartney bis hin zu einer epischen Prog-Rock-Saga\, die den Hörer auf die Mutter aller Klangreisen entführen wird. \n\n\n\n\n\n\n\n\n\n\n\n\n\n\n\n\nAuf einen Blick:\n\n\n\n\n\nEinlass:\n\n\n\n20:00 \n\n\n\nBeginn:\n\n\n\n20:30 \n\n\n\nEintritt:\n\n\n\nVVK 14\,20 € inkl. Geb. | AK 16 € \n\n\n\nTickets:\n\n\n\nTickets kaufen \n\n\n\nFacebook:\n\n\n\nEvent \n\n\n\nWebseiten:\n\n\n\nRosalie Cunningham auf Facebook \n\n\n\nHomepage \n\n\n\n \n\n\n\n\n\n\n\n\n\nCorona-Regularien\n\n\n\nDer Mindestabstand zu anderen Personen von mind. 1\,5 m ist einzuhaltenAm Einlass müssen wir die Kontaktdaten aller Gäste aufnehmen; diese werden nach der vorgeschriebenen Aufbewahrungsdauer vernichtetDas Konzert findet bestuhlt statt; es gibt eine PlatzanweisungLaufwege werden durch Bodenmarkierungen angezeigtBeim Einlass und Platzeinnehmen sowie bei Gängen zu Klo oder Theke\, wobei eine Wahrung des Mindestabstands nicht absolut garantiert werden kann\, ist ein Mund-Nase-Schutz zu tragen
URL:https://kreativfabrik-wiesbaden.de/veranstaltung/rosalie-cunningham/
CATEGORIES:Alternative,Indie,Konzert
ATTACH;FMTTYPE=image/jpeg:https://kreativfabrik-wiesbaden.de/wp-content/uploads/2021/02/2022-02-25-Rosalie-Cunningham-web.jpg
END:VEVENT
END:VCALENDAR