BEGIN:VCALENDAR
VERSION:2.0
PRODID:-//Kreativfabrik - ECPv6.15.20//NONSGML v1.0//EN
CALSCALE:GREGORIAN
METHOD:PUBLISH
X-ORIGINAL-URL:https://kreativfabrik-wiesbaden.de
X-WR-CALDESC:Veranstaltungen für Kreativfabrik
REFRESH-INTERVAL;VALUE=DURATION:PT1H
X-Robots-Tag:noindex
X-PUBLISHED-TTL:PT1H
BEGIN:VTIMEZONE
TZID:Europe/Berlin
BEGIN:DAYLIGHT
TZOFFSETFROM:+0100
TZOFFSETTO:+0200
TZNAME:CEST
DTSTART:20210328T010000
END:DAYLIGHT
BEGIN:STANDARD
TZOFFSETFROM:+0200
TZOFFSETTO:+0100
TZNAME:CET
DTSTART:20211031T010000
END:STANDARD
BEGIN:DAYLIGHT
TZOFFSETFROM:+0100
TZOFFSETTO:+0200
TZNAME:CEST
DTSTART:20220327T010000
END:DAYLIGHT
BEGIN:STANDARD
TZOFFSETFROM:+0200
TZOFFSETTO:+0100
TZNAME:CET
DTSTART:20221030T010000
END:STANDARD
BEGIN:DAYLIGHT
TZOFFSETFROM:+0100
TZOFFSETTO:+0200
TZNAME:CEST
DTSTART:20230326T010000
END:DAYLIGHT
BEGIN:STANDARD
TZOFFSETFROM:+0200
TZOFFSETTO:+0100
TZNAME:CET
DTSTART:20231029T010000
END:STANDARD
END:VTIMEZONE
BEGIN:VEVENT
DTSTART;TZID=Europe/Berlin:20220219T193000
DTEND;TZID=Europe/Berlin:20220219T223000
DTSTAMP:20260424T142056
CREATED:20211206T145041Z
LAST-MODIFIED:20220209T161952Z
UID:4693-1645299000-1645309800@kreativfabrik-wiesbaden.de
SUMMARY:Fällt aus: The Handsome Family
DESCRIPTION:ACHTUNG: Das Konzert fällt aus und wird auf 2023 verschoben. \n\n\n\nPräsentiert vom Schlachthof Wiesbaden: \n\n\n\nHerrlich rootsige Americana liefert das Ehepaar Rennie und Brett Sparks alias THE HANDSOME FAMILY aus Albuquerque\, New Mexico. Einem breiteren Publikum bekannt wurden sie durch den Song „Far From Any Road“\, dem Titelstück der ersten „True Detective“-Staffel. Dabei haben sie bereits mindestens 12 Studioalben veröffentlicht. Sie tragen wie kaum andere die Weite des amerikanischen Westens in sich\, bewegen sich zwischen sehnsuchtsvoller psychedelisierender Americana und Folk\, atmen in Momenten ein gewisses Latino-Flair und geben den Vergessenen\, den Ausgestoßenen eine Stimme. Pop-Kritiker Greil Marcus hält sie für die „Beatles of the folk world“ und zu ihren Fans zählen aus guten Gründen auch Ringo Starr und T Bone Burnett. \n\n\n\n\n\n\n\n\n\n\n\n\n\n\n\n\nAuf einen Blick:\n\n\n\n\n\nEinlass:\n\n\n\n19:30 \n\n\n\nBeginn:\n\n\n\n20:00 \n\n\n\nEintritt:\n\n\n\nVVK 21 € (zzgl. Gebühren / inkl. Bus & Bahn) | AK 26 € \n\n\n\nTickets:\n\n\n\nTickets kaufen \n\n\n\nFacebook:\n\n\n\nEvent \n\n\n\nWebseiten:\n\n\n\nTHE HANDSOME FAMILY \n\n\n\nFacebook \n\n\n\nHomepage \n\n\n\n\n\n\n\n\n\nCorona-Regularien\n\n\n\nDas Konzert findet unter Einhaltung der 2G-Regel unbestuhlt bei reduzierter Kapazität statt2G-Regel: Einlass nur mit Impfnachweis oder offiziellem Genesungsnachweis sowie offiziellem Ausweisdokument
URL:https://kreativfabrik-wiesbaden.de/veranstaltung/the-handsome-family/
CATEGORIES:Blues,Country,Folk,Konzert
ATTACH;FMTTYPE=image/jpeg:https://kreativfabrik-wiesbaden.de/wp-content/uploads/2021/12/2022-02-19-HandsomeFamily2022_cms-978d65a7.jpg
END:VEVENT
END:VCALENDAR