BEGIN:VCALENDAR
VERSION:2.0
PRODID:-//Kreativfabrik - ECPv6.15.20//NONSGML v1.0//EN
CALSCALE:GREGORIAN
METHOD:PUBLISH
X-WR-CALNAME:Kreativfabrik
X-ORIGINAL-URL:https://kreativfabrik-wiesbaden.de
X-WR-CALDESC:Veranstaltungen für Kreativfabrik
REFRESH-INTERVAL;VALUE=DURATION:PT1H
X-Robots-Tag:noindex
X-PUBLISHED-TTL:PT1H
BEGIN:VTIMEZONE
TZID:Europe/Berlin
BEGIN:DAYLIGHT
TZOFFSETFROM:+0100
TZOFFSETTO:+0200
TZNAME:CEST
DTSTART:20210328T010000
END:DAYLIGHT
BEGIN:STANDARD
TZOFFSETFROM:+0200
TZOFFSETTO:+0100
TZNAME:CET
DTSTART:20211031T010000
END:STANDARD
BEGIN:DAYLIGHT
TZOFFSETFROM:+0100
TZOFFSETTO:+0200
TZNAME:CEST
DTSTART:20220327T010000
END:DAYLIGHT
BEGIN:STANDARD
TZOFFSETFROM:+0200
TZOFFSETTO:+0100
TZNAME:CET
DTSTART:20221030T010000
END:STANDARD
BEGIN:DAYLIGHT
TZOFFSETFROM:+0100
TZOFFSETTO:+0200
TZNAME:CEST
DTSTART:20230326T010000
END:DAYLIGHT
BEGIN:STANDARD
TZOFFSETFROM:+0200
TZOFFSETTO:+0100
TZNAME:CET
DTSTART:20231029T010000
END:STANDARD
END:VTIMEZONE
BEGIN:VEVENT
DTSTART;TZID=Europe/Berlin:20220204T200000
DTEND;TZID=Europe/Berlin:20220204T230000
DTSTAMP:20260422T104048
CREATED:20211202T110000Z
LAST-MODIFIED:20220209T161731Z
UID:4675-1644004800-1644015600@kreativfabrik-wiesbaden.de
SUMMARY:Fällt aus: Total Hip Replacement
DESCRIPTION:ACHTUNG: Die Tour wird auf unbestimmte Zeit verschoben. Wir arbeiten an einem Ersatztermin. \n\n\n\nTOTAL HIP REPLACEMENT sind eine siebenköpfige dänische Band\, die für ihre dynamischen und energetischen Liveshows bekannt ist. Ein spielerischer Umgang von organischen Grooves und elektronischer Produktion zeichnet das Projekt aus\, in der eine warme Bläsersektion mit prägenden Synthie auf funky Rhythmen trifft. In einer dunklen Atmosphäre und einem gesellschaftlich spannungsvollen Klima möchten Total Hip Replacement Zeichen der Hoffnung aussenden\, dass wir mit Zusammenhalt und Solidarität kulturelle und gesellschaftliche Grenzen überwinden können. Die Band vermittelt starke politische Messages\, die die Hörerschaft zum Reflektieren anregen und zugleich Verbindungen schaffen\, die Performer und Zuhörer auf besondere Weise miteinander verschmelzen lassen. Auf ihrem nächsten Album\, das im Frühjahr 2022 erscheint\, sind Aufnahmen ihrer Reise nach Ghana enthalten\, bei der die Band mit Größen wie Pat Thomas aufnahm \n\n\n\n\n\n\n\n\n\n\n\n\n\n\n\n\nAuf einen Blick:\n\n\n\n\n\nEinlass:\n\n\n\n20:00 \n\n\n\nBeginn:\n\n\n\n20:30 \n\n\n\nEintritt:\n\n\n\nVVK 8 € zzgl. Geb. | AK 12 € \n\n\n\nTickets:\n\n\n\nTickets kaufen \n\n\n\nFacebook:\n\n\n\nEvent \n\n\n\nWebseiten:\n\n\n\nTOTAL HIP REPLACEMENT \n\n\n\nHomepage \n\n\n\nInstagram \n\n\n\nSpotify \n\n\n\nFacebook \n\n\n\n\n\n\n\n\n\nCorona-Regularien\n\n\n\nDas Konzert findet unter Einhaltung der 2G-Regel unbestuhlt bei reduzierter Kapazität statt2G-Regel: Einlass nur mit Impfnachweis oder offiziellem Genesungsnachweis sowie offiziellem Ausweisdokument
URL:https://kreativfabrik-wiesbaden.de/veranstaltung/total-hip-replacement/
CATEGORIES:Funk,Jazz,Konzert,Reggae
ATTACH;FMTTYPE=image/jpeg:https://kreativfabrik-wiesbaden.de/wp-content/uploads/2021/12/2022-02-04-WIESBADEN-THR-DE-TOUR-scaled.jpg
END:VEVENT
END:VCALENDAR