BEGIN:VCALENDAR
VERSION:2.0
PRODID:-//Kreativfabrik - ECPv6.15.20//NONSGML v1.0//EN
CALSCALE:GREGORIAN
METHOD:PUBLISH
X-WR-CALNAME:Kreativfabrik
X-ORIGINAL-URL:https://kreativfabrik-wiesbaden.de
X-WR-CALDESC:Veranstaltungen für Kreativfabrik
REFRESH-INTERVAL;VALUE=DURATION:PT1H
X-Robots-Tag:noindex
X-PUBLISHED-TTL:PT1H
BEGIN:VTIMEZONE
TZID:Europe/Berlin
BEGIN:DAYLIGHT
TZOFFSETFROM:+0100
TZOFFSETTO:+0200
TZNAME:CEST
DTSTART:20210328T010000
END:DAYLIGHT
BEGIN:STANDARD
TZOFFSETFROM:+0200
TZOFFSETTO:+0100
TZNAME:CET
DTSTART:20211031T010000
END:STANDARD
BEGIN:DAYLIGHT
TZOFFSETFROM:+0100
TZOFFSETTO:+0200
TZNAME:CEST
DTSTART:20220327T010000
END:DAYLIGHT
BEGIN:STANDARD
TZOFFSETFROM:+0200
TZOFFSETTO:+0100
TZNAME:CET
DTSTART:20221030T010000
END:STANDARD
BEGIN:DAYLIGHT
TZOFFSETFROM:+0100
TZOFFSETTO:+0200
TZNAME:CEST
DTSTART:20230326T010000
END:DAYLIGHT
BEGIN:STANDARD
TZOFFSETFROM:+0200
TZOFFSETTO:+0100
TZNAME:CET
DTSTART:20231029T010000
END:STANDARD
END:VTIMEZONE
BEGIN:VEVENT
DTSTART;TZID=Europe/Berlin:20220119T200000
DTEND;TZID=Europe/Berlin:20220119T220000
DTSTAMP:20260424T115825
CREATED:20211215T203850Z
LAST-MODIFIED:20211215T203850Z
UID:4747-1642622400-1642629600@kreativfabrik-wiesbaden.de
SUMMARY:Fußball unterm gelben Stern
DESCRIPTION:Präsentiert von Fanprojekt Wehen Wiesbaden: \n\n\n\nDas Fanprojekt Wehen Wiesbaden lädt zu einem Vortragsabend im Rahmen des !Nie Wieder-Erinnerungstages im deutschen Fußball in den Keller der Kreativfabrik ein.  \n\n\n\nZu Gast ist Stefan Zwicker\, Historiker und der Herausgeber des Buches Fußball unterm gelben Stern – Die Liga im Ghetto Theresienstadt 1943-1944. Unterstützt durch Bildmaterial aus dem Buch wird er einen Einblick geben\, was damals in Theresienstadt geschah und welche Rolle der Fußball für die Menschen in dieser düsteren Zeit einnahm. Im Anschluss wird es die Möglichkeit geben\, Fragen an Herrn Zwicker zu stellen. \n\n\n\n\n\n\n\n\n\n\nAuf einen Blick:\n\n\n\n\n\nEinlass:\n\n\n\n20:00 \n\n\n\nBeginn:\n\n\n\n20:30 \n\n\n\nEintritt:\n\n\n\nfrei \n\n\n\nTickets:\n\n\n\nBegrenzte Platzanzahl – um Voranmeldung unter t.eichel@moja-wiesbaden.de wird gebeten. \n\n\n\nFacebook:\n\n\n\nEvent-Link \n\n\n\nWebseiten:\n\n\n\nFANPROJEKT WEHEN WIESBADEN \n\n\n\nLinktree \n\n\n\n\n\n\n\n\n\nCorona-Regularien\n\n\n\n2G-Regel: Einlass nur mit Impfnachweis/offiziellem Genesungsnachweis plus AusweisDer Mindestabstand zu anderen Personen von mind. 1\,5 m ist einzuhaltenDas Konzert findet bestuhlt für max. 22 Gäste stattLaufwege werden durch Bodenmarkierungen angezeigtBeim Einlass und Platzeinnehmen sowie bei Gängen zu Klo oder Theke\, wobei eine Wahrung des Mindestabstands nicht absolut garantiert werden kann\, ist ein Mund-Nase-Schutz zu tragen
URL:https://kreativfabrik-wiesbaden.de/veranstaltung/fussball-unterm-gelben-stern/
CATEGORIES:Bildung,Diskussion,Kooperation,Lesung,Vortrag
ATTACH;FMTTYPE=image/jpeg:https://kreativfabrik-wiesbaden.de/wp-content/uploads/2021/12/2022-01-19-Fussball-unterm-gelben-Stern_web.jpg
END:VEVENT
END:VCALENDAR