BEGIN:VCALENDAR
VERSION:2.0
PRODID:-//Kreativfabrik - ECPv6.15.20//NONSGML v1.0//EN
CALSCALE:GREGORIAN
METHOD:PUBLISH
X-ORIGINAL-URL:https://kreativfabrik-wiesbaden.de
X-WR-CALDESC:Veranstaltungen für Kreativfabrik
REFRESH-INTERVAL;VALUE=DURATION:PT1H
X-Robots-Tag:noindex
X-PUBLISHED-TTL:PT1H
BEGIN:VTIMEZONE
TZID:Europe/Berlin
BEGIN:DAYLIGHT
TZOFFSETFROM:+0100
TZOFFSETTO:+0200
TZNAME:CEST
DTSTART:20200329T010000
END:DAYLIGHT
BEGIN:STANDARD
TZOFFSETFROM:+0200
TZOFFSETTO:+0100
TZNAME:CET
DTSTART:20201025T010000
END:STANDARD
BEGIN:DAYLIGHT
TZOFFSETFROM:+0100
TZOFFSETTO:+0200
TZNAME:CEST
DTSTART:20210328T010000
END:DAYLIGHT
BEGIN:STANDARD
TZOFFSETFROM:+0200
TZOFFSETTO:+0100
TZNAME:CET
DTSTART:20211031T010000
END:STANDARD
BEGIN:DAYLIGHT
TZOFFSETFROM:+0100
TZOFFSETTO:+0200
TZNAME:CEST
DTSTART:20220327T010000
END:DAYLIGHT
BEGIN:STANDARD
TZOFFSETFROM:+0200
TZOFFSETTO:+0100
TZNAME:CET
DTSTART:20221030T010000
END:STANDARD
END:VTIMEZONE
BEGIN:VEVENT
DTSTART;TZID=Europe/Berlin:20211120T210000
DTEND;TZID=Europe/Berlin:20211120T235959
DTSTAMP:20260422T132824
CREATED:20211013T155359Z
LAST-MODIFIED:20211013T155359Z
UID:4571-1637442000-1637452799@kreativfabrik-wiesbaden.de
SUMMARY:Betreutes Hören lauter Musik: Metal
DESCRIPTION:Du hast Bock auf laute Musik. Jetzt nicht so Küchenradio-laut\, sondern LAUT. Dumm nur\, dass dein Nachbar immer noch nicht ausgezogen ist und schon den Besenstil auspackt\, sobald Du auch nur daran denkst\, die Anlage hochzudrehen. \n\n\n\nDoch keine Sorge\, Du bist nicht allein. Die Krea versteht. Die Krea hilft. Bei unserer neuen Veranstaltungsreihe „Betreutes Hören lauter Musik“  nehmen wir uns genau dieses Problems an und freuen uns\, unsere Anlage zu deinem Vergnügen mal wieder ein paar dB hochzudrehen. In gemütlicher Kneipenatmosphäre kannst Du Musik genießen\, die den Kopf deines Nachbarn zur Spontanentflammung bringen würde. \n\n\n\nHeute: METAL! Als DJ konnten wir unseren musikwissenschaftlich-bewanderten Tontechniker Sven gewinnen. Der hatte mal lange Haare und mag Sabaton\, Kompetenz in Reinform also\, um für euch Metalklassiker in den Player zu schieben. \n\n\n\nVielleicht fragt ihr euch: ey\, Krea\, warum keine richtige Party? Darauf sagen wir: ja\, wir machen auch mal wieder Parties\, doch wollten wir dieses Format schon letzten Herbst ausprobieren. Dann kam uns der Lockdown dazwischen\, aber jetzt holen wir es aus der Schublade\, denn wir finden es zu schön-blöd\, es nicht zumindest einmal ausprobiert zu haben. \n\n\n\n\n\n\n\n\n\n\nAuf einen Blick:\n\n\n\n\n\nBeginn:\n\n\n\n21:00 \n\n\n\nEintritt:\n\n\n\nfrei – um Spende wird gebeten \n\n\n\nTickets:\n\n\n\nBegrenzte Platzanzahl von 20 Plätzen (5 Tische à 4 Plätze)Am besten reserviert ihr einen kompletten Tisch unter reservierung@kreativfabrik-wiesbaden.de\n\n\n\nFacebook:\n\n\n\nEvent \n\n\n\nWebseiten:\n\n\n\n— \n\n\n\n\n\n\n\n\n\nCorona-Regularien\n\n\n\nDie Veranstaltung findet unter Einhaltung der 3G-Regel statt: Einlass nur mit Impfnachweis\, offiziellem Genesungsnachweis sowie offiziellem negativen Corona-TestDie Veranstaltung findet bestuhlt stattDer Mindestabstand zu anderen Personen von mind. 1\,5 m ist einzuhaltenAm Einlass müssen wir die Kontaktdaten aller Gäste aufnehmen; diese werden nach der vorgeschriebenen Aufbewahrungsdauer vernichtetLaufwege werden durch Bodenmarkierungen angezeigtBeim Einlass und Platzeinnehmen sowie bei Gängen zu Klo oder Theke\, wobei eine Wahrung des Mindestabstands nicht absolut garantiert werden kann\, ist ein Mund-Nase-Schutz zu tragen
URL:https://kreativfabrik-wiesbaden.de/veranstaltung/betreutes-hoeren-lauter-musik-metal/
CATEGORIES:Kneipe,Metal,Nachtleben
ATTACH;FMTTYPE=image/jpeg:https://kreativfabrik-wiesbaden.de/wp-content/uploads/2021/10/Betreutes-Hoeren-Metal.jpg
END:VEVENT
END:VCALENDAR