BEGIN:VCALENDAR
VERSION:2.0
PRODID:-//Kreativfabrik - ECPv6.15.20//NONSGML v1.0//EN
CALSCALE:GREGORIAN
METHOD:PUBLISH
X-WR-CALNAME:Kreativfabrik
X-ORIGINAL-URL:https://kreativfabrik-wiesbaden.de
X-WR-CALDESC:Veranstaltungen für Kreativfabrik
REFRESH-INTERVAL;VALUE=DURATION:PT1H
X-Robots-Tag:noindex
X-PUBLISHED-TTL:PT1H
BEGIN:VTIMEZONE
TZID:Europe/Berlin
BEGIN:DAYLIGHT
TZOFFSETFROM:+0100
TZOFFSETTO:+0200
TZNAME:CEST
DTSTART:20200329T010000
END:DAYLIGHT
BEGIN:STANDARD
TZOFFSETFROM:+0200
TZOFFSETTO:+0100
TZNAME:CET
DTSTART:20201025T010000
END:STANDARD
BEGIN:DAYLIGHT
TZOFFSETFROM:+0100
TZOFFSETTO:+0200
TZNAME:CEST
DTSTART:20210328T010000
END:DAYLIGHT
BEGIN:STANDARD
TZOFFSETFROM:+0200
TZOFFSETTO:+0100
TZNAME:CET
DTSTART:20211031T010000
END:STANDARD
BEGIN:DAYLIGHT
TZOFFSETFROM:+0100
TZOFFSETTO:+0200
TZNAME:CEST
DTSTART:20220327T010000
END:DAYLIGHT
BEGIN:STANDARD
TZOFFSETFROM:+0200
TZOFFSETTO:+0100
TZNAME:CET
DTSTART:20221030T010000
END:STANDARD
END:VTIMEZONE
BEGIN:VEVENT
DTSTART;TZID=Europe/Berlin:20211111T191100
DTEND;TZID=Europe/Berlin:20211111T233300
DTSTAMP:20260422T132604
CREATED:20210208T122140Z
LAST-MODIFIED:20211007T154556Z
UID:3785-1636657860-1636673580@kreativfabrik-wiesbaden.de
SUMMARY:Schlechte Witze Wettbewerb @ Kesselhaus
DESCRIPTION:2020 musste er ausfallen\, doch jetzt ist er zurück\, der allseits beliebte (warum auch immer) Schlechte Witze Wettbewerb. Damit wir alle ausreichend Platz haben\, lädt uns der Nachbar Schlachthof dieses Jahr ins Kesselhaus ein. Sonst ändert sich nichts. Denn wenn am  11.11. die „Fünfte Jahreszeit“ beginnt\, steht auch seit Krea-Urzeiten der Schlechte Witze Wettbewerb im Programm. \n\n\n\nUnd so läuft er ab: Die Teilnehmer*innen des Wettbewerbs sind aufgefordert\, sich gegenseitig und das restliche Publikum mit schlechten Witzen anzuöden. Sollte gelacht werden\, gibt es keine Punkte; bei betretenem Schweigen\, stiller Fassungslosigkeit oder kopfschüttelndem Unverständnis wird eine Jury hingegen großzügig Punkte vergeben. Diese ist frei in ihrer Entscheidung und kann auch spontan die Kriterien ändern\, sie ist darin nur sich selbst zur Rechenschaft verpflichtet\, muss aber durchaus manche Punktvergabe mit dem wettbewerbserfahrenen Moderator Peter B. ausdiskutieren. Aufgelockert wird das Ganze mit ganz schön mieser Musik.  \n\n\n\nWarum sich Menschen das alles freiwillig antun\, konnten mehrere teilnehmende Beobachtungen nicht endgültig beantworten. Eine Vermutung ist\, dass der Titel „Wiesbadener Rohrkrepierer“\, den der*die Gewinner*in bis ins kommende Jahr tragen darf\, ausreichender Anreiz für das Überstehen von so echt richtig schlechten Witzen ist. Am besten ihr überzeugt euch selbst davon. \n\n\n\n\n\nZur „Einstimmung“ (oder Abschreckung?) ein Beispielvideo mit Ruben\, dem Gewinner des Preises 2018 und dem Zweitplatzierten 2018\, Alex.\n\n\n\n\n\n\n\n\n\nAuf einen Blick:\n\n\n\n\n\nEinlass:\n\n\n\n19:11 \n\n\n\nBeginn:\n\n\n\n20:11 \n\n\n\nEintritt:\n\n\n\nfrei – Spende erwünscht \n\n\n\nTickets:\n\n\n\n— \n\n\n\nFacebook:\n\n\n\nEvent-Link \n\n\n\n\n\n\n\n\n\nCorona-Regularien\n\n\n\nDie Veranstaltung findet unter Einhaltung der 2G-Regel bestuhlt statt2G-Regel: Einlass nur mit Impfnachweis oder offiziellem Genesungsnachweis sowie offiziellem Ausweisdokument
URL:https://kreativfabrik-wiesbaden.de/veranstaltung/schlechte-witze-wettbewerb-2021/
CATEGORIES:Bildung,Comedy,Kunst,Sonstiges
ATTACH;FMTTYPE=image/jpeg:https://kreativfabrik-wiesbaden.de/wp-content/uploads/2020/11/2020-11-11-Schlechte-Witze.jpg
END:VEVENT
END:VCALENDAR