BEGIN:VCALENDAR
VERSION:2.0
PRODID:-//Kreativfabrik - ECPv6.15.20//NONSGML v1.0//EN
CALSCALE:GREGORIAN
METHOD:PUBLISH
X-ORIGINAL-URL:https://kreativfabrik-wiesbaden.de
X-WR-CALDESC:Veranstaltungen für Kreativfabrik
REFRESH-INTERVAL;VALUE=DURATION:PT1H
X-Robots-Tag:noindex
X-PUBLISHED-TTL:PT1H
BEGIN:VTIMEZONE
TZID:Europe/Berlin
BEGIN:DAYLIGHT
TZOFFSETFROM:+0100
TZOFFSETTO:+0200
TZNAME:CEST
DTSTART:20200329T010000
END:DAYLIGHT
BEGIN:STANDARD
TZOFFSETFROM:+0200
TZOFFSETTO:+0100
TZNAME:CET
DTSTART:20201025T010000
END:STANDARD
BEGIN:DAYLIGHT
TZOFFSETFROM:+0100
TZOFFSETTO:+0200
TZNAME:CEST
DTSTART:20210328T010000
END:DAYLIGHT
BEGIN:STANDARD
TZOFFSETFROM:+0200
TZOFFSETTO:+0100
TZNAME:CET
DTSTART:20211031T010000
END:STANDARD
BEGIN:DAYLIGHT
TZOFFSETFROM:+0100
TZOFFSETTO:+0200
TZNAME:CEST
DTSTART:20220327T010000
END:DAYLIGHT
BEGIN:STANDARD
TZOFFSETFROM:+0200
TZOFFSETTO:+0100
TZNAME:CET
DTSTART:20221030T010000
END:STANDARD
END:VTIMEZONE
BEGIN:VEVENT
DTSTART;TZID=Europe/Berlin:20211029T200000
DTEND;TZID=Europe/Berlin:20211029T233000
DTSTAMP:20260422T115852
CREATED:20210914T152912Z
LAST-MODIFIED:20211022T163938Z
UID:4497-1635537600-1635550200@kreativfabrik-wiesbaden.de
SUMMARY:BAITS / Shambala
DESCRIPTION:BAITS setzen sich zwischen alle Stühle der eingängigen Rockmusik: mal dominiert ein sonniger Grunge\, mal unheim-liche Psych-Töne\, hin und wieder Motown\, Beach Boys Vibes oder straighter Punk – im Zentrum steht immer ein (Pop-)Song und eine Geschichte. Bisher gab es in bester DIY-Manier zwei komplett selbst produzierte EPs und drei Singles zu hören\, und die Band hat sich mit leidenschaftlichen bis exzessiven Konzerten in ganz Europa einen Namen erspielt. Ihre erste Langspielplatte\, ist dann Anfang 2021 auf Numavi Records herauskommen. Treibende\,energiegeladene Drums\, eine dynamische raue Stimme\, verschrobene\, aber solide Bassriffs und superschnelle Gitarrensolos machen diese Beach Grunge Indiegang zu einer Naturgewalt\, die man sich live geben sollte. \n\n\n\nZuvor spielen die Mainzer SHAMBALA\, und die stehen für authentischen\, energiegetriebenen Alternative / Post-Grunge nach dem Vorbild der 90er-Jahre mit ihren exzessiven Bühnenshows\, ihrem rohen Sound und ihrer rockigen Attitüde. \n\n\n\n\n\n\n\nDie Veranstaltungsreihe Kreawall und Remmidemmi wird gefördert von der Beauftragten der Bundesregierung für Kultur und Medien: https://www.kulturstaaatsministerin.de \n\n\n\n\n\n\n\n\n\n\n\n\n\n\n\n\nAuf einen Blick:\n\n\n\n\n\nEinlass:\n\n\n\n20:00 \n\n\n\nBeginn:\n\n\n\n20:30 \n\n\n\nEintritt:\n\n\n\nVVK 10 € zzgl. Geb. | AK 14 € \n\n\n\nTickets:\n\n\n\nTickets  kaufen \n\n\n\nFacebook:\n\n\n\nEvent \n\n\n\nWebseiten:\n\n\n\nBAITS \n\n\n\nHomepage \n\n\n\nFacebook \n\n\n\nInstagram \n\n\n\nSHAMBALA \n\n\n\nFacebook \n\n\n\nYouTube \n\n\n\nInstagram \n\n\n\n\n\n\n\n\n\nCorona-Regularien\n\n\n\nDas Konzert findet unter Einhaltung der 2G-Regel unbestuhlt bei reduzierter Kapazität statt2G-Regel: Einlass nur mit Impfnachweis oder offiziellem Genesungsnachweis sowie offiziellem Ausweisdokument
URL:https://kreativfabrik-wiesbaden.de/veranstaltung/baits/
CATEGORIES:Alternative,Indie,Konzert,Surf
ATTACH;FMTTYPE=image/png:https://kreativfabrik-wiesbaden.de/wp-content/uploads/2021/09/2021-10-29-Baits-NEUSTART_FB.png
END:VEVENT
END:VCALENDAR