BEGIN:VCALENDAR
VERSION:2.0
PRODID:-//Kreativfabrik - ECPv6.15.20//NONSGML v1.0//EN
CALSCALE:GREGORIAN
METHOD:PUBLISH
X-WR-CALNAME:Kreativfabrik
X-ORIGINAL-URL:https://kreativfabrik-wiesbaden.de
X-WR-CALDESC:Veranstaltungen für Kreativfabrik
REFRESH-INTERVAL;VALUE=DURATION:PT1H
X-Robots-Tag:noindex
X-PUBLISHED-TTL:PT1H
BEGIN:VTIMEZONE
TZID:Europe/Berlin
BEGIN:DAYLIGHT
TZOFFSETFROM:+0100
TZOFFSETTO:+0200
TZNAME:CEST
DTSTART:20200329T010000
END:DAYLIGHT
BEGIN:STANDARD
TZOFFSETFROM:+0200
TZOFFSETTO:+0100
TZNAME:CET
DTSTART:20201025T010000
END:STANDARD
BEGIN:DAYLIGHT
TZOFFSETFROM:+0100
TZOFFSETTO:+0200
TZNAME:CEST
DTSTART:20210328T010000
END:DAYLIGHT
BEGIN:STANDARD
TZOFFSETFROM:+0200
TZOFFSETTO:+0100
TZNAME:CET
DTSTART:20211031T010000
END:STANDARD
BEGIN:DAYLIGHT
TZOFFSETFROM:+0100
TZOFFSETTO:+0200
TZNAME:CEST
DTSTART:20220327T010000
END:DAYLIGHT
BEGIN:STANDARD
TZOFFSETFROM:+0200
TZOFFSETTO:+0100
TZNAME:CET
DTSTART:20221030T010000
END:STANDARD
END:VTIMEZONE
BEGIN:VEVENT
DTSTART;TZID=Europe/Berlin:20211023T193000
DTEND;TZID=Europe/Berlin:20211023T220000
DTSTAMP:20260422T132506
CREATED:20210914T154711Z
LAST-MODIFIED:20210914T154711Z
UID:4501-1635017400-1635026400@kreativfabrik-wiesbaden.de
SUMMARY:Rechtsrock in Deutschland
DESCRIPTION:Allenthalben und allerorten ist zu lesen oder zu hören\, Musik bzw. Rechtsrock sei das zentrale Moment für den Einstieg in die extreme Rechte. Die fortwährende Rede von der ‚Einstiegsdroge Musik‘ ist jedoch nicht nur sachlich schlicht falsch\, sondern reproduziert – meist ungewollt – extrem rechte Propaganda. Das Problem ist gar nicht so sehr\, dass Neonazis und andere extreme Rechte Musik machen; im Rechtsrock geht es vielmehr vor allem um Geld\, um die Bildung von Netzwerken\, um das Aushandeln ideologischer Positionierungen und um Selbstverständigung. In diesem Vortrag soll es daher um die zentralen Akteure der aktuellen deutschen Rechtsrock-Szene\, deren Handlungsfelder sowie deren Einbindung in regionale\, nationale und internationale Strukturen gehen\, die zu kennen für jedwede politische Auseinandersetzung mit der extremen Rechten wesentlich ist. \n\n\n\nThorsten Hindrichs ist Musikwissenschaftler\, arbeitet an der Johannes Gutenberg-Universität in Mainz und ist als Experte für Rechtsrock seit etlichen Jahren in der politischen Bildungsarbeit unterwegs. \n\n\n\n\n\n\n\nDie Veranstaltungsreihe Kreawall und Remmidemmi wird gefördert von der Beauftragten der Bundesregierung für Kultur und Medien: https://www.kulturstaaatsministerin.de \n\n\n\n+++ Die Kreativfabrik Wiesbaden behält sich das Recht vor\, Personen\, die extrem rechte Inhalte verbreiten\, in extrem rechten Zusammenhängen aktiv oder vorher in diesen aufgefallen sind\, von der Veranstaltung auszuschließen. Ebenso macht die Kreativfabrik von ihrem Hausrecht gebraucht und wird versuchte Störungen mit Ausschluss aus der Veranstaltung ahnden.+++ \n\n\n\n\n\n\n\n\n\n\nAuf einen Blick:\n\n\n\n\n\nEinlass:\n\n\n\n19:30 \n\n\n\nBeginn:\n\n\n\n20:00 \n\n\n\nEintritt:\n\n\n\nfrei; um Spenden wird gebeten \n\n\n\nTickets:\n\n\n\n— \n\n\n\nFacebook:\n\n\n\nEvent \n\n\n\nWebseiten:\n\n\n\nHomepage \n\n\n\nFacebook \n\n\n\n\n\n\n\n\n\nCorona-Regularien\n\n\n\n3G-Regel: Einlass nur mit Impfnachweis\, offiziellem Genesungsnachweis sowie offiziellem negativem Corona-TestDer Mindestabstand zu anderen Personen von mind. 1\,5 m ist einzuhaltenAm Einlass müssen wir die Kontaktdaten aller Gäste aufnehmen; diese werden nach der vorgeschriebenen Aufbewahrungsdauer vernichtetDas Konzert findet bestuhlt statt; es gibt eine PlatzanweisungLaufwege werden durch Bodenmarkierungen angezeigtBeim Einlass und Platzeinnehmen sowie bei Gängen zu Klo oder Theke\, wobei eine Wahrung des Mindestabstands nicht absolut garantiert werden kann\, ist ein Mund-Nase-Schutz zu tragen
URL:https://kreativfabrik-wiesbaden.de/veranstaltung/rechtsrock-in-deutschland/
CATEGORIES:Bildung,Diskussion,Lesung,Vortrag
ATTACH;FMTTYPE=image/png:https://kreativfabrik-wiesbaden.de/wp-content/uploads/2021/09/2021-10-23-Rechtsrock-NEUSTART_FB.png
END:VEVENT
END:VCALENDAR